BEGIN:VCALENDAR
VERSION:2.0
PRODID:-//Järnboås - ECPv6.15.14//NONSGML v1.0//EN
CALSCALE:GREGORIAN
METHOD:PUBLISH
X-ORIGINAL-URL:https://xn--jrnbos-buam.se
X-WR-CALDESC:Händelser för Järnboås
REFRESH-INTERVAL;VALUE=DURATION:PT1H
X-Robots-Tag:noindex
X-PUBLISHED-TTL:PT1H
BEGIN:VTIMEZONE
TZID:Europe/Stockholm
BEGIN:DAYLIGHT
TZOFFSETFROM:+0100
TZOFFSETTO:+0200
TZNAME:CEST
DTSTART:20200329T010000
END:DAYLIGHT
BEGIN:STANDARD
TZOFFSETFROM:+0200
TZOFFSETTO:+0100
TZNAME:CET
DTSTART:20201025T010000
END:STANDARD
BEGIN:DAYLIGHT
TZOFFSETFROM:+0100
TZOFFSETTO:+0200
TZNAME:CEST
DTSTART:20210328T010000
END:DAYLIGHT
BEGIN:STANDARD
TZOFFSETFROM:+0200
TZOFFSETTO:+0100
TZNAME:CET
DTSTART:20211031T010000
END:STANDARD
BEGIN:DAYLIGHT
TZOFFSETFROM:+0100
TZOFFSETTO:+0200
TZNAME:CEST
DTSTART:20220327T010000
END:DAYLIGHT
BEGIN:STANDARD
TZOFFSETFROM:+0200
TZOFFSETTO:+0100
TZNAME:CET
DTSTART:20221030T010000
END:STANDARD
BEGIN:DAYLIGHT
TZOFFSETFROM:+0100
TZOFFSETTO:+0200
TZNAME:CEST
DTSTART:20230326T010000
END:DAYLIGHT
BEGIN:STANDARD
TZOFFSETFROM:+0200
TZOFFSETTO:+0100
TZNAME:CET
DTSTART:20231029T010000
END:STANDARD
BEGIN:DAYLIGHT
TZOFFSETFROM:+0100
TZOFFSETTO:+0200
TZNAME:CEST
DTSTART:20240331T010000
END:DAYLIGHT
BEGIN:STANDARD
TZOFFSETFROM:+0200
TZOFFSETTO:+0100
TZNAME:CET
DTSTART:20241027T010000
END:STANDARD
BEGIN:DAYLIGHT
TZOFFSETFROM:+0100
TZOFFSETTO:+0200
TZNAME:CEST
DTSTART:20250330T010000
END:DAYLIGHT
BEGIN:STANDARD
TZOFFSETFROM:+0200
TZOFFSETTO:+0100
TZNAME:CET
DTSTART:20251026T010000
END:STANDARD
END:VTIMEZONE
BEGIN:VEVENT
DTSTART;TZID=Europe/Stockholm:20240602T090000
DTEND;TZID=Europe/Stockholm:20240602T100000
DTSTAMP:20260421T103952
CREATED:20231004T165248Z
LAST-MODIFIED:20240602T191258Z
UID:7930-1717318800-1717322400@xn--jrnbos-buam.se
SUMMARY:Hundpromenader
DESCRIPTION:Hundpromenader\nVi försöker köra varje söndag.\n\n\nSöndagar kl 9 \nSamling vid Fiinnsjöstrand
URL:https://xn--jrnbos-buam.se/event/hundpromenader-2/2024-06-02/
LOCATION:Järnboås skola
CATEGORIES:Hundpromenader,Järnboås IF
END:VEVENT
BEGIN:VEVENT
DTSTART;TZID=Europe/Stockholm:20240526T090000
DTEND;TZID=Europe/Stockholm:20240526T100000
DTSTAMP:20260421T103952
CREATED:20231004T165248Z
LAST-MODIFIED:20240602T191251Z
UID:7929-1716714000-1716717600@xn--jrnbos-buam.se
SUMMARY:Hundpromenader
DESCRIPTION:Hundpromenader\nVi försöker köra varje söndag.\n\n\nSöndagar kl 9 \nSamling vid Fiinnsjöstrand
URL:https://xn--jrnbos-buam.se/event/hundpromenader-2/2024-05-26/
LOCATION:Järnboås skola
CATEGORIES:Hundpromenader,Järnboås IF
END:VEVENT
BEGIN:VEVENT
DTSTART;TZID=Europe/Stockholm:20240522T170000
DTEND;TZID=Europe/Stockholm:20240522T183000
DTSTAMP:20260421T103952
CREATED:20240513T074905Z
LAST-MODIFIED:20240513T074905Z
UID:8153-1716397200-1716402600@xn--jrnbos-buam.se
SUMMARY:"Fixartimme med korv och bröd" på skolgården 22 maj kl 17.00
DESCRIPTION:Föräldraföreningen bjuder in till ”fixartimme” på skolgården onsdag den 22 maj klockan 17.00\, i samband med skolrådet (som rektorn anordnar) som börjar klockan 18.30. \nTillsammans kommer vi föräldrar städa iordning på skolgården\, plocka bort trasiga saker\, röja upp och fixa fint till våra barn. Ta med dig ett par handskar och om du har några bra redskap (kratta eller liknande) som kan vara bra att ha. \nFöräldraföreningen bjuder på korv och bröd till alla som kommer. Vegetariskt och veganskt alternativ finns givetvis. \nGivetvis kan dina barn hänga med och leka på skolgården samtidigt. \n \nVi ses!\nMed vänliga hälsningar\, Föräldraföreningen Järnboås
URL:https://xn--jrnbos-buam.se/event/fixartimme-med-korv-och-brod-pa-skolgarden-22-maj-kl-17-00/
LOCATION:Järnboås skola
END:VEVENT
BEGIN:VEVENT
DTSTART;TZID=Europe/Stockholm:20240519T090000
DTEND;TZID=Europe/Stockholm:20240519T100000
DTSTAMP:20260421T103952
CREATED:20231004T165248Z
LAST-MODIFIED:20240602T191251Z
UID:7928-1716109200-1716112800@xn--jrnbos-buam.se
SUMMARY:Hundpromenader
DESCRIPTION:Hundpromenader\nVi försöker köra varje söndag.\n\n\nSöndagar kl 9 \nSamling vid Fiinnsjöstrand
URL:https://xn--jrnbos-buam.se/event/hundpromenader-2/2024-05-19/
LOCATION:Järnboås skola
CATEGORIES:Hundpromenader,Järnboås IF
END:VEVENT
BEGIN:VEVENT
DTSTART;TZID=Europe/Stockholm:20240508T180000
DTEND;TZID=Europe/Stockholm:20240508T190000
DTSTAMP:20260421T103952
CREATED:20240414T122910Z
LAST-MODIFIED:20240414T123252Z
UID:8062-1715191200-1715194800@xn--jrnbos-buam.se
SUMMARY:Årsmöte föräldraföreningen
DESCRIPTION:Föräldraföreningen bjuder in till årsmöte. Alla föräldrar till barn i skolan och förskolan är välkomna.Onsdag 8 maj klockan 18.00Järnboås skola. Ute vid fint väder\, annars inne i matsalen. Varmt välkomna!
URL:https://xn--jrnbos-buam.se/event/arsmote-foraldraforeningen/
LOCATION:Järnboås skola
CATEGORIES:Årsmöte,Föräldraföreningen,Järnboås skola
ATTACH;FMTTYPE=image/jpeg:https://media.xn--jrnbos-buam.se/2024/04/ffArsmote24.jpg
END:VEVENT
BEGIN:VEVENT
DTSTART;TZID=Europe/Stockholm:20240505T090000
DTEND;TZID=Europe/Stockholm:20240505T100000
DTSTAMP:20260421T103952
CREATED:20231004T165248Z
LAST-MODIFIED:20240602T191251Z
UID:7926-1714899600-1714903200@xn--jrnbos-buam.se
SUMMARY:Hundpromenader
DESCRIPTION:Hundpromenader\nVi försöker köra varje söndag.\n\n\nSöndagar kl 9 \nSamling vid Fiinnsjöstrand
URL:https://xn--jrnbos-buam.se/event/hundpromenader-2/2024-05-05/
LOCATION:Järnboås skola
CATEGORIES:Hundpromenader,Järnboås IF
END:VEVENT
BEGIN:VEVENT
DTSTART;TZID=Europe/Stockholm:20240428T090000
DTEND;TZID=Europe/Stockholm:20240428T100000
DTSTAMP:20260421T103952
CREATED:20231004T165248Z
LAST-MODIFIED:20240602T191251Z
UID:7925-1714294800-1714298400@xn--jrnbos-buam.se
SUMMARY:Hundpromenader
DESCRIPTION:Hundpromenader\nVi försöker köra varje söndag.\n\n\nSöndagar kl 9 \nSamling vid Fiinnsjöstrand
URL:https://xn--jrnbos-buam.se/event/hundpromenader-2/2024-04-28/
LOCATION:Järnboås skola
CATEGORIES:Hundpromenader,Järnboås IF
END:VEVENT
BEGIN:VEVENT
DTSTART;TZID=Europe/Stockholm:20240421T090000
DTEND;TZID=Europe/Stockholm:20240421T100000
DTSTAMP:20260421T103952
CREATED:20231004T165248Z
LAST-MODIFIED:20240602T191251Z
UID:7924-1713690000-1713693600@xn--jrnbos-buam.se
SUMMARY:Hundpromenader
DESCRIPTION:Hundpromenader\nVi försöker köra varje söndag.\n\n\nSöndagar kl 9 \nSamling vid Fiinnsjöstrand
URL:https://xn--jrnbos-buam.se/event/hundpromenader-2/2024-04-21/
LOCATION:Järnboås skola
CATEGORIES:Hundpromenader,Järnboås IF
END:VEVENT
BEGIN:VEVENT
DTSTART;TZID=Europe/Stockholm:20240324T090000
DTEND;TZID=Europe/Stockholm:20240324T100000
DTSTAMP:20260421T103952
CREATED:20231004T165248Z
LAST-MODIFIED:20240602T191250Z
UID:7331-1711270800-1711274400@xn--jrnbos-buam.se
SUMMARY:Hundpromenader
DESCRIPTION:Hundpromenader\nVi försöker köra varje söndag.\n\n\nSöndagar kl 9 \nSamling vid Fiinnsjöstrand
URL:https://xn--jrnbos-buam.se/event/hundpromenader-2/2024-03-24/
LOCATION:Järnboås skola
CATEGORIES:Hundpromenader,Järnboås IF
END:VEVENT
BEGIN:VEVENT
DTSTART;TZID=Europe/Stockholm:20240317T090000
DTEND;TZID=Europe/Stockholm:20240317T103000
DTSTAMP:20260421T103952
CREATED:20240316T220212Z
LAST-MODIFIED:20240316T220420Z
UID:7899-1710666000-1710671400@xn--jrnbos-buam.se
SUMMARY:Hundpromenader 17 mars
DESCRIPTION:Hundpromenader i Järnboås \n\n\nNär: Söndag 17 mars kl 9\nVar: Skolparkeringen\n\n\nVälkommen!
URL:https://xn--jrnbos-buam.se/event/hundpromenader-17-mars/
LOCATION:Järnboås skola
CATEGORIES:Hundpromenader,Järnboås IF
ATTACH;FMTTYPE=image/jpeg:https://media.xn--jrnbos-buam.se/2024/03/hundpromenader17mars.jpg
END:VEVENT
BEGIN:VEVENT
DTSTART;TZID=Europe/Stockholm:20230928T180000
DTEND;TZID=Europe/Stockholm:20230928T190000
DTSTAMP:20260421T103952
CREATED:20230925T172034Z
LAST-MODIFIED:20230925T172034Z
UID:7295-1695924000-1695927600@xn--jrnbos-buam.se
SUMMARY:Hundpromenader i Järnboås
DESCRIPTION:Välkommen med din hund på Hundpromenader i Järnboås!  \nTorsdag 28:e september. Kl 18 samlas vi vid Järnboås skola.
URL:https://xn--jrnbos-buam.se/event/hundpromenader-i-jarnboas/
LOCATION:Järnboås skola
CATEGORIES:Hundpromenader
ATTACH;FMTTYPE=image/jpeg:https://media.xn--jrnbos-buam.se/2023/09/hundpromenad.jpg
END:VEVENT
BEGIN:VEVENT
DTSTART;TZID=Europe/Stockholm:20230530T180000
DTEND;TZID=Europe/Stockholm:20230530T190000
DTSTAMP:20260421T103952
CREATED:20230510T155444Z
LAST-MODIFIED:20230510T170259Z
UID:6941-1685469600-1685473200@xn--jrnbos-buam.se
SUMMARY:Årsmöte Föräldraföreningen Järnboås
DESCRIPTION:Kallelse till årsmöte\nFöräldraföreningen Järnboås\n30 maj kl 18.00 – Järnboås skola\nFöräldrar till barn i Järnboås skola är hjärtligt välkomna på årsmötet. Kom och var med och påverka hur föreningen ska arbeta kommande verksamhetsår.  \nVi bjuder på fika.  \nVi är utomhus vid fint väder\, annars i skolmatsalen. \nMotioner eller frågor mailas in till ffjarnboas@gmail.com  \n  \nDagordning årsmöte: \n\n Mötets öppnande\n Val av mötesordförande\n Val av mötessekreterare\n Val av protokolljusterare\n Godkännande av dagordning\n Fastställande av röstlängd\n Fastställande om kallelsen\n Verksamhetsberättelse och ekonomisk berättelse\n Revisorernas berättelse och fastställande av balansräkning\n Ansvarsfrihet för styrelsen\n Behandling av inkomna motioner och styrelsens förslag \n Styrelsens verksamhetsplan\n Val av ordförande\nVal av kassör\nVal av revisorer\nVal av övriga ledamöter\nVal av suppleanter\nÖvriga frågor\nMötets avslutande\n\nOm föräldraföreningen: Alla föräldrar till barn i Järnboås skola och förskola utgör Föräldraföreningen Järnboås\, enligt stadgarna. Med förenade krafter vill Föräldraföreningen Järnboås berika skoltiden för bygdens barn.
URL:https://xn--jrnbos-buam.se/event/arsmote-foraldraforeningen-jarnboas/
LOCATION:Järnboås skola
CATEGORIES:Årsmöte,Föräldraföreningen
ATTACH;FMTTYPE=image/jpeg:https://media.xn--jrnbos-buam.se/2021/05/bildlogga2.jpg
END:VEVENT
BEGIN:VEVENT
DTSTART;TZID=Europe/Stockholm:20230510T163000
DTEND;TZID=Europe/Stockholm:20230510T173000
DTSTAMP:20260421T103952
CREATED:20230430T075225Z
LAST-MODIFIED:20230430T075225Z
UID:6852-1683736200-1683739800@xn--jrnbos-buam.se
SUMMARY:Våra politiker kommer till Järnboås
DESCRIPTION:Är du intresserad av vad som händer i kommunen? Passa på att gå på Kommunalfullmäktige-möte när våra politiker kommer till Järnboås.\n\n\n\nVälkommen!\n\n\n\nDag: 10 maj\nTid: kl.16:30\nVar: Järnboås Skola
URL:https://xn--jrnbos-buam.se/event/vara-politiker-kommer-till-jarnboas/
LOCATION:Järnboås skola
CATEGORIES:Kommunen,Politik
ATTACH;FMTTYPE=image/jpeg:https://media.xn--jrnbos-buam.se/2023/04/klubba.jpg
END:VEVENT
BEGIN:VEVENT
DTSTART;TZID=Europe/Stockholm:20230423T140000
DTEND;TZID=Europe/Stockholm:20230423T160000
DTSTAMP:20260421T103952
CREATED:20230326T090127Z
LAST-MODIFIED:20230326T090127Z
UID:6732-1682258400-1682265600@xn--jrnbos-buam.se
SUMMARY:Åke Mossberg visar bilder och berättar
DESCRIPTION:Åke Mossberg visar bilder och berättar om Järnboås med omnejd. \nSöndagen den 23 april kl 14.00 i Järnboås skola. \nKostnad: 100 kr per person \nGott fika finns att köpa i pausen. \nFörhandsanmälan till: Kerstin och Jan Forslund 0587-602 05\, 070-563 27 83 eller lobergstorp@telia.com
URL:https://xn--jrnbos-buam.se/event/ake-mossberg-visar-bilder-och-berattar/
LOCATION:Järnboås skola
CATEGORIES:Historia,Kultur
ATTACH;FMTTYPE=image/png:https://media.xn--jrnbos-buam.se/2023/03/Skarmavbild-2023-03-26-kl.-10.58.45.png
END:VEVENT
BEGIN:VEVENT
DTSTART;TZID=Europe/Stockholm:20221103T150000
DTEND;TZID=Europe/Stockholm:20221103T180000
DTSTAMP:20260421T103952
CREATED:20221102T192920Z
LAST-MODIFIED:20221102T193018Z
UID:6183-1667487600-1667498400@xn--jrnbos-buam.se
SUMMARY:Höstlovsaktivitet – Innebandy
DESCRIPTION:Torsdag 3 november kl 15.00 i Järnboås gympasal. \nKom och prova på innebandy! \nBarn och ungdomar i årskurs 3-6 är varmt välkomna. Ingen förkunskap krävs! Ta med inneskor och vattenflaska. Har du egen innebandyklubba kan du gärna ta med den. \nVi har roligt tillsammans med teknikövningar och matchspel. Vi bjuder på festis och frukt. \nArrangörJärnboås Idrottsförening och Järnboås bygdegårdsförening \nLedare Evylyn Pettersson
URL:https://xn--jrnbos-buam.se/event/6183/
LOCATION:Järnboås skola
CATEGORIES:Barnaktiviteter,Sport
ATTACH;FMTTYPE=image/jpeg:https://media.xn--jrnbos-buam.se/2022/11/nnebandy.jpg
END:VEVENT
BEGIN:VEVENT
DTSTART;TZID=Europe/Stockholm:20211017T170000
DTEND;TZID=Europe/Stockholm:20211017T183000
DTSTAMP:20260421T103952
CREATED:20211003T101413Z
LAST-MODIFIED:20211006T091748Z
UID:3682-1634490000-1634495400@xn--jrnbos-buam.se
SUMMARY:Föräldraföreningen i Järnboås har styrelsemöte
DESCRIPTION:Järnboås skolas föräldraförening har styrelsemöte. \nAlla föräldrar till barn i Järnboås skola och förskola utgör Föräldraföreningen Järnboås\, enligt stadgarna. I snart 50 år har Järnboås aktiva föräldrar via Föräldraföreningen arbetat för att ge våra skol- och förskolebarn det lilla extra. \nFöräldraföreningen Järnboås -Tillsammans för våra barn! \n  \nVAR: Järnboås skola \nNÄR: Söndag 17/10\, 7/11\, 5/12 kl 17 \n  \nKontakt: ffjarnboas@gmail.com
URL:https://xn--jrnbos-buam.se/event/foraldraforeningen-i-jarnboas-har-styrelsemote/2021-10-17/
LOCATION:Järnboås skola
CATEGORIES:Föräldraföreningen
ATTACH;FMTTYPE=image/png:https://media.xn--jrnbos-buam.se/2021/10/ForaldraforeningenLogga-kopia.png
END:VEVENT
END:VCALENDAR