BEGIN:VCALENDAR
VERSION:2.0
PRODID:-//Järnboås - ECPv6.15.14//NONSGML v1.0//EN
CALSCALE:GREGORIAN
METHOD:PUBLISH
X-ORIGINAL-URL:https://xn--jrnbos-buam.se
X-WR-CALDESC:Händelser för Järnboås
REFRESH-INTERVAL;VALUE=DURATION:PT1H
X-Robots-Tag:noindex
X-PUBLISHED-TTL:PT1H
BEGIN:VTIMEZONE
TZID:Europe/Stockholm
BEGIN:DAYLIGHT
TZOFFSETFROM:+0100
TZOFFSETTO:+0200
TZNAME:CEST
DTSTART:20200329T010000
END:DAYLIGHT
BEGIN:STANDARD
TZOFFSETFROM:+0200
TZOFFSETTO:+0100
TZNAME:CET
DTSTART:20201025T010000
END:STANDARD
BEGIN:DAYLIGHT
TZOFFSETFROM:+0100
TZOFFSETTO:+0200
TZNAME:CEST
DTSTART:20210328T010000
END:DAYLIGHT
BEGIN:STANDARD
TZOFFSETFROM:+0200
TZOFFSETTO:+0100
TZNAME:CET
DTSTART:20211031T010000
END:STANDARD
BEGIN:DAYLIGHT
TZOFFSETFROM:+0100
TZOFFSETTO:+0200
TZNAME:CEST
DTSTART:20220327T010000
END:DAYLIGHT
BEGIN:STANDARD
TZOFFSETFROM:+0200
TZOFFSETTO:+0100
TZNAME:CET
DTSTART:20221030T010000
END:STANDARD
END:VTIMEZONE
BEGIN:VEVENT
DTSTART;TZID=Europe/Stockholm:20210623T183000
DTEND;TZID=Europe/Stockholm:20210623T193000
DTSTAMP:20260421T124624
CREATED:20210124T075832Z
LAST-MODIFIED:20210622T160117Z
UID:1154-1624473000-1624476600@xn--jrnbos-buam.se
SUMMARY:Gympa med Linn
DESCRIPTION:Kom och gympa med Linn i Järnboås. \nNÄR: Tisdagar kl 18:30 \nVAR: Samling vid Järnboås skola \nHUR: Spring/Jogg \n \nPhoto by Madara Parma on Unsplash
URL:https://xn--jrnbos-buam.se/event/gympa-med-linn/
LOCATION:Finnsjöstrand
CATEGORIES:Gympa,Järnboås IF
ORGANIZER;CN="J%C3%A4rnbo%C3%A5s IF":MAILTO:jarnboasif@gmail.com
END:VEVENT
BEGIN:VEVENT
DTSTART;TZID=Europe/Stockholm:20210613T190000
DTEND;TZID=Europe/Stockholm:20210613T210000
DTSTAMP:20260421T124624
CREATED:20210531T214508Z
LAST-MODIFIED:20210610T223448Z
UID:2671-1623610800-1623618000@xn--jrnbos-buam.se
SUMMARY:Årsmöte Järnboås bygdegårdsförening
DESCRIPTION:Dags för årsmöte i Järnboås Bygdegårdsförening.\n\n\n\nVi hälsar alla medlemmar välkomna till föreningens årsmöte på Finnsjöstrand.\n\n\n\nNÄR: Söndagen den 13 juni\, kl 16.00.\nÅrsmöte i Bygdegårdsföreningen
URL:https://xn--jrnbos-buam.se/event/arsmote-jarnboas-bygdegardsforening/
LOCATION:Finnsjöstrand
END:VEVENT
END:VCALENDAR