BEGIN:VCALENDAR
VERSION:2.0
PRODID:-//Järnboås - ECPv6.15.14//NONSGML v1.0//EN
CALSCALE:GREGORIAN
METHOD:PUBLISH
X-WR-CALNAME:Järnboås
X-ORIGINAL-URL:https://xn--jrnbos-buam.se
X-WR-CALDESC:Händelser för Järnboås
REFRESH-INTERVAL;VALUE=DURATION:PT1H
X-Robots-Tag:noindex
X-PUBLISHED-TTL:PT1H
BEGIN:VTIMEZONE
TZID:Europe/Stockholm
BEGIN:DAYLIGHT
TZOFFSETFROM:+0100
TZOFFSETTO:+0200
TZNAME:CEST
DTSTART:20250330T010000
END:DAYLIGHT
BEGIN:STANDARD
TZOFFSETFROM:+0200
TZOFFSETTO:+0100
TZNAME:CET
DTSTART:20251026T010000
END:STANDARD
BEGIN:DAYLIGHT
TZOFFSETFROM:+0100
TZOFFSETTO:+0200
TZNAME:CEST
DTSTART:20260329T010000
END:DAYLIGHT
BEGIN:STANDARD
TZOFFSETFROM:+0200
TZOFFSETTO:+0100
TZNAME:CET
DTSTART:20261025T010000
END:STANDARD
BEGIN:DAYLIGHT
TZOFFSETFROM:+0100
TZOFFSETTO:+0200
TZNAME:CEST
DTSTART:20270328T010000
END:DAYLIGHT
BEGIN:STANDARD
TZOFFSETFROM:+0200
TZOFFSETTO:+0100
TZNAME:CET
DTSTART:20271031T010000
END:STANDARD
END:VTIMEZONE
BEGIN:VEVENT
DTSTART;TZID=Europe/Stockholm:20260301T093000
DTEND;TZID=Europe/Stockholm:20260301T103000
DTSTAMP:20260419T200837
CREATED:20260107T121051Z
LAST-MODIFIED:20260319T095016Z
UID:10583-1772357400-1772361000@xn--jrnbos-buam.se
SUMMARY:Barngympa 0-3 år
DESCRIPTION:Barngympan är igång!\n\n\nVarmt välkomna och delta i rörelseglädje tillsammans med Järnboås IF.\n\n\nSöndagar i Järnboås gympasal\nÅlder: 0-3 år (ca)\nKl 09.30-10.30\n\n\nÅlder: 4-8 år (ca)\nKl 10.30-11.30\n\n\nTillfällen:\n25 jan\n1 feb\n8 feb\n15 feb\n(22 feb sportlov\, ingen gympa)\n1 mars\n8 mars\n15 mars\n22 mars Avslutning barngympan\n\n\nYngre gruppen börjar med lite sång\, uppvärmning\, någon lek och så brukar vi ställa upp en hinderbana och annat kul.\n\n\nÄldre gruppen kommer vid många tillfällen ha ”tema-gympa”. Det innebär att vi kör ett tema per tillfälle. Det kan vara innebandy\, dans\, fotboll\, boxning och liknande. Om du som förälder har kunnande i någon idrott så hör gärna av dig för att hjälpa till!\n\n\nIngen anmälan krävs – det är bara att dyka upp! Medlemsskap tecknas i Järnboås IF efter ni testat en-två gånger  400kr/familj och år.\n\n\nVi ses i gympasalen!\nJärnboås IF\nSolweig och Evylyn\n\n\nVarmt välkomna!
URL:https://xn--jrnbos-buam.se/event/barngympa-0-3-ar-2026-02-08/2026-03-01/
LOCATION:Järnboås gympasal
ORGANIZER;CN="J%C3%A4rnbo%C3%A5s IF":MAILTO:jarnboasif@gmail.com
END:VEVENT
BEGIN:VEVENT
DTSTART;TZID=Europe/Stockholm:20260301T103000
DTEND;TZID=Europe/Stockholm:20260301T113000
DTSTAMP:20260419T200837
CREATED:20251015T092318Z
LAST-MODIFIED:20260319T095121Z
UID:10419-1772361000-1772364600@xn--jrnbos-buam.se
SUMMARY:Barngympa 4-8 år
DESCRIPTION:Barngympan är igång!\n\n\nVarmt välkomna och delta i rörelseglädje tillsammans med Järnboås IF.\n\n\nSöndagar i Järnboås gympasal\nÅlder: 0-3 år (ca)\nKl 09.30-10.30\n\n\nÅlder: 4-8 år (ca)\nKl 10.30-11.30\n\n\nTillfällen:\n25 jan\n1 feb\n8 feb\n15 feb\n(22 feb sportlov\, ingen gympa)\n1 mars\n8 mars\n15 mars\n22 mars Avslutning barngympan\n\n\n\nYngre gruppen börjar med lite sång\, uppvärmning\, någon lek och så brukar vi ställa upp en hinderbana och annat kul.\n\n\nÄldre gruppen kommer vid många tillfällen ha ”tema-gympa”. Det innebär att vi kör ett tema per tillfälle. Det kan vara innebandy\, dans\, fotboll\, boxning och liknande. Om du som förälder har kunnande i någon idrott så hör gärna av dig för att hjälpa till!\n\n\n\nIngen anmälan krävs – det är bara att dyka upp! Medlemsskap tecknas i Järnboås IF efter ni testat en-två gånger  400kr/familj och år.\n\n\n\nVi ses i gympasalen!\nJärnboås IF\nSolweig och Evylyn\n\n\nVarmt välkomna!
URL:https://xn--jrnbos-buam.se/event/barngympa/2026-03-01/
LOCATION:Järnboås gympasal
CATEGORIES:Barnaktiviteter,Barngympa,Järnboås IF
ORGANIZER;CN="J%C3%A4rnbo%C3%A5s IF":MAILTO:jarnboasif@gmail.com
END:VEVENT
BEGIN:VEVENT
DTSTART;TZID=Europe/Stockholm:20260301T163000
DTEND;TZID=Europe/Stockholm:20260301T180000
DTSTAMP:20260419T200837
CREATED:20260228T135158Z
LAST-MODIFIED:20260228T135158Z
UID:10785-1772382600-1772388000@xn--jrnbos-buam.se
SUMMARY:Solweigs söndagsgympa inställd 1 mars
DESCRIPTION:Söndagsgympan är inställd söndag 1 mars
URL:https://xn--jrnbos-buam.se/event/solweigs-sondagsgympa-installd-1-mars/
LOCATION:Järnboås gympasal
ORGANIZER;CN="J%C3%A4rnbo%C3%A5s IF":MAILTO:jarnboasif@gmail.com
END:VEVENT
BEGIN:VEVENT
DTSTART;TZID=Europe/Stockholm:20260301T173000
DTEND;TZID=Europe/Stockholm:20260301T183000
DTSTAMP:20260419T200837
CREATED:20250912T111840Z
LAST-MODIFIED:20260412T082403Z
UID:10385-1772386200-1772389800@xn--jrnbos-buam.se
SUMMARY:Solweigs söndagsgympa
DESCRIPTION:Gymnastik och rörelse för vuxna i Järnboås gympasal. \nLedare: Solweig Björåsen \nVarmt välkomma alla medlemmar i Järnboås idrottsförening
URL:https://xn--jrnbos-buam.se/event/solweigs-sondagsgympa-2/2026-03-01/
LOCATION:Järnboås gympasal
ORGANIZER;CN="J%C3%A4rnbo%C3%A5s IF":MAILTO:jarnboasif@gmail.com
END:VEVENT
BEGIN:VEVENT
DTSTART;TZID=Europe/Stockholm:20260306T140000
DTEND;TZID=Europe/Stockholm:20260306T150000
DTSTAMP:20260419T200837
CREATED:20260126T200726Z
LAST-MODIFIED:20260126T200726Z
UID:10653-1772805600-1772809200@xn--jrnbos-buam.se
SUMMARY:Världsböndagen
DESCRIPTION:Fredag 6 mars kl 14. Ekumenisk gudstjänst i Nyhyttans Adventkyrka.
URL:https://xn--jrnbos-buam.se/event/varldsbondagen/
LOCATION:Nyhyttans Adventkyrka
CATEGORIES:Gudstjänst,Nyhyttans kyrka,Svenska Kyrkan
END:VEVENT
BEGIN:VEVENT
DTSTART;TZID=Europe/Stockholm:20260307T111500
DTEND;TZID=Europe/Stockholm:20260307T123000
DTSTAMP:20260419T200837
CREATED:20220331T182807Z
LAST-MODIFIED:20260104T210631Z
UID:10446-1772882100-1772886600@xn--jrnbos-buam.se
SUMMARY:Gudstjänst i Nyhyttans Adventkyrka
DESCRIPTION:Gudstjänst varje lördag kl. 11.15. \nBibelstudium kl 10-11. \nBesök Nyhyttans Adventkyrkas hemsida.
URL:https://xn--jrnbos-buam.se/event/gudstjanst-i-nyhyttans-adventkyrka/2026-03-07/
LOCATION:Nyhyttans Adventkyrka
CATEGORIES:Gudstjänst
ATTACH;FMTTYPE=image/png:https://media.xn--jrnbos-buam.se/2022/03/Skarmavbild-2022-03-31-kl.-20.25.23.png
END:VEVENT
BEGIN:VEVENT
DTSTART;TZID=Europe/Stockholm:20260308T093000
DTEND;TZID=Europe/Stockholm:20260308T103000
DTSTAMP:20260419T200837
CREATED:20260107T121051Z
LAST-MODIFIED:20260319T095016Z
UID:10584-1772962200-1772965800@xn--jrnbos-buam.se
SUMMARY:Barngympa 0-3 år
DESCRIPTION:Barngympan är igång!\n\n\nVarmt välkomna och delta i rörelseglädje tillsammans med Järnboås IF.\n\n\nSöndagar i Järnboås gympasal\nÅlder: 0-3 år (ca)\nKl 09.30-10.30\n\n\nÅlder: 4-8 år (ca)\nKl 10.30-11.30\n\n\nTillfällen:\n25 jan\n1 feb\n8 feb\n15 feb\n(22 feb sportlov\, ingen gympa)\n1 mars\n8 mars\n15 mars\n22 mars Avslutning barngympan\n\n\nYngre gruppen börjar med lite sång\, uppvärmning\, någon lek och så brukar vi ställa upp en hinderbana och annat kul.\n\n\nÄldre gruppen kommer vid många tillfällen ha ”tema-gympa”. Det innebär att vi kör ett tema per tillfälle. Det kan vara innebandy\, dans\, fotboll\, boxning och liknande. Om du som förälder har kunnande i någon idrott så hör gärna av dig för att hjälpa till!\n\n\nIngen anmälan krävs – det är bara att dyka upp! Medlemsskap tecknas i Järnboås IF efter ni testat en-två gånger  400kr/familj och år.\n\n\nVi ses i gympasalen!\nJärnboås IF\nSolweig och Evylyn\n\n\nVarmt välkomna!
URL:https://xn--jrnbos-buam.se/event/barngympa-0-3-ar-2026-02-08/2026-03-08/
LOCATION:Järnboås gympasal
ORGANIZER;CN="J%C3%A4rnbo%C3%A5s IF":MAILTO:jarnboasif@gmail.com
END:VEVENT
BEGIN:VEVENT
DTSTART;TZID=Europe/Stockholm:20260308T100000
DTEND;TZID=Europe/Stockholm:20260308T160000
DTSTAMP:20260419T200837
CREATED:20260126T183807Z
LAST-MODIFIED:20260126T183807Z
UID:10598-1772964000-1772985600@xn--jrnbos-buam.se
SUMMARY:Stick-kurs på Nyhyttans kurort
DESCRIPTION:Kurs i stickning för nybörjare\, lärarledd\, på Nyhyttans kurort. \nMer info och anmälan: info@nyhyttanskurort.se
URL:https://xn--jrnbos-buam.se/event/stick-kurs-pa-nyhyttans-kurort/2026-03-08/
LOCATION:Nyhyttan
CATEGORIES:Företag bygden,Nyhyttans kurort,Utbildning
ATTACH;FMTTYPE=image/jpeg:https://media.xn--jrnbos-buam.se/2026/01/stick-kurs-vt26.jpg
END:VEVENT
BEGIN:VEVENT
DTSTART;TZID=Europe/Stockholm:20260308T103000
DTEND;TZID=Europe/Stockholm:20260308T113000
DTSTAMP:20260419T200837
CREATED:20251015T092318Z
LAST-MODIFIED:20260319T095121Z
UID:10420-1772965800-1772969400@xn--jrnbos-buam.se
SUMMARY:Barngympa 4-8 år
DESCRIPTION:Barngympan är igång!\n\n\nVarmt välkomna och delta i rörelseglädje tillsammans med Järnboås IF.\n\n\nSöndagar i Järnboås gympasal\nÅlder: 0-3 år (ca)\nKl 09.30-10.30\n\n\nÅlder: 4-8 år (ca)\nKl 10.30-11.30\n\n\nTillfällen:\n25 jan\n1 feb\n8 feb\n15 feb\n(22 feb sportlov\, ingen gympa)\n1 mars\n8 mars\n15 mars\n22 mars Avslutning barngympan\n\n\n\nYngre gruppen börjar med lite sång\, uppvärmning\, någon lek och så brukar vi ställa upp en hinderbana och annat kul.\n\n\nÄldre gruppen kommer vid många tillfällen ha ”tema-gympa”. Det innebär att vi kör ett tema per tillfälle. Det kan vara innebandy\, dans\, fotboll\, boxning och liknande. Om du som förälder har kunnande i någon idrott så hör gärna av dig för att hjälpa till!\n\n\n\nIngen anmälan krävs – det är bara att dyka upp! Medlemsskap tecknas i Järnboås IF efter ni testat en-två gånger  400kr/familj och år.\n\n\n\nVi ses i gympasalen!\nJärnboås IF\nSolweig och Evylyn\n\n\nVarmt välkomna!
URL:https://xn--jrnbos-buam.se/event/barngympa/2026-03-08/
LOCATION:Järnboås gympasal
CATEGORIES:Barnaktiviteter,Barngympa,Järnboås IF
ORGANIZER;CN="J%C3%A4rnbo%C3%A5s IF":MAILTO:jarnboasif@gmail.com
END:VEVENT
BEGIN:VEVENT
DTSTART;TZID=Europe/Stockholm:20260308T160000
DTEND;TZID=Europe/Stockholm:20260308T180000
DTSTAMP:20260419T200837
CREATED:20260126T195827Z
LAST-MODIFIED:20260126T200028Z
UID:10622-1772985600-1772992800@xn--jrnbos-buam.se
SUMMARY:Kyrksöndag i Järnboås kyrka
DESCRIPTION:Start med gudstjänst i kyrkan. \n8 Mars: Hillbill Ladies – country från Bergslagsskogarna. Westerninspirerad förtäringi församlingshemmet efteråt. \n3 Maj: Järnboåstjejen Wilda Pettersson\,  sång och musik. \nVi planterar änne ett träd utanför församlingshemmet. \nVi bjuder. på soppa.
URL:https://xn--jrnbos-buam.se/event/kyrksondag-i-jarnboas-kyrka-2/2026-03-08/
CATEGORIES:Gudstjänst,Järnboås kyrka,Konserter,Mat och äta
ATTACH;FMTTYPE=image/jpeg:https://media.xn--jrnbos-buam.se/2021/06/jarnboasKyrka-scaled.jpg
END:VEVENT
BEGIN:VEVENT
DTSTART;TZID=Europe/Stockholm:20260308T163000
DTEND;TZID=Europe/Stockholm:20260308T180000
DTSTAMP:20260419T200837
CREATED:20260304T123214Z
LAST-MODIFIED:20260304T123214Z
UID:10787-1772987400-1772992800@xn--jrnbos-buam.se
SUMMARY:Inställd söndagsgympa med Solweig
DESCRIPTION:Söndagsgympan är inställd söndag 8 mars. \nDetta på grund av Solweigs åtagande med bygdegårdsföreningen och kyrksöndag. Ingen vikarie har möjlighet att ta över gympan så därför ställs den in denna vecka. \n  \nMvh Solweig
URL:https://xn--jrnbos-buam.se/event/installd-sondagsgympa-med-solweig/
LOCATION:Järnboås gympasal
ORGANIZER;CN="J%C3%A4rnbo%C3%A5s IF":MAILTO:jarnboasif@gmail.com
END:VEVENT
BEGIN:VEVENT
DTSTART;TZID=Europe/Stockholm:20260308T173000
DTEND;TZID=Europe/Stockholm:20260308T183000
DTSTAMP:20260419T200837
CREATED:20250912T111840Z
LAST-MODIFIED:20260412T082403Z
UID:10386-1772991000-1772994600@xn--jrnbos-buam.se
SUMMARY:Solweigs söndagsgympa
DESCRIPTION:Gymnastik och rörelse för vuxna i Järnboås gympasal. \nLedare: Solweig Björåsen \nVarmt välkomma alla medlemmar i Järnboås idrottsförening
URL:https://xn--jrnbos-buam.se/event/solweigs-sondagsgympa-2/2026-03-08/
LOCATION:Järnboås gympasal
ORGANIZER;CN="J%C3%A4rnbo%C3%A5s IF":MAILTO:jarnboasif@gmail.com
END:VEVENT
BEGIN:VEVENT
DTSTART;TZID=Europe/Stockholm:20260311T170000
DTEND;TZID=Europe/Stockholm:20260311T200000
DTSTAMP:20260419T200837
CREATED:20201228T194419Z
LAST-MODIFIED:20260128T060915Z
UID:10408-1773248400-1773259200@xn--jrnbos-buam.se
SUMMARY:Stickcafé
DESCRIPTION:Äntligen kör vi igång med vårt stickkafe i församlingshemmet! \nSticka\, virka\, sy och fika med Järnboås Stickcafé. \nNÄR: Stickkaféet i Järnboås församlingshem \, kl 17-20. Varannan onsdag\, udda veckor. \nFIKA: Var och en tar med sig sin egen fika. \nVAR: Järnboås församlingshem \nIngen föranmälan – det är bara att komma! \nVälkommen hälsar Margareth\nHar du frågor ring mig på 070-3516327 \nVälkommen! \n 
URL:https://xn--jrnbos-buam.se/event/stickcafe/2026-03-11/
LOCATION:Järnboås församlingshem\, Järnboås 1\, Järnboås\, 71394\, Sverige
CATEGORIES:Stickkafé,Svenska Kyrkan
ATTACH;FMTTYPE=image/png:https://media.xn--jrnbos-buam.se/2020/12/Stickcafe-ht-25.png
END:VEVENT
BEGIN:VEVENT
DTSTART;TZID=Europe/Stockholm:20260314T111500
DTEND;TZID=Europe/Stockholm:20260314T123000
DTSTAMP:20260419T200837
CREATED:20220331T182807Z
LAST-MODIFIED:20260104T210631Z
UID:10447-1773486900-1773491400@xn--jrnbos-buam.se
SUMMARY:Gudstjänst i Nyhyttans Adventkyrka
DESCRIPTION:Gudstjänst varje lördag kl. 11.15. \nBibelstudium kl 10-11. \nBesök Nyhyttans Adventkyrkas hemsida.
URL:https://xn--jrnbos-buam.se/event/gudstjanst-i-nyhyttans-adventkyrka/2026-03-14/
LOCATION:Nyhyttans Adventkyrka
CATEGORIES:Gudstjänst
ATTACH;FMTTYPE=image/png:https://media.xn--jrnbos-buam.se/2022/03/Skarmavbild-2022-03-31-kl.-20.25.23.png
END:VEVENT
BEGIN:VEVENT
DTSTART;TZID=Europe/Stockholm:20260315T093000
DTEND;TZID=Europe/Stockholm:20260315T103000
DTSTAMP:20260419T200837
CREATED:20260107T121051Z
LAST-MODIFIED:20260319T095016Z
UID:10585-1773567000-1773570600@xn--jrnbos-buam.se
SUMMARY:Barngympa 0-3 år
DESCRIPTION:Barngympan är igång!\n\n\nVarmt välkomna och delta i rörelseglädje tillsammans med Järnboås IF.\n\n\nSöndagar i Järnboås gympasal\nÅlder: 0-3 år (ca)\nKl 09.30-10.30\n\n\nÅlder: 4-8 år (ca)\nKl 10.30-11.30\n\n\nTillfällen:\n25 jan\n1 feb\n8 feb\n15 feb\n(22 feb sportlov\, ingen gympa)\n1 mars\n8 mars\n15 mars\n22 mars Avslutning barngympan\n\n\nYngre gruppen börjar med lite sång\, uppvärmning\, någon lek och så brukar vi ställa upp en hinderbana och annat kul.\n\n\nÄldre gruppen kommer vid många tillfällen ha ”tema-gympa”. Det innebär att vi kör ett tema per tillfälle. Det kan vara innebandy\, dans\, fotboll\, boxning och liknande. Om du som förälder har kunnande i någon idrott så hör gärna av dig för att hjälpa till!\n\n\nIngen anmälan krävs – det är bara att dyka upp! Medlemsskap tecknas i Järnboås IF efter ni testat en-två gånger  400kr/familj och år.\n\n\nVi ses i gympasalen!\nJärnboås IF\nSolweig och Evylyn\n\n\nVarmt välkomna!
URL:https://xn--jrnbos-buam.se/event/barngympa-0-3-ar-2026-02-08/2026-03-15/
LOCATION:Järnboås gympasal
ORGANIZER;CN="J%C3%A4rnbo%C3%A5s IF":MAILTO:jarnboasif@gmail.com
END:VEVENT
BEGIN:VEVENT
DTSTART;TZID=Europe/Stockholm:20260315T100000
DTEND;TZID=Europe/Stockholm:20260315T160000
DTSTAMP:20260419T200837
CREATED:20260126T183807Z
LAST-MODIFIED:20260126T183807Z
UID:10599-1773568800-1773590400@xn--jrnbos-buam.se
SUMMARY:Stick-kurs på Nyhyttans kurort
DESCRIPTION:Kurs i stickning för nybörjare\, lärarledd\, på Nyhyttans kurort. \nMer info och anmälan: info@nyhyttanskurort.se
URL:https://xn--jrnbos-buam.se/event/stick-kurs-pa-nyhyttans-kurort/2026-03-15/
LOCATION:Nyhyttan
CATEGORIES:Företag bygden,Nyhyttans kurort,Utbildning
ATTACH;FMTTYPE=image/jpeg:https://media.xn--jrnbos-buam.se/2026/01/stick-kurs-vt26.jpg
END:VEVENT
BEGIN:VEVENT
DTSTART;TZID=Europe/Stockholm:20260315T103000
DTEND;TZID=Europe/Stockholm:20260315T113000
DTSTAMP:20260419T200837
CREATED:20251015T092318Z
LAST-MODIFIED:20260319T095122Z
UID:10421-1773570600-1773574200@xn--jrnbos-buam.se
SUMMARY:Barngympa 4-8 år
DESCRIPTION:Barngympan är igång!\n\n\nVarmt välkomna och delta i rörelseglädje tillsammans med Järnboås IF.\n\n\nSöndagar i Järnboås gympasal\nÅlder: 0-3 år (ca)\nKl 09.30-10.30\n\n\nÅlder: 4-8 år (ca)\nKl 10.30-11.30\n\n\nTillfällen:\n25 jan\n1 feb\n8 feb\n15 feb\n(22 feb sportlov\, ingen gympa)\n1 mars\n8 mars\n15 mars\n22 mars Avslutning barngympan\n\n\n\nYngre gruppen börjar med lite sång\, uppvärmning\, någon lek och så brukar vi ställa upp en hinderbana och annat kul.\n\n\nÄldre gruppen kommer vid många tillfällen ha ”tema-gympa”. Det innebär att vi kör ett tema per tillfälle. Det kan vara innebandy\, dans\, fotboll\, boxning och liknande. Om du som förälder har kunnande i någon idrott så hör gärna av dig för att hjälpa till!\n\n\n\nIngen anmälan krävs – det är bara att dyka upp! Medlemsskap tecknas i Järnboås IF efter ni testat en-två gånger  400kr/familj och år.\n\n\n\nVi ses i gympasalen!\nJärnboås IF\nSolweig och Evylyn\n\n\nVarmt välkomna!
URL:https://xn--jrnbos-buam.se/event/barngympa/2026-03-15/
LOCATION:Järnboås gympasal
CATEGORIES:Barnaktiviteter,Barngympa,Järnboås IF
ORGANIZER;CN="J%C3%A4rnbo%C3%A5s IF":MAILTO:jarnboasif@gmail.com
END:VEVENT
BEGIN:VEVENT
DTSTART;TZID=Europe/Stockholm:20260315T173000
DTEND;TZID=Europe/Stockholm:20260315T183000
DTSTAMP:20260419T200837
CREATED:20250912T111840Z
LAST-MODIFIED:20260412T082403Z
UID:10387-1773595800-1773599400@xn--jrnbos-buam.se
SUMMARY:Solweigs söndagsgympa
DESCRIPTION:Gymnastik och rörelse för vuxna i Järnboås gympasal. \nLedare: Solweig Björåsen \nVarmt välkomma alla medlemmar i Järnboås idrottsförening
URL:https://xn--jrnbos-buam.se/event/solweigs-sondagsgympa-2/2026-03-15/
LOCATION:Järnboås gympasal
ORGANIZER;CN="J%C3%A4rnbo%C3%A5s IF":MAILTO:jarnboasif@gmail.com
END:VEVENT
BEGIN:VEVENT
DTSTART;TZID=Europe/Stockholm:20260321T100000
DTEND;TZID=Europe/Stockholm:20260321T113000
DTSTAMP:20260419T200837
CREATED:20260319T095238Z
LAST-MODIFIED:20260319T095238Z
UID:10800-1774087200-1774092600@xn--jrnbos-buam.se
SUMMARY:Hundpromenad
DESCRIPTION:Lördag 21 mars kl 10.00 \nVi utgår från Finnsjöstrand \nTa med er fyrbenta vän och ta en härlig promenad med oss. \n  \nVi ses! \nmvh Solweig och Susanne
URL:https://xn--jrnbos-buam.se/event/hundpromenad-4/
LOCATION:Finnsjöstrand
END:VEVENT
BEGIN:VEVENT
DTSTART;TZID=Europe/Stockholm:20260321T111500
DTEND;TZID=Europe/Stockholm:20260321T123000
DTSTAMP:20260419T200837
CREATED:20220331T182807Z
LAST-MODIFIED:20260104T210631Z
UID:10448-1774091700-1774096200@xn--jrnbos-buam.se
SUMMARY:Gudstjänst i Nyhyttans Adventkyrka
DESCRIPTION:Gudstjänst varje lördag kl. 11.15. \nBibelstudium kl 10-11. \nBesök Nyhyttans Adventkyrkas hemsida.
URL:https://xn--jrnbos-buam.se/event/gudstjanst-i-nyhyttans-adventkyrka/2026-03-21/
LOCATION:Nyhyttans Adventkyrka
CATEGORIES:Gudstjänst
ATTACH;FMTTYPE=image/png:https://media.xn--jrnbos-buam.se/2022/03/Skarmavbild-2022-03-31-kl.-20.25.23.png
END:VEVENT
BEGIN:VEVENT
DTSTART;TZID=Europe/Stockholm:20260322T093000
DTEND;TZID=Europe/Stockholm:20260322T110000
DTSTAMP:20260419T200837
CREATED:20260319T095450Z
LAST-MODIFIED:20260319T095450Z
UID:10802-1774171800-1774177200@xn--jrnbos-buam.se
SUMMARY:Avslutning baby- och barngympa
DESCRIPTION:Avslutning för båda grupperna i barngympan! \n  \nVi har ett lite längre tillfälle med sång\, lekar\, hinderbana och lite festis och frukt. \nSöndag 22 mars kl 09.30-11.00 \nOBS båda grupperna ses denna tid! \nJärnboås gympasal \n  \nVi ses! \nMvh Solweig och Evylyn
URL:https://xn--jrnbos-buam.se/event/avslutning-baby-och-barngympa/
LOCATION:Järnboås gympasal
ORGANIZER;CN="J%C3%A4rnbo%C3%A5s IF":MAILTO:jarnboasif@gmail.com
END:VEVENT
BEGIN:VEVENT
DTSTART;TZID=Europe/Stockholm:20260322T173000
DTEND;TZID=Europe/Stockholm:20260322T183000
DTSTAMP:20260419T200837
CREATED:20250912T111840Z
LAST-MODIFIED:20260412T082403Z
UID:10388-1774200600-1774204200@xn--jrnbos-buam.se
SUMMARY:Solweigs söndagsgympa
DESCRIPTION:Gymnastik och rörelse för vuxna i Järnboås gympasal. \nLedare: Solweig Björåsen \nVarmt välkomma alla medlemmar i Järnboås idrottsförening
URL:https://xn--jrnbos-buam.se/event/solweigs-sondagsgympa-2/2026-03-22/
LOCATION:Järnboås gympasal
ORGANIZER;CN="J%C3%A4rnbo%C3%A5s IF":MAILTO:jarnboasif@gmail.com
END:VEVENT
BEGIN:VEVENT
DTSTART;TZID=Europe/Stockholm:20260325T170000
DTEND;TZID=Europe/Stockholm:20260325T200000
DTSTAMP:20260419T200837
CREATED:20201228T194419Z
LAST-MODIFIED:20260128T060915Z
UID:10409-1774458000-1774468800@xn--jrnbos-buam.se
SUMMARY:Stickcafé
DESCRIPTION:Äntligen kör vi igång med vårt stickkafe i församlingshemmet! \nSticka\, virka\, sy och fika med Järnboås Stickcafé. \nNÄR: Stickkaféet i Järnboås församlingshem \, kl 17-20. Varannan onsdag\, udda veckor. \nFIKA: Var och en tar med sig sin egen fika. \nVAR: Järnboås församlingshem \nIngen föranmälan – det är bara att komma! \nVälkommen hälsar Margareth\nHar du frågor ring mig på 070-3516327 \nVälkommen! \n 
URL:https://xn--jrnbos-buam.se/event/stickcafe/2026-03-25/
LOCATION:Järnboås församlingshem\, Järnboås 1\, Järnboås\, 71394\, Sverige
CATEGORIES:Stickkafé,Svenska Kyrkan
ATTACH;FMTTYPE=image/png:https://media.xn--jrnbos-buam.se/2020/12/Stickcafe-ht-25.png
END:VEVENT
BEGIN:VEVENT
DTSTART;TZID=Europe/Stockholm:20260326T094500
DTEND;TZID=Europe/Stockholm:20260326T113000
DTSTAMP:20260419T200837
CREATED:20260126T185459Z
LAST-MODIFIED:20260126T185459Z
UID:10607-1774518300-1774524600@xn--jrnbos-buam.se
SUMMARY:Biblioteksbussen VT-26
DESCRIPTION:Här är alla vårens turer till Järnboås och Nyhyttan med Biblioteksbussen. \nJärnboås förskola\n\nTorsdag 22/1 kl. 9.45 – 10.45\nTorsdag 26/2 kl. 9.45 – 10.45\nTorsdag 26/3 kl. 9.45 – 10.45 + minisagostund\nTorsdag 7/5 kl. 9.45 – 10.45\nTorsdag 4/6 kl. 9.45 – 10.45\n\nPlats: parkeringen vid förskolan \nNyhyttan\n\nTorsdag 22/1 kl. 11 – 11.30\nTorsdag 26/2 kl. 11 – 11.30\nTorsdag 26/3 kl. 11 – 11.30\nTorsdag 7/5 kl. 11 – 11.30\nTorsdag 4/6 kl. 11 – 11.30\n\nPlats: Nyhyttan\, framför kyrkan
URL:https://xn--jrnbos-buam.se/event/biblioteksbussen-vt-26/2026-03-26/
CATEGORIES:Barnaktiviteter,Biblioteksbussen,Kultur,Livet på landet
ATTACH;FMTTYPE=image/jpeg:https://media.xn--jrnbos-buam.se/2026/01/bb1.jpg
END:VEVENT
BEGIN:VEVENT
DTSTART;TZID=Europe/Stockholm:20260328T100000
DTEND;TZID=Europe/Stockholm:20260328T113000
DTSTAMP:20260419T200838
CREATED:20260326T081531Z
LAST-MODIFIED:20260326T081531Z
UID:10804-1774692000-1774697400@xn--jrnbos-buam.se
SUMMARY:Hundpromenad
DESCRIPTION:Lördag 28 mars kl 10.00 \n  \nVi utgår från Finnsjöstrand \nTa med er fyrbenta vän och ta en härlig promenad med oss. \n  \nVi ses! \nmvh Solweig och Susanne
URL:https://xn--jrnbos-buam.se/event/hundpromenad-5/
LOCATION:Finnsjöstrand
END:VEVENT
BEGIN:VEVENT
DTSTART;TZID=Europe/Stockholm:20260328T111500
DTEND;TZID=Europe/Stockholm:20260328T123000
DTSTAMP:20260419T200838
CREATED:20220331T182807Z
LAST-MODIFIED:20260104T210631Z
UID:10449-1774696500-1774701000@xn--jrnbos-buam.se
SUMMARY:Gudstjänst i Nyhyttans Adventkyrka
DESCRIPTION:Gudstjänst varje lördag kl. 11.15. \nBibelstudium kl 10-11. \nBesök Nyhyttans Adventkyrkas hemsida.
URL:https://xn--jrnbos-buam.se/event/gudstjanst-i-nyhyttans-adventkyrka/2026-03-28/
LOCATION:Nyhyttans Adventkyrka
CATEGORIES:Gudstjänst
ATTACH;FMTTYPE=image/png:https://media.xn--jrnbos-buam.se/2022/03/Skarmavbild-2022-03-31-kl.-20.25.23.png
END:VEVENT
BEGIN:VEVENT
DTSTART;TZID=Europe/Stockholm:20260329T173000
DTEND;TZID=Europe/Stockholm:20260329T183000
DTSTAMP:20260419T200838
CREATED:20250912T111840Z
LAST-MODIFIED:20260412T082403Z
UID:10389-1774805400-1774809000@xn--jrnbos-buam.se
SUMMARY:Solweigs söndagsgympa
DESCRIPTION:Gymnastik och rörelse för vuxna i Järnboås gympasal. \nLedare: Solweig Björåsen \nVarmt välkomma alla medlemmar i Järnboås idrottsförening
URL:https://xn--jrnbos-buam.se/event/solweigs-sondagsgympa-2/2026-03-29/
LOCATION:Järnboås gympasal
ORGANIZER;CN="J%C3%A4rnbo%C3%A5s IF":MAILTO:jarnboasif@gmail.com
END:VEVENT
BEGIN:VEVENT
DTSTART;TZID=Europe/Stockholm:20260330T193000
DTEND;TZID=Europe/Stockholm:20260330T210000
DTSTAMP:20260419T200838
CREATED:20260326T193049Z
LAST-MODIFIED:20260326T201848Z
UID:10809-1774899000-1774904400@xn--jrnbos-buam.se
SUMMARY:Zen Meditation på Finnsjöstrand
DESCRIPTION:Meditation hjälper bland annat till att minska stress och förbättra koncentrationen. \n  \nVarje måndagskväll finns det meditation på Finnsjöstrand. \nTid: 19:30 – 21.00 \n  \nKostnader: \n50 SEK för medlemmar i Järnboås Bygdegård Förening \n100 SEK för icke medlemmar. \n  \nFör att kunna delta måste man ha lite erfarenhet. Om du vill prova Zenbuddhistiska meditation\, kontakta meditationsledare Sebastiaan. \n  \nFör mer information och anmälan: \nMeditationsledare Sebastiaan van den Elshout \n079-356 3848 \nelshoutsebastiaan@proton.me
URL:https://xn--jrnbos-buam.se/event/zen-meditation-pa-finnsjostrand/
LOCATION:Finnsjöstrand
END:VEVENT
END:VCALENDAR