BEGIN:VCALENDAR
VERSION:2.0
PRODID:-//Järnboås - ECPv6.15.14//NONSGML v1.0//EN
CALSCALE:GREGORIAN
METHOD:PUBLISH
X-WR-CALNAME:Järnboås
X-ORIGINAL-URL:https://xn--jrnbos-buam.se
X-WR-CALDESC:Händelser för Järnboås
REFRESH-INTERVAL;VALUE=DURATION:PT1H
X-Robots-Tag:noindex
X-PUBLISHED-TTL:PT1H
BEGIN:VTIMEZONE
TZID:Europe/Stockholm
BEGIN:DAYLIGHT
TZOFFSETFROM:+0100
TZOFFSETTO:+0200
TZNAME:CEST
DTSTART:20240331T010000
END:DAYLIGHT
BEGIN:STANDARD
TZOFFSETFROM:+0200
TZOFFSETTO:+0100
TZNAME:CET
DTSTART:20241027T010000
END:STANDARD
BEGIN:DAYLIGHT
TZOFFSETFROM:+0100
TZOFFSETTO:+0200
TZNAME:CEST
DTSTART:20250330T010000
END:DAYLIGHT
BEGIN:STANDARD
TZOFFSETFROM:+0200
TZOFFSETTO:+0100
TZNAME:CET
DTSTART:20251026T010000
END:STANDARD
BEGIN:DAYLIGHT
TZOFFSETFROM:+0100
TZOFFSETTO:+0200
TZNAME:CEST
DTSTART:20260329T010000
END:DAYLIGHT
BEGIN:STANDARD
TZOFFSETFROM:+0200
TZOFFSETTO:+0100
TZNAME:CET
DTSTART:20261025T010000
END:STANDARD
END:VTIMEZONE
BEGIN:VEVENT
DTSTART;TZID=Europe/Stockholm:20250901T161500
DTEND;TZID=Europe/Stockholm:20250901T170000
DTSTAMP:20260421T231908
CREATED:20250825T174550Z
LAST-MODIFIED:20250825T174624Z
UID:10068-1756743300-1756746000@xn--jrnbos-buam.se
SUMMARY:Cantarellerna
DESCRIPTION:Måndag 1/9\, är det dags för höststart för barnkören Cantarellerna. Kom med och sjung!
URL:https://xn--jrnbos-buam.se/event/kantarellerna/2025-09-01/
CATEGORIES:Barnaktiviteter,Barnkör,Nyhyttans kyrka
ATTACH;FMTTYPE=image/jpeg:https://media.xn--jrnbos-buam.se/2025/08/canratellernaHt25.jpg
END:VEVENT
BEGIN:VEVENT
DTSTART;TZID=Europe/Stockholm:20250901T190000
DTEND;TZID=Europe/Stockholm:20250901T203000
DTSTAMP:20260421T231908
CREATED:20250825T175041Z
LAST-MODIFIED:20250825T175041Z
UID:10087-1756753200-1756758600@xn--jrnbos-buam.se
SUMMARY:Sjung i kör - Cantus Novus
DESCRIPTION:Cantus Novus har startat för höstterminen. Kom var med och sjung på måndagar hela hösten (eller i körprojekt i fem veckor med start 15/9)
URL:https://xn--jrnbos-buam.se/event/sjung-i-kor-cantus-novus/2025-09-01/
CATEGORIES:Körsång,Nyhyttans kyrka
ATTACH;FMTTYPE=image/jpeg:https://media.xn--jrnbos-buam.se/2025/08/canutsnovusHT25.jpg
END:VEVENT
BEGIN:VEVENT
DTSTART;TZID=Europe/Stockholm:20250908T161500
DTEND;TZID=Europe/Stockholm:20250908T170000
DTSTAMP:20260421T231908
CREATED:20250825T174550Z
LAST-MODIFIED:20250825T174624Z
UID:10069-1757348100-1757350800@xn--jrnbos-buam.se
SUMMARY:Cantarellerna
DESCRIPTION:Måndag 1/9\, är det dags för höststart för barnkören Cantarellerna. Kom med och sjung!
URL:https://xn--jrnbos-buam.se/event/kantarellerna/2025-09-08/
CATEGORIES:Barnaktiviteter,Barnkör,Nyhyttans kyrka
ATTACH;FMTTYPE=image/jpeg:https://media.xn--jrnbos-buam.se/2025/08/canratellernaHt25.jpg
END:VEVENT
BEGIN:VEVENT
DTSTART;TZID=Europe/Stockholm:20250908T190000
DTEND;TZID=Europe/Stockholm:20250908T203000
DTSTAMP:20260421T231908
CREATED:20250825T175041Z
LAST-MODIFIED:20250825T175041Z
UID:10088-1757358000-1757363400@xn--jrnbos-buam.se
SUMMARY:Sjung i kör - Cantus Novus
DESCRIPTION:Cantus Novus har startat för höstterminen. Kom var med och sjung på måndagar hela hösten (eller i körprojekt i fem veckor med start 15/9)
URL:https://xn--jrnbos-buam.se/event/sjung-i-kor-cantus-novus/2025-09-08/
CATEGORIES:Körsång,Nyhyttans kyrka
ATTACH;FMTTYPE=image/jpeg:https://media.xn--jrnbos-buam.se/2025/08/canutsnovusHT25.jpg
END:VEVENT
BEGIN:VEVENT
DTSTART;TZID=Europe/Stockholm:20250915T161500
DTEND;TZID=Europe/Stockholm:20250915T170000
DTSTAMP:20260421T231908
CREATED:20250825T174550Z
LAST-MODIFIED:20250825T174624Z
UID:10070-1757952900-1757955600@xn--jrnbos-buam.se
SUMMARY:Cantarellerna
DESCRIPTION:Måndag 1/9\, är det dags för höststart för barnkören Cantarellerna. Kom med och sjung!
URL:https://xn--jrnbos-buam.se/event/kantarellerna/2025-09-15/
CATEGORIES:Barnaktiviteter,Barnkör,Nyhyttans kyrka
ATTACH;FMTTYPE=image/jpeg:https://media.xn--jrnbos-buam.se/2025/08/canratellernaHt25.jpg
END:VEVENT
BEGIN:VEVENT
DTSTART;TZID=Europe/Stockholm:20250915T190000
DTEND;TZID=Europe/Stockholm:20250915T203000
DTSTAMP:20260421T231908
CREATED:20250825T175041Z
LAST-MODIFIED:20250825T175041Z
UID:10089-1757962800-1757968200@xn--jrnbos-buam.se
SUMMARY:Sjung i kör - Cantus Novus
DESCRIPTION:Cantus Novus har startat för höstterminen. Kom var med och sjung på måndagar hela hösten (eller i körprojekt i fem veckor med start 15/9)
URL:https://xn--jrnbos-buam.se/event/sjung-i-kor-cantus-novus/2025-09-15/
CATEGORIES:Körsång,Nyhyttans kyrka
ATTACH;FMTTYPE=image/jpeg:https://media.xn--jrnbos-buam.se/2025/08/canutsnovusHT25.jpg
END:VEVENT
BEGIN:VEVENT
DTSTART;TZID=Europe/Stockholm:20250922T161500
DTEND;TZID=Europe/Stockholm:20250922T170000
DTSTAMP:20260421T231908
CREATED:20250825T174550Z
LAST-MODIFIED:20250825T174624Z
UID:10071-1758557700-1758560400@xn--jrnbos-buam.se
SUMMARY:Cantarellerna
DESCRIPTION:Måndag 1/9\, är det dags för höststart för barnkören Cantarellerna. Kom med och sjung!
URL:https://xn--jrnbos-buam.se/event/kantarellerna/2025-09-22/
CATEGORIES:Barnaktiviteter,Barnkör,Nyhyttans kyrka
ATTACH;FMTTYPE=image/jpeg:https://media.xn--jrnbos-buam.se/2025/08/canratellernaHt25.jpg
END:VEVENT
BEGIN:VEVENT
DTSTART;TZID=Europe/Stockholm:20250922T190000
DTEND;TZID=Europe/Stockholm:20250922T203000
DTSTAMP:20260421T231908
CREATED:20250825T175041Z
LAST-MODIFIED:20250825T175041Z
UID:10090-1758567600-1758573000@xn--jrnbos-buam.se
SUMMARY:Sjung i kör - Cantus Novus
DESCRIPTION:Cantus Novus har startat för höstterminen. Kom var med och sjung på måndagar hela hösten (eller i körprojekt i fem veckor med start 15/9)
URL:https://xn--jrnbos-buam.se/event/sjung-i-kor-cantus-novus/2025-09-22/
CATEGORIES:Körsång,Nyhyttans kyrka
ATTACH;FMTTYPE=image/jpeg:https://media.xn--jrnbos-buam.se/2025/08/canutsnovusHT25.jpg
END:VEVENT
BEGIN:VEVENT
DTSTART;TZID=Europe/Stockholm:20250929T161500
DTEND;TZID=Europe/Stockholm:20250929T170000
DTSTAMP:20260421T231908
CREATED:20250825T174550Z
LAST-MODIFIED:20250825T174624Z
UID:10072-1759162500-1759165200@xn--jrnbos-buam.se
SUMMARY:Cantarellerna
DESCRIPTION:Måndag 1/9\, är det dags för höststart för barnkören Cantarellerna. Kom med och sjung!
URL:https://xn--jrnbos-buam.se/event/kantarellerna/2025-09-29/
CATEGORIES:Barnaktiviteter,Barnkör,Nyhyttans kyrka
ATTACH;FMTTYPE=image/jpeg:https://media.xn--jrnbos-buam.se/2025/08/canratellernaHt25.jpg
END:VEVENT
BEGIN:VEVENT
DTSTART;TZID=Europe/Stockholm:20250929T190000
DTEND;TZID=Europe/Stockholm:20250929T203000
DTSTAMP:20260421T231908
CREATED:20250825T175041Z
LAST-MODIFIED:20250825T175041Z
UID:10091-1759172400-1759177800@xn--jrnbos-buam.se
SUMMARY:Sjung i kör - Cantus Novus
DESCRIPTION:Cantus Novus har startat för höstterminen. Kom var med och sjung på måndagar hela hösten (eller i körprojekt i fem veckor med start 15/9)
URL:https://xn--jrnbos-buam.se/event/sjung-i-kor-cantus-novus/2025-09-29/
CATEGORIES:Körsång,Nyhyttans kyrka
ATTACH;FMTTYPE=image/jpeg:https://media.xn--jrnbos-buam.se/2025/08/canutsnovusHT25.jpg
END:VEVENT
END:VCALENDAR