BEGIN:VCALENDAR
VERSION:2.0
PRODID:-//Järnboås - ECPv6.15.14//NONSGML v1.0//EN
CALSCALE:GREGORIAN
METHOD:PUBLISH
X-ORIGINAL-URL:https://xn--jrnbos-buam.se
X-WR-CALDESC:Händelser för Järnboås
REFRESH-INTERVAL;VALUE=DURATION:PT1H
X-Robots-Tag:noindex
X-PUBLISHED-TTL:PT1H
BEGIN:VTIMEZONE
TZID:Europe/Stockholm
BEGIN:DAYLIGHT
TZOFFSETFROM:+0100
TZOFFSETTO:+0200
TZNAME:CEST
DTSTART:20240331T010000
END:DAYLIGHT
BEGIN:STANDARD
TZOFFSETFROM:+0200
TZOFFSETTO:+0100
TZNAME:CET
DTSTART:20241027T010000
END:STANDARD
BEGIN:DAYLIGHT
TZOFFSETFROM:+0100
TZOFFSETTO:+0200
TZNAME:CEST
DTSTART:20250330T010000
END:DAYLIGHT
BEGIN:STANDARD
TZOFFSETFROM:+0200
TZOFFSETTO:+0100
TZNAME:CET
DTSTART:20251026T010000
END:STANDARD
BEGIN:DAYLIGHT
TZOFFSETFROM:+0100
TZOFFSETTO:+0200
TZNAME:CEST
DTSTART:20260329T010000
END:DAYLIGHT
BEGIN:STANDARD
TZOFFSETFROM:+0200
TZOFFSETTO:+0100
TZNAME:CET
DTSTART:20261025T010000
END:STANDARD
END:VTIMEZONE
BEGIN:VEVENT
DTSTART;TZID=Europe/Stockholm:20250620T210000
DTEND;TZID=Europe/Stockholm:20250620T220000
DTSTAMP:20260422T035845
CREATED:20250616T111054Z
LAST-MODIFIED:20250616T111146Z
UID:9853-1750453200-1750456800@xn--jrnbos-buam.se
SUMMARY:Musik i Sommarnatten
DESCRIPTION:Välkommen till Musik i Sommarnatten på midsommarafton kl. 21.
URL:https://xn--jrnbos-buam.se/event/musik-i-sommarnatten-3/
LOCATION:Nyhyttans Adventkyrka
CATEGORIES:Högtider,Konserter,Körsång,Nyhyttans kyrka
ATTACH;FMTTYPE=image/jpeg:https://media.xn--jrnbos-buam.se/2025/06/konsert-midsommar-25.jpg
END:VEVENT
END:VCALENDAR