BEGIN:VCALENDAR
VERSION:2.0
PRODID:-//Järnboås - ECPv6.15.14//NONSGML v1.0//EN
CALSCALE:GREGORIAN
METHOD:PUBLISH
X-ORIGINAL-URL:https://xn--jrnbos-buam.se
X-WR-CALDESC:Händelser för Järnboås
REFRESH-INTERVAL;VALUE=DURATION:PT1H
X-Robots-Tag:noindex
X-PUBLISHED-TTL:PT1H
BEGIN:VTIMEZONE
TZID:Europe/Stockholm
BEGIN:DAYLIGHT
TZOFFSETFROM:+0100
TZOFFSETTO:+0200
TZNAME:CEST
DTSTART:20240331T010000
END:DAYLIGHT
BEGIN:STANDARD
TZOFFSETFROM:+0200
TZOFFSETTO:+0100
TZNAME:CET
DTSTART:20241027T010000
END:STANDARD
BEGIN:DAYLIGHT
TZOFFSETFROM:+0100
TZOFFSETTO:+0200
TZNAME:CEST
DTSTART:20250330T010000
END:DAYLIGHT
BEGIN:STANDARD
TZOFFSETFROM:+0200
TZOFFSETTO:+0100
TZNAME:CET
DTSTART:20251026T010000
END:STANDARD
BEGIN:DAYLIGHT
TZOFFSETFROM:+0100
TZOFFSETTO:+0200
TZNAME:CEST
DTSTART:20260329T010000
END:DAYLIGHT
BEGIN:STANDARD
TZOFFSETFROM:+0200
TZOFFSETTO:+0100
TZNAME:CET
DTSTART:20261025T010000
END:STANDARD
END:VTIMEZONE
BEGIN:VEVENT
DTSTART;TZID=Europe/Stockholm:20250303T161500
DTEND;TZID=Europe/Stockholm:20250303T171500
DTSTAMP:20260422T085849
CREATED:20201228T192702Z
LAST-MODIFIED:20250210T161347Z
UID:9434-1741018500-1741022100@xn--jrnbos-buam.se
SUMMARY:Chorallerna – Barnkör 0-4 år
DESCRIPTION:Barnkörerna – vårterminsstart på måndag 29/1 \nChorallerna 0-4 år ses måndagar kl 16.15 – 17.00 i ”Växthuset” en trappa ner. \n  \nAnmälan: \nhttps://www.bilda.nu/arr/1252088/sjung-med-ditt-barn-i-chorallerna-575444 \n  \n  \nMer info: www.nyhyttan.adventkyrka.se
URL:https://xn--jrnbos-buam.se/event/chorallerna-barnkor/2025-03-03/
LOCATION:Nyhyttan
CATEGORIES:Barnkör,Körsång,Nyhyttans kyrka
ATTACH;FMTTYPE=image/jpeg:https://media.xn--jrnbos-buam.se/2020/12/chorallerna.jpg
END:VEVENT
BEGIN:VEVENT
DTSTART;TZID=Europe/Stockholm:20250310T161500
DTEND;TZID=Europe/Stockholm:20250310T171500
DTSTAMP:20260422T085849
CREATED:20201228T192702Z
LAST-MODIFIED:20250210T161347Z
UID:9435-1741623300-1741626900@xn--jrnbos-buam.se
SUMMARY:Chorallerna – Barnkör 0-4 år
DESCRIPTION:Barnkörerna – vårterminsstart på måndag 29/1 \nChorallerna 0-4 år ses måndagar kl 16.15 – 17.00 i ”Växthuset” en trappa ner. \n  \nAnmälan: \nhttps://www.bilda.nu/arr/1252088/sjung-med-ditt-barn-i-chorallerna-575444 \n  \n  \nMer info: www.nyhyttan.adventkyrka.se
URL:https://xn--jrnbos-buam.se/event/chorallerna-barnkor/2025-03-10/
LOCATION:Nyhyttan
CATEGORIES:Barnkör,Körsång,Nyhyttans kyrka
ATTACH;FMTTYPE=image/jpeg:https://media.xn--jrnbos-buam.se/2020/12/chorallerna.jpg
END:VEVENT
BEGIN:VEVENT
DTSTART;TZID=Europe/Stockholm:20250317T161500
DTEND;TZID=Europe/Stockholm:20250317T171500
DTSTAMP:20260422T085849
CREATED:20201228T192702Z
LAST-MODIFIED:20250210T161347Z
UID:9436-1742228100-1742231700@xn--jrnbos-buam.se
SUMMARY:Chorallerna – Barnkör 0-4 år
DESCRIPTION:Barnkörerna – vårterminsstart på måndag 29/1 \nChorallerna 0-4 år ses måndagar kl 16.15 – 17.00 i ”Växthuset” en trappa ner. \n  \nAnmälan: \nhttps://www.bilda.nu/arr/1252088/sjung-med-ditt-barn-i-chorallerna-575444 \n  \n  \nMer info: www.nyhyttan.adventkyrka.se
URL:https://xn--jrnbos-buam.se/event/chorallerna-barnkor/2025-03-17/
LOCATION:Nyhyttan
CATEGORIES:Barnkör,Körsång,Nyhyttans kyrka
ATTACH;FMTTYPE=image/jpeg:https://media.xn--jrnbos-buam.se/2020/12/chorallerna.jpg
END:VEVENT
BEGIN:VEVENT
DTSTART;TZID=Europe/Stockholm:20250324T161500
DTEND;TZID=Europe/Stockholm:20250324T171500
DTSTAMP:20260422T085849
CREATED:20201228T192702Z
LAST-MODIFIED:20250210T161347Z
UID:9437-1742832900-1742836500@xn--jrnbos-buam.se
SUMMARY:Chorallerna – Barnkör 0-4 år
DESCRIPTION:Barnkörerna – vårterminsstart på måndag 29/1 \nChorallerna 0-4 år ses måndagar kl 16.15 – 17.00 i ”Växthuset” en trappa ner. \n  \nAnmälan: \nhttps://www.bilda.nu/arr/1252088/sjung-med-ditt-barn-i-chorallerna-575444 \n  \n  \nMer info: www.nyhyttan.adventkyrka.se
URL:https://xn--jrnbos-buam.se/event/chorallerna-barnkor/2025-03-24/
LOCATION:Nyhyttan
CATEGORIES:Barnkör,Körsång,Nyhyttans kyrka
ATTACH;FMTTYPE=image/jpeg:https://media.xn--jrnbos-buam.se/2020/12/chorallerna.jpg
END:VEVENT
BEGIN:VEVENT
DTSTART;TZID=Europe/Stockholm:20250331T161500
DTEND;TZID=Europe/Stockholm:20250331T171500
DTSTAMP:20260422T085849
CREATED:20201228T192702Z
LAST-MODIFIED:20250210T161347Z
UID:9438-1743437700-1743441300@xn--jrnbos-buam.se
SUMMARY:Chorallerna – Barnkör 0-4 år
DESCRIPTION:Barnkörerna – vårterminsstart på måndag 29/1 \nChorallerna 0-4 år ses måndagar kl 16.15 – 17.00 i ”Växthuset” en trappa ner. \n  \nAnmälan: \nhttps://www.bilda.nu/arr/1252088/sjung-med-ditt-barn-i-chorallerna-575444 \n  \n  \nMer info: www.nyhyttan.adventkyrka.se
URL:https://xn--jrnbos-buam.se/event/chorallerna-barnkor/2025-03-31/
LOCATION:Nyhyttan
CATEGORIES:Barnkör,Körsång,Nyhyttans kyrka
ATTACH;FMTTYPE=image/jpeg:https://media.xn--jrnbos-buam.se/2020/12/chorallerna.jpg
END:VEVENT
END:VCALENDAR