BEGIN:VCALENDAR
VERSION:2.0
PRODID:-//Järnboås - ECPv6.15.14//NONSGML v1.0//EN
CALSCALE:GREGORIAN
METHOD:PUBLISH
X-ORIGINAL-URL:https://xn--jrnbos-buam.se
X-WR-CALDESC:Händelser för Järnboås
REFRESH-INTERVAL;VALUE=DURATION:PT1H
X-Robots-Tag:noindex
X-PUBLISHED-TTL:PT1H
BEGIN:VTIMEZONE
TZID:Europe/Stockholm
BEGIN:DAYLIGHT
TZOFFSETFROM:+0100
TZOFFSETTO:+0200
TZNAME:CEST
DTSTART:20230326T010000
END:DAYLIGHT
BEGIN:STANDARD
TZOFFSETFROM:+0200
TZOFFSETTO:+0100
TZNAME:CET
DTSTART:20231029T010000
END:STANDARD
BEGIN:DAYLIGHT
TZOFFSETFROM:+0100
TZOFFSETTO:+0200
TZNAME:CEST
DTSTART:20240331T010000
END:DAYLIGHT
BEGIN:STANDARD
TZOFFSETFROM:+0200
TZOFFSETTO:+0100
TZNAME:CET
DTSTART:20241027T010000
END:STANDARD
BEGIN:DAYLIGHT
TZOFFSETFROM:+0100
TZOFFSETTO:+0200
TZNAME:CEST
DTSTART:20250330T010000
END:DAYLIGHT
BEGIN:STANDARD
TZOFFSETFROM:+0200
TZOFFSETTO:+0100
TZNAME:CET
DTSTART:20251026T010000
END:STANDARD
END:VTIMEZONE
BEGIN:VEVENT
DTSTART;TZID=Europe/Stockholm:20241215T110000
DTEND;TZID=Europe/Stockholm:20241215T150000
DTSTAMP:20260424T134142
CREATED:20241214T172144Z
LAST-MODIFIED:20241214T172144Z
UID:8832-1734260400-1734274800@xn--jrnbos-buam.se
SUMMARY:Kyrksöndag i Järnboås
DESCRIPTION:Välkommen på Kyrksöndag i Järnboås kyrka. 15 december kl 11.
URL:https://xn--jrnbos-buam.se/event/kyrksondag-i-jarnboas-2/
LOCATION:Järnboås skola
CATEGORIES:Barnaktiviteter,Gudstjänst,Järnboås kyrka,Jul,Konserter,Körsång,Mat och äta,Nyhyttans kyrka
ATTACH;FMTTYPE=image/jpeg:https://media.xn--jrnbos-buam.se/2024/12/kyrksondag.jpg
END:VEVENT
BEGIN:VEVENT
DTSTART;TZID=Europe/Stockholm:20241221T111500
DTEND;TZID=Europe/Stockholm:20241221T123000
DTSTAMP:20260424T134142
CREATED:20241214T173812Z
LAST-MODIFIED:20241214T173812Z
UID:8842-1734779700-1734784200@xn--jrnbos-buam.se
SUMMARY:Sjung in julen-Julgudstjänst med Cantus Novus
DESCRIPTION:Välkommen att sjunga in julen 21/12 kl 11:15.
URL:https://xn--jrnbos-buam.se/event/sjung-in-julen-julgudstjanst-med-cantus-novus/
LOCATION:Nyhyttans Adventkyrka
CATEGORIES:Barnkör,Gudstjänst,Högtider,Jul,Konserter,Körsång,Kultur,Nyhyttans kyrka
ATTACH;FMTTYPE=image/jpeg:https://media.xn--jrnbos-buam.se/2024/12/cantusNovusJul2024.jpg
END:VEVENT
BEGIN:VEVENT
DTSTART;TZID=Europe/Stockholm:20241224T163000
DTEND;TZID=Europe/Stockholm:20241224T173000
DTSTAMP:20260424T134142
CREATED:20241219T065328Z
LAST-MODIFIED:20241219T065328Z
UID:8853-1735057800-1735061400@xn--jrnbos-buam.se
SUMMARY:Julbön i Nyhyttans kyrka
DESCRIPTION:Julafton 16:30. \nSång\, musik\, betraktelse. \nVälkommen!
URL:https://xn--jrnbos-buam.se/event/julbon-i-nyhyttans-kyrka-2/
LOCATION:Nyhyttans Adventkyrka
CATEGORIES:Högtider,Jul,Nyhyttans kyrka
ATTACH;FMTTYPE=image/png:https://media.xn--jrnbos-buam.se/2024/12/julbon24.png
END:VEVENT
BEGIN:VEVENT
DTSTART;TZID=Europe/Stockholm:20241231T163000
DTEND;TZID=Europe/Stockholm:20241231T173000
DTSTAMP:20260424T134142
CREATED:20241219T065741Z
LAST-MODIFIED:20241219T065741Z
UID:8856-1735662600-1735666200@xn--jrnbos-buam.se
SUMMARY:Nyårsbön i Nyhyttans kyrka
DESCRIPTION:Nyårsafton kl 16:30\, Välkommen!
URL:https://xn--jrnbos-buam.se/event/nyarsbon-i-nyhyttans-kyrka-2/
LOCATION:Nyhyttans Adventkyrka
CATEGORIES:Högtider,Jul,Nyhyttans kyrka
ATTACH;FMTTYPE=image/png:https://media.xn--jrnbos-buam.se/2024/12/nyaarsbon.png
END:VEVENT
END:VCALENDAR