BEGIN:VCALENDAR
VERSION:2.0
PRODID:-//Järnboås - ECPv6.15.14//NONSGML v1.0//EN
CALSCALE:GREGORIAN
METHOD:PUBLISH
X-WR-CALNAME:Järnboås
X-ORIGINAL-URL:https://xn--jrnbos-buam.se
X-WR-CALDESC:Händelser för Järnboås
REFRESH-INTERVAL;VALUE=DURATION:PT1H
X-Robots-Tag:noindex
X-PUBLISHED-TTL:PT1H
BEGIN:VTIMEZONE
TZID:Europe/Stockholm
BEGIN:DAYLIGHT
TZOFFSETFROM:+0100
TZOFFSETTO:+0200
TZNAME:CEST
DTSTART:20230326T010000
END:DAYLIGHT
BEGIN:STANDARD
TZOFFSETFROM:+0200
TZOFFSETTO:+0100
TZNAME:CET
DTSTART:20231029T010000
END:STANDARD
BEGIN:DAYLIGHT
TZOFFSETFROM:+0100
TZOFFSETTO:+0200
TZNAME:CEST
DTSTART:20240331T010000
END:DAYLIGHT
BEGIN:STANDARD
TZOFFSETFROM:+0200
TZOFFSETTO:+0100
TZNAME:CET
DTSTART:20241027T010000
END:STANDARD
BEGIN:DAYLIGHT
TZOFFSETFROM:+0100
TZOFFSETTO:+0200
TZNAME:CEST
DTSTART:20250330T010000
END:DAYLIGHT
BEGIN:STANDARD
TZOFFSETFROM:+0200
TZOFFSETTO:+0100
TZNAME:CET
DTSTART:20251026T010000
END:STANDARD
END:VTIMEZONE
BEGIN:VEVENT
DTSTART;TZID=Europe/Stockholm:20240309T180000
DTEND;TZID=Europe/Stockholm:20240309T190000
DTSTAMP:20260425T032838
CREATED:20240304T082111Z
LAST-MODIFIED:20240304T082111Z
UID:7884-1710007200-1710010800@xn--jrnbos-buam.se
SUMMARY:Körkonsert
DESCRIPTION:NÄR: 9/3 konsert kl. 18 \nVAR: Järnboås kyrka
URL:https://xn--jrnbos-buam.se/event/korkonsert/
LOCATION:Järnboås kyrka
CATEGORIES:Järnboås kyrka,Konserter,Körsång,Nyhyttans kyrka
ATTACH;FMTTYPE=image/png:https://media.xn--jrnbos-buam.se/2024/03/konsert-jan-inge-hall.png
END:VEVENT
BEGIN:VEVENT
DTSTART;TZID=Europe/Stockholm:20240324T160000
DTEND;TZID=Europe/Stockholm:20240324T180000
DTSTAMP:20260425T032838
CREATED:20240316T220935Z
LAST-MODIFIED:20240316T220935Z
UID:7902-1711296000-1711303200@xn--jrnbos-buam.se
SUMMARY:Hälsokväll i Nyhyttan
DESCRIPTION:Hälsokväll i Nyhyttan\n\n\nSöndag 24:e mars kl 16\nFöreläsare: Simon Karlsson leg. fysioterapeut och hälsocoach
URL:https://xn--jrnbos-buam.se/event/halsokvall-i-nyhyttan-3/
LOCATION:Nyhyttans Adventkyrka
CATEGORIES:Mat och äta,Nyhyttans kyrka
ATTACH;FMTTYPE=image/jpeg:https://media.xn--jrnbos-buam.se/2024/03/halsokvall.jpg
END:VEVENT
END:VCALENDAR