BEGIN:VCALENDAR
VERSION:2.0
PRODID:-//Järnboås - ECPv6.15.14//NONSGML v1.0//EN
CALSCALE:GREGORIAN
METHOD:PUBLISH
X-ORIGINAL-URL:https://xn--jrnbos-buam.se
X-WR-CALDESC:Händelser för Järnboås
REFRESH-INTERVAL;VALUE=DURATION:PT1H
X-Robots-Tag:noindex
X-PUBLISHED-TTL:PT1H
BEGIN:VTIMEZONE
TZID:Europe/Stockholm
BEGIN:DAYLIGHT
TZOFFSETFROM:+0100
TZOFFSETTO:+0200
TZNAME:CEST
DTSTART:20230326T010000
END:DAYLIGHT
BEGIN:STANDARD
TZOFFSETFROM:+0200
TZOFFSETTO:+0100
TZNAME:CET
DTSTART:20231029T010000
END:STANDARD
BEGIN:DAYLIGHT
TZOFFSETFROM:+0100
TZOFFSETTO:+0200
TZNAME:CEST
DTSTART:20240331T010000
END:DAYLIGHT
BEGIN:STANDARD
TZOFFSETFROM:+0200
TZOFFSETTO:+0100
TZNAME:CET
DTSTART:20241027T010000
END:STANDARD
BEGIN:DAYLIGHT
TZOFFSETFROM:+0100
TZOFFSETTO:+0200
TZNAME:CEST
DTSTART:20250330T010000
END:DAYLIGHT
BEGIN:STANDARD
TZOFFSETFROM:+0200
TZOFFSETTO:+0100
TZNAME:CET
DTSTART:20251026T010000
END:STANDARD
END:VTIMEZONE
BEGIN:VEVENT
DTSTART;TZID=Europe/Stockholm:20240921T090000
DTEND;TZID=Europe/Stockholm:20240921T150000
DTSTAMP:20260421T134820
CREATED:20240908T122715Z
LAST-MODIFIED:20240908T122715Z
UID:8537-1726909200-1726930800@xn--jrnbos-buam.se
SUMMARY:DAMMSJÖDAGEN
DESCRIPTION:DAMMSJÖDAGEN lördag 21/9 kl 9-15.\n\n \n\nVälkomna till den årliga Dammsjödagen i Nyhyttan. Fritt fiske för barn upp till 15 år.\n\n \n\nReducerat pris på fiskekort för vuxna\, endast 50 kr o köps på plats.\n\n \n\nTipspromenad\, fisketävling\, gratis korv\, fika o rökt fisk. Kom förbi o fiska eller bara umgås.\n\n \n\nVill ni testa flugfiske så har vi flugspön på plats för prova på-fiske. \n\n \n\nMvh Dammsjön o Nyhyttans fvof.
URL:https://xn--jrnbos-buam.se/event/dammsjodagen-2/
CATEGORIES:Fiske,Föreningsaktivitet,Naturupplevelse
ATTACH;FMTTYPE=image/jpeg:https://media.xn--jrnbos-buam.se/2024/09/dammsjodagen2024.jpg
END:VEVENT
BEGIN:VEVENT
DTSTART;TZID=Europe/Stockholm:20240921T150000
DTEND;TZID=Europe/Stockholm:20240921T170000
DTSTAMP:20260421T134820
CREATED:20240923T183224Z
LAST-MODIFIED:20240923T183224Z
UID:8625-1726930800-1726938000@xn--jrnbos-buam.se
SUMMARY:BERGSLAGENS HISTORIEDAGAR
DESCRIPTION:Under Bergslagens historiedagar 21–29 september har vi 16 aktörer som ställer upp med sammanlagt 43 programpunkter! Här presenteras en av dem.\n\n\nGuidad vandring vid Slotterbergets gruvfält\, lördag 21 september kl. 15.00. Följ med på en guidad visning av Slotterbergets gruvfält och ta del av de lösningar man gjorde för gruvhanteringen och de arbetare som med handkraft gjorde det tunga arbetet. Vandringen är ca 2.4 km på skogsstigar och tar ca 2.5 h. Avgiften är 50 kr/person. Barn under 16 år gratis.\n\n\nArr: Järnboås bygdegårdsförening
URL:https://xn--jrnbos-buam.se/event/bergslagens-historiedagar/
CATEGORIES:Föreningsaktivitet,Historia,Järnboås bygdegårdsförening,Kultur,Naturupplevelse
ATTACH;FMTTYPE=image/jpeg:https://media.xn--jrnbos-buam.se/2024/09/Slotterberget.jpg
END:VEVENT
END:VCALENDAR