BEGIN:VCALENDAR
VERSION:2.0
PRODID:-//Järnboås - ECPv6.15.14//NONSGML v1.0//EN
CALSCALE:GREGORIAN
METHOD:PUBLISH
X-ORIGINAL-URL:https://xn--jrnbos-buam.se
X-WR-CALDESC:Händelser för Järnboås
REFRESH-INTERVAL;VALUE=DURATION:PT1H
X-Robots-Tag:noindex
X-PUBLISHED-TTL:PT1H
BEGIN:VTIMEZONE
TZID:Europe/Stockholm
BEGIN:DAYLIGHT
TZOFFSETFROM:+0100
TZOFFSETTO:+0200
TZNAME:CEST
DTSTART:20230326T010000
END:DAYLIGHT
BEGIN:STANDARD
TZOFFSETFROM:+0200
TZOFFSETTO:+0100
TZNAME:CET
DTSTART:20231029T010000
END:STANDARD
BEGIN:DAYLIGHT
TZOFFSETFROM:+0100
TZOFFSETTO:+0200
TZNAME:CEST
DTSTART:20240331T010000
END:DAYLIGHT
BEGIN:STANDARD
TZOFFSETFROM:+0200
TZOFFSETTO:+0100
TZNAME:CET
DTSTART:20241027T010000
END:STANDARD
BEGIN:DAYLIGHT
TZOFFSETFROM:+0100
TZOFFSETTO:+0200
TZNAME:CEST
DTSTART:20250330T010000
END:DAYLIGHT
BEGIN:STANDARD
TZOFFSETFROM:+0200
TZOFFSETTO:+0100
TZNAME:CET
DTSTART:20251026T010000
END:STANDARD
END:VTIMEZONE
BEGIN:VEVENT
DTSTART;TZID=Europe/Stockholm:20240706T140000
DTEND;TZID=Europe/Stockholm:20240706T170000
DTSTAMP:20260421T173514
CREATED:20240616T170722Z
LAST-MODIFIED:20240616T170722Z
UID:8260-1720274400-1720285200@xn--jrnbos-buam.se
SUMMARY:Guidad tur Slotterberget
DESCRIPTION:Inför årets säsong har ytterligare drygt 15 trevliga och informativa tavlor satts upp efter stigen\nsom berättar hur livet var på ett gruvfält. Tryckning av de nya skyltarna och materialet till\nställningarna har finansierats av ”Nisse och Leena Johanssons bygdestiftelse”.\nArbetsmarknadsenheten i Nora har varit behjälplig med att bygga skyltställningarna. \nSom vanligt så arrangeras öppna guidningar första och sista lördagen i juli\, med\nsamling kl 14:00. Det går även utmärkt att vandra runt på egen hand. Ett perfekt utflyktsmål\nmed gäster som är intresserade av att veta mer om Bergslagens historia. \nDet kan även ordnas extra guidade turer för grupper på 5 personer eller fler\, efter överenskommelse. \nJärnboås Bygdegårdsförening har ett avtal med markägaren\, HT-skogar AB\, som innebär\nansvar för skötsel och underhåll av stigar\, spänger\, vindskydd mm samt möjlighet att\narrangera de offentliga guidningarna. \nVälkomna!\nJärnboås Bygdegårdsförening
URL:https://xn--jrnbos-buam.se/event/guidad-tur-slotterberget/2024-07-06/
CATEGORIES:Järnboås bygdegårdsförening,Kultur,Naturupplevelse
ATTACH;FMTTYPE=image/png:https://media.xn--jrnbos-buam.se/2024/06/slotterberget2024.png
END:VEVENT
BEGIN:VEVENT
DTSTART;TZID=Europe/Stockholm:20240727T140000
DTEND;TZID=Europe/Stockholm:20240727T170000
DTSTAMP:20260421T173514
CREATED:20240616T170722Z
LAST-MODIFIED:20240616T170722Z
UID:8262-1722088800-1722099600@xn--jrnbos-buam.se
SUMMARY:Guidad tur Slotterberget
DESCRIPTION:Inför årets säsong har ytterligare drygt 15 trevliga och informativa tavlor satts upp efter stigen\nsom berättar hur livet var på ett gruvfält. Tryckning av de nya skyltarna och materialet till\nställningarna har finansierats av ”Nisse och Leena Johanssons bygdestiftelse”.\nArbetsmarknadsenheten i Nora har varit behjälplig med att bygga skyltställningarna. \nSom vanligt så arrangeras öppna guidningar första och sista lördagen i juli\, med\nsamling kl 14:00. Det går även utmärkt att vandra runt på egen hand. Ett perfekt utflyktsmål\nmed gäster som är intresserade av att veta mer om Bergslagens historia. \nDet kan även ordnas extra guidade turer för grupper på 5 personer eller fler\, efter överenskommelse. \nJärnboås Bygdegårdsförening har ett avtal med markägaren\, HT-skogar AB\, som innebär\nansvar för skötsel och underhåll av stigar\, spänger\, vindskydd mm samt möjlighet att\narrangera de offentliga guidningarna. \nVälkomna!\nJärnboås Bygdegårdsförening
URL:https://xn--jrnbos-buam.se/event/guidad-tur-slotterberget/2024-07-27/
CATEGORIES:Järnboås bygdegårdsförening,Kultur,Naturupplevelse
ATTACH;FMTTYPE=image/png:https://media.xn--jrnbos-buam.se/2024/06/slotterberget2024.png
END:VEVENT
END:VCALENDAR