BEGIN:VCALENDAR
VERSION:2.0
PRODID:-//Järnboås - ECPv6.15.14//NONSGML v1.0//EN
CALSCALE:GREGORIAN
METHOD:PUBLISH
X-WR-CALNAME:Järnboås
X-ORIGINAL-URL:https://xn--jrnbos-buam.se
X-WR-CALDESC:Händelser för Järnboås
REFRESH-INTERVAL;VALUE=DURATION:PT1H
X-Robots-Tag:noindex
X-PUBLISHED-TTL:PT1H
BEGIN:VTIMEZONE
TZID:Europe/Stockholm
BEGIN:DAYLIGHT
TZOFFSETFROM:+0100
TZOFFSETTO:+0200
TZNAME:CEST
DTSTART:20210328T010000
END:DAYLIGHT
BEGIN:STANDARD
TZOFFSETFROM:+0200
TZOFFSETTO:+0100
TZNAME:CET
DTSTART:20211031T010000
END:STANDARD
BEGIN:DAYLIGHT
TZOFFSETFROM:+0100
TZOFFSETTO:+0200
TZNAME:CEST
DTSTART:20220327T010000
END:DAYLIGHT
BEGIN:STANDARD
TZOFFSETFROM:+0200
TZOFFSETTO:+0100
TZNAME:CET
DTSTART:20221030T010000
END:STANDARD
BEGIN:DAYLIGHT
TZOFFSETFROM:+0100
TZOFFSETTO:+0200
TZNAME:CEST
DTSTART:20230326T010000
END:DAYLIGHT
BEGIN:STANDARD
TZOFFSETFROM:+0200
TZOFFSETTO:+0100
TZNAME:CET
DTSTART:20231029T010000
END:STANDARD
END:VTIMEZONE
BEGIN:VEVENT
DTSTART;TZID=Europe/Stockholm:20220702T140000
DTEND;TZID=Europe/Stockholm:20220702T170000
DTSTAMP:20260423T085826
CREATED:20220627T184724Z
LAST-MODIFIED:20220627T184724Z
UID:5604-1656770400-1656781200@xn--jrnbos-buam.se
SUMMARY:Visning av Stora Slotterbergets gruvfält
DESCRIPTION:Välkommen att uppleva ett 350-årigt kulturminne. \nGruvan ligger mellan Hjulsjö och Järnboås vid Hjuljern. \n\nVilka metoder använde man för att få upp malmen ur gruvan?\nVilka var människorna i gruvan?\nHur klarade man säkerheten? Berget var skört och rasrisken stor.\nHur har naturen påverkats av verksamheten på gruvfältet?\nVilken betydelse hade gruvorna &amp; malmhanteringen för Sverige?\n\nVandra gärna gruvstigen på egen hand med hjälp av skyltarna utmed den blåmarkerade stigen. \nFölj med på en visning av Slotterbergets gruvfält!\nFörsta och sista lördagen i juli månad\, kl 14:00. \nSamling vid ”Skrädtorget”\, vid Y-korset c.a 350m NÖ Hjuljerns herrgård \n(Koordinater: 59.723260\, 14.878677) \nTa gärna med egen dryck\, vi tar en fikapaus vid halvtid.\nVisningen tar c.a 2\,5 – 3 timmar. Gå lämpligen i bra skor eller kängor. \nExtra visningar för grupper efter överenskommelse. \nAvgift: 50:- / person\, barn under 16år gratis\nSwish: 123 357 8267 Text: Slotterberget \nInformation: Björn Skeppner\, 070-592 94 80
URL:https://xn--jrnbos-buam.se/event/visning-av-stora-slotterbergets-gruvfalt/2022-07-02/
CATEGORIES:Historia,Kultur,Naturupplevelse
ATTACH;FMTTYPE=image/png:https://media.xn--jrnbos-buam.se/2022/06/Skarmavbild-2022-06-27-kl.-20.39.55.png
END:VEVENT
BEGIN:VEVENT
DTSTART;TZID=Europe/Stockholm:20220731T140000
DTEND;TZID=Europe/Stockholm:20220731T170000
DTSTAMP:20260423T085826
CREATED:20220722T165546Z
LAST-MODIFIED:20220722T165546Z
UID:5665-1659276000-1659286800@xn--jrnbos-buam.se
SUMMARY:Föreningsdag vid Slotterberget
DESCRIPTION:SÖNDAGEN DEN 31 JULI kl 14:00 \nJärnboås bygdegårdsförening har tagit ansvar för verksamheten vid Slotterbergets gruvfält. Det\ninnebär att öppna och bokade guidningar nu sköts i föreningens regi. I första hand av områdets\neldsjäl\, Björn Skeppner\, tfn 070-5929480. \nFöreningen har med hjälp av bl.a bidrag från Länsstyrelsen och praktisk hjälp av Nora kommuns\narbetsmarknadsenhet kunnat byta ut informationstavlorna. Branta trappor\, hala broar och spänger\nhar nätats för att inte vara så hala och delar av slingan har röjts för att man bättre ska kunna se de\nolika resterna av vårt fantastiska kulturarv. \nSöndagen den 31 juli är alla föreningsmedlemmar och övriga intresserade välkomna att besöka\nSlotterberget. Från och med 14:00 finns guider på plats för att visa er runt. Den normala guidade\nslingan är ca 2\,5 km lång och ganska tuff. En kortare lättare runda på knappt 1 km kommer också\nvara bemannad med guide. \nMedtag gärna en välfylld fikaryggsäck och som alltid vid sådana här tillfällen\, ”kläder och skor efter\nväder”. \nFrån Grängshyttan är det skyltat till ”Slotterberget”. Föreningsmedlemmar och barn\, gratis!\nÖvriga\, 50:-. \nVarmt välkomna! \nStyrelsen genom Tore Carlsson\, tfn 076-1063156
URL:https://xn--jrnbos-buam.se/event/foreningsdag-vid-slotterberget/
CATEGORIES:Historia,Järnboås bygdegårdsförening,Kultur,Naturupplevelse
ATTACH;FMTTYPE=image/png:https://media.xn--jrnbos-buam.se/2022/07/Skarmavbild-2022-07-22-kl.-18.52.40.png
END:VEVENT
END:VCALENDAR