BEGIN:VCALENDAR
VERSION:2.0
PRODID:-//Järnboås - ECPv6.15.14//NONSGML v1.0//EN
CALSCALE:GREGORIAN
METHOD:PUBLISH
X-WR-CALNAME:Järnboås
X-ORIGINAL-URL:https://xn--jrnbos-buam.se
X-WR-CALDESC:Händelser för Järnboås
REFRESH-INTERVAL;VALUE=DURATION:PT1H
X-Robots-Tag:noindex
X-PUBLISHED-TTL:PT1H
BEGIN:VTIMEZONE
TZID:Europe/Stockholm
BEGIN:DAYLIGHT
TZOFFSETFROM:+0100
TZOFFSETTO:+0200
TZNAME:CEST
DTSTART:20240331T010000
END:DAYLIGHT
BEGIN:STANDARD
TZOFFSETFROM:+0200
TZOFFSETTO:+0100
TZNAME:CET
DTSTART:20241027T010000
END:STANDARD
BEGIN:DAYLIGHT
TZOFFSETFROM:+0100
TZOFFSETTO:+0200
TZNAME:CEST
DTSTART:20250330T010000
END:DAYLIGHT
BEGIN:STANDARD
TZOFFSETFROM:+0200
TZOFFSETTO:+0100
TZNAME:CET
DTSTART:20251026T010000
END:STANDARD
BEGIN:DAYLIGHT
TZOFFSETFROM:+0100
TZOFFSETTO:+0200
TZNAME:CEST
DTSTART:20260329T010000
END:DAYLIGHT
BEGIN:STANDARD
TZOFFSETFROM:+0200
TZOFFSETTO:+0100
TZNAME:CET
DTSTART:20261025T010000
END:STANDARD
END:VTIMEZONE
BEGIN:VEVENT
DTSTART;TZID=Europe/Stockholm:20251026T180000
DTEND;TZID=Europe/Stockholm:20251026T190000
DTSTAMP:20260420T144812
CREATED:20250909T174224Z
LAST-MODIFIED:20250909T174224Z
UID:10158-1761501600-1761505200@xn--jrnbos-buam.se
SUMMARY:Körkonsert med Nora kammarkör
DESCRIPTION:Under Järnboås kulturvecka hösten -25 håller Nora kammarkör på konsert i Järnboås kyrka. \nVälkommen söndagen den 26:e oktober kl 18. \nEntré 80kr
URL:https://xn--jrnbos-buam.se/event/korkonsert-med-nora-kammarkor/
LOCATION:Järnboås kyrka
CATEGORIES:Järnboås kyrka,Konserter,Körsång,Kulturveckan,Svenska Kyrkan
ATTACH;FMTTYPE=image/jpeg:https://media.xn--jrnbos-buam.se/2025/09/korkonserthht25.jpg
END:VEVENT
END:VCALENDAR