BEGIN:VCALENDAR
VERSION:2.0
PRODID:-//Järnboås - ECPv6.15.14//NONSGML v1.0//EN
CALSCALE:GREGORIAN
METHOD:PUBLISH
X-WR-CALNAME:Järnboås
X-ORIGINAL-URL:https://xn--jrnbos-buam.se
X-WR-CALDESC:Händelser för Järnboås
REFRESH-INTERVAL;VALUE=DURATION:PT1H
X-Robots-Tag:noindex
X-PUBLISHED-TTL:PT1H
BEGIN:VTIMEZONE
TZID:Europe/Stockholm
BEGIN:DAYLIGHT
TZOFFSETFROM:+0100
TZOFFSETTO:+0200
TZNAME:CEST
DTSTART:20240331T010000
END:DAYLIGHT
BEGIN:STANDARD
TZOFFSETFROM:+0200
TZOFFSETTO:+0100
TZNAME:CET
DTSTART:20241027T010000
END:STANDARD
BEGIN:DAYLIGHT
TZOFFSETFROM:+0100
TZOFFSETTO:+0200
TZNAME:CEST
DTSTART:20250330T010000
END:DAYLIGHT
BEGIN:STANDARD
TZOFFSETFROM:+0200
TZOFFSETTO:+0100
TZNAME:CET
DTSTART:20251026T010000
END:STANDARD
BEGIN:DAYLIGHT
TZOFFSETFROM:+0100
TZOFFSETTO:+0200
TZNAME:CEST
DTSTART:20260329T010000
END:DAYLIGHT
BEGIN:STANDARD
TZOFFSETFROM:+0200
TZOFFSETTO:+0100
TZNAME:CET
DTSTART:20261025T010000
END:STANDARD
END:VTIMEZONE
BEGIN:VEVENT
DTSTART;TZID=Europe/Stockholm:20251007T180000
DTEND;TZID=Europe/Stockholm:20251007T191500
DTSTAMP:20260421T003009
CREATED:20250826T194001Z
LAST-MODIFIED:20250907T201734Z
UID:10103-1759860000-1759864500@xn--jrnbos-buam.se
SUMMARY:Träning med Camilla
DESCRIPTION:Intervallpass/Tabata varje tisdag kl 18 i Järnboås gympasal. \n 
URL:https://xn--jrnbos-buam.se/event/traning-med-camilla/2025-10-07/
CATEGORIES:Gympa,Järnboås IF
END:VEVENT
BEGIN:VEVENT
DTSTART;TZID=Europe/Stockholm:20251014T180000
DTEND;TZID=Europe/Stockholm:20251014T191500
DTSTAMP:20260421T003009
CREATED:20250826T194001Z
LAST-MODIFIED:20250907T201734Z
UID:10104-1760464800-1760469300@xn--jrnbos-buam.se
SUMMARY:Träning med Camilla
DESCRIPTION:Intervallpass/Tabata varje tisdag kl 18 i Järnboås gympasal. \n 
URL:https://xn--jrnbos-buam.se/event/traning-med-camilla/2025-10-14/
CATEGORIES:Gympa,Järnboås IF
END:VEVENT
BEGIN:VEVENT
DTSTART;TZID=Europe/Stockholm:20251021T180000
DTEND;TZID=Europe/Stockholm:20251021T191500
DTSTAMP:20260421T003009
CREATED:20250826T194001Z
LAST-MODIFIED:20250907T201734Z
UID:10105-1761069600-1761074100@xn--jrnbos-buam.se
SUMMARY:Träning med Camilla
DESCRIPTION:Intervallpass/Tabata varje tisdag kl 18 i Järnboås gympasal. \n 
URL:https://xn--jrnbos-buam.se/event/traning-med-camilla/2025-10-21/
CATEGORIES:Gympa,Järnboås IF
END:VEVENT
END:VCALENDAR