BEGIN:VCALENDAR
VERSION:2.0
PRODID:-//Järnboås - ECPv6.15.14//NONSGML v1.0//EN
CALSCALE:GREGORIAN
METHOD:PUBLISH
X-ORIGINAL-URL:https://xn--jrnbos-buam.se
X-WR-CALDESC:Händelser för Järnboås
REFRESH-INTERVAL;VALUE=DURATION:PT1H
X-Robots-Tag:noindex
X-PUBLISHED-TTL:PT1H
BEGIN:VTIMEZONE
TZID:Europe/Stockholm
BEGIN:DAYLIGHT
TZOFFSETFROM:+0100
TZOFFSETTO:+0200
TZNAME:CEST
DTSTART:20240331T010000
END:DAYLIGHT
BEGIN:STANDARD
TZOFFSETFROM:+0200
TZOFFSETTO:+0100
TZNAME:CET
DTSTART:20241027T010000
END:STANDARD
BEGIN:DAYLIGHT
TZOFFSETFROM:+0100
TZOFFSETTO:+0200
TZNAME:CEST
DTSTART:20250330T010000
END:DAYLIGHT
BEGIN:STANDARD
TZOFFSETFROM:+0200
TZOFFSETTO:+0100
TZNAME:CET
DTSTART:20251026T010000
END:STANDARD
BEGIN:DAYLIGHT
TZOFFSETFROM:+0100
TZOFFSETTO:+0200
TZNAME:CEST
DTSTART:20260329T010000
END:DAYLIGHT
BEGIN:STANDARD
TZOFFSETFROM:+0200
TZOFFSETTO:+0100
TZNAME:CET
DTSTART:20261025T010000
END:STANDARD
END:VTIMEZONE
BEGIN:VEVENT
DTSTART;TZID=Europe/Stockholm:20250902T180000
DTEND;TZID=Europe/Stockholm:20250902T191500
DTSTAMP:20260421T022655
CREATED:20250826T194001Z
LAST-MODIFIED:20250907T201734Z
UID:10098-1756836000-1756840500@xn--jrnbos-buam.se
SUMMARY:Träning med Camilla
DESCRIPTION:Intervallpass/Tabata varje tisdag kl 18 i Järnboås gympasal. \n 
URL:https://xn--jrnbos-buam.se/event/traning-med-camilla/2025-09-02/
CATEGORIES:Gympa,Järnboås IF
END:VEVENT
BEGIN:VEVENT
DTSTART;TZID=Europe/Stockholm:20250909T180000
DTEND;TZID=Europe/Stockholm:20250909T191500
DTSTAMP:20260421T022655
CREATED:20250826T194001Z
LAST-MODIFIED:20250907T201734Z
UID:10099-1757440800-1757445300@xn--jrnbos-buam.se
SUMMARY:Träning med Camilla
DESCRIPTION:Intervallpass/Tabata varje tisdag kl 18 i Järnboås gympasal. \n 
URL:https://xn--jrnbos-buam.se/event/traning-med-camilla/2025-09-09/
CATEGORIES:Gympa,Järnboås IF
END:VEVENT
BEGIN:VEVENT
DTSTART;TZID=Europe/Stockholm:20250916T180000
DTEND;TZID=Europe/Stockholm:20250916T191500
DTSTAMP:20260421T022655
CREATED:20250826T194001Z
LAST-MODIFIED:20250907T201734Z
UID:10100-1758045600-1758050100@xn--jrnbos-buam.se
SUMMARY:Träning med Camilla
DESCRIPTION:Intervallpass/Tabata varje tisdag kl 18 i Järnboås gympasal. \n 
URL:https://xn--jrnbos-buam.se/event/traning-med-camilla/2025-09-16/
CATEGORIES:Gympa,Järnboås IF
END:VEVENT
BEGIN:VEVENT
DTSTART;TZID=Europe/Stockholm:20250923T180000
DTEND;TZID=Europe/Stockholm:20250923T191500
DTSTAMP:20260421T022655
CREATED:20250826T194001Z
LAST-MODIFIED:20250907T201734Z
UID:10101-1758650400-1758654900@xn--jrnbos-buam.se
SUMMARY:Träning med Camilla
DESCRIPTION:Intervallpass/Tabata varje tisdag kl 18 i Järnboås gympasal. \n 
URL:https://xn--jrnbos-buam.se/event/traning-med-camilla/2025-09-23/
CATEGORIES:Gympa,Järnboås IF
END:VEVENT
BEGIN:VEVENT
DTSTART;TZID=Europe/Stockholm:20250930T180000
DTEND;TZID=Europe/Stockholm:20250930T191500
DTSTAMP:20260421T022655
CREATED:20250826T194001Z
LAST-MODIFIED:20250907T201734Z
UID:10102-1759255200-1759259700@xn--jrnbos-buam.se
SUMMARY:Träning med Camilla
DESCRIPTION:Intervallpass/Tabata varje tisdag kl 18 i Järnboås gympasal. \n 
URL:https://xn--jrnbos-buam.se/event/traning-med-camilla/2025-09-30/
CATEGORIES:Gympa,Järnboås IF
END:VEVENT
END:VCALENDAR