BEGIN:VCALENDAR
VERSION:2.0
PRODID:-//Järnboås - ECPv6.15.14//NONSGML v1.0//EN
CALSCALE:GREGORIAN
METHOD:PUBLISH
X-WR-CALNAME:Järnboås
X-ORIGINAL-URL:https://xn--jrnbos-buam.se
X-WR-CALDESC:Händelser för Järnboås
REFRESH-INTERVAL;VALUE=DURATION:PT1H
X-Robots-Tag:noindex
X-PUBLISHED-TTL:PT1H
BEGIN:VTIMEZONE
TZID:Europe/Stockholm
BEGIN:DAYLIGHT
TZOFFSETFROM:+0100
TZOFFSETTO:+0200
TZNAME:CEST
DTSTART:20230326T010000
END:DAYLIGHT
BEGIN:STANDARD
TZOFFSETFROM:+0200
TZOFFSETTO:+0100
TZNAME:CET
DTSTART:20231029T010000
END:STANDARD
BEGIN:DAYLIGHT
TZOFFSETFROM:+0100
TZOFFSETTO:+0200
TZNAME:CEST
DTSTART:20240331T010000
END:DAYLIGHT
BEGIN:STANDARD
TZOFFSETFROM:+0200
TZOFFSETTO:+0100
TZNAME:CET
DTSTART:20241027T010000
END:STANDARD
BEGIN:DAYLIGHT
TZOFFSETFROM:+0100
TZOFFSETTO:+0200
TZNAME:CEST
DTSTART:20250330T010000
END:DAYLIGHT
BEGIN:STANDARD
TZOFFSETFROM:+0200
TZOFFSETTO:+0100
TZNAME:CET
DTSTART:20251026T010000
END:STANDARD
END:VTIMEZONE
BEGIN:VEVENT
DTSTART;TZID=Europe/Stockholm:20240515T180000
DTEND;TZID=Europe/Stockholm:20240515T190000
DTSTAMP:20260422T180429
CREATED:20240211T163512Z
LAST-MODIFIED:20240506T182912Z
UID:7833-1715796000-1715799600@xn--jrnbos-buam.se
SUMMARY:Onsdagsgympa med Solweig
DESCRIPTION:Gympa på onsdagar kl 18.00-19.00\, Järnboås Gympasal \n  \nFokus på styrka och rörlighet. Ungefär samma pass som på söndagar\, eventuellt något hårdare träning.
URL:https://xn--jrnbos-buam.se/event/onsdagsgympa-med-solweig/2024-05-15/
LOCATION:Järnboås gympasal
CATEGORIES:Gympa med Solveig,Järnboås IF
ORGANIZER;CN="J%C3%A4rnbo%C3%A5s IF":MAILTO:jarnboasif@gmail.com
END:VEVENT
END:VCALENDAR