BEGIN:VCALENDAR
VERSION:2.0
PRODID:-//Järnboås - ECPv6.15.14//NONSGML v1.0//EN
CALSCALE:GREGORIAN
METHOD:PUBLISH
X-WR-CALNAME:Järnboås
X-ORIGINAL-URL:https://xn--jrnbos-buam.se
X-WR-CALDESC:Händelser för Järnboås
REFRESH-INTERVAL;VALUE=DURATION:PT1H
X-Robots-Tag:noindex
X-PUBLISHED-TTL:PT1H
BEGIN:VTIMEZONE
TZID:Europe/Stockholm
BEGIN:DAYLIGHT
TZOFFSETFROM:+0100
TZOFFSETTO:+0200
TZNAME:CEST
DTSTART:20250330T010000
END:DAYLIGHT
BEGIN:STANDARD
TZOFFSETFROM:+0200
TZOFFSETTO:+0100
TZNAME:CET
DTSTART:20251026T010000
END:STANDARD
BEGIN:DAYLIGHT
TZOFFSETFROM:+0100
TZOFFSETTO:+0200
TZNAME:CEST
DTSTART:20260329T010000
END:DAYLIGHT
BEGIN:STANDARD
TZOFFSETFROM:+0200
TZOFFSETTO:+0100
TZNAME:CET
DTSTART:20261025T010000
END:STANDARD
BEGIN:DAYLIGHT
TZOFFSETFROM:+0100
TZOFFSETTO:+0200
TZNAME:CEST
DTSTART:20270328T010000
END:DAYLIGHT
BEGIN:STANDARD
TZOFFSETFROM:+0200
TZOFFSETTO:+0100
TZNAME:CET
DTSTART:20271031T010000
END:STANDARD
END:VTIMEZONE
BEGIN:VEVENT
DTSTART;TZID=Europe/Stockholm:20260905T111500
DTEND;TZID=Europe/Stockholm:20260905T123000
DTSTAMP:20260421T192658
CREATED:20220331T182807Z
LAST-MODIFIED:20260104T210637Z
UID:10472-1788606900-1788611400@xn--jrnbos-buam.se
SUMMARY:Gudstjänst i Nyhyttans Adventkyrka
DESCRIPTION:Gudstjänst varje lördag kl. 11.15. \nBibelstudium kl 10-11. \nBesök Nyhyttans Adventkyrkas hemsida.
URL:https://xn--jrnbos-buam.se/event/gudstjanst-i-nyhyttans-adventkyrka/2026-09-05/
LOCATION:Nyhyttans Adventkyrka
CATEGORIES:Gudstjänst
ATTACH;FMTTYPE=image/png:https://media.xn--jrnbos-buam.se/2022/03/Skarmavbild-2022-03-31-kl.-20.25.23.png
END:VEVENT
BEGIN:VEVENT
DTSTART;TZID=Europe/Stockholm:20260912T111500
DTEND;TZID=Europe/Stockholm:20260912T123000
DTSTAMP:20260421T192658
CREATED:20220331T182807Z
LAST-MODIFIED:20260104T210637Z
UID:10473-1789211700-1789216200@xn--jrnbos-buam.se
SUMMARY:Gudstjänst i Nyhyttans Adventkyrka
DESCRIPTION:Gudstjänst varje lördag kl. 11.15. \nBibelstudium kl 10-11. \nBesök Nyhyttans Adventkyrkas hemsida.
URL:https://xn--jrnbos-buam.se/event/gudstjanst-i-nyhyttans-adventkyrka/2026-09-12/
LOCATION:Nyhyttans Adventkyrka
CATEGORIES:Gudstjänst
ATTACH;FMTTYPE=image/png:https://media.xn--jrnbos-buam.se/2022/03/Skarmavbild-2022-03-31-kl.-20.25.23.png
END:VEVENT
BEGIN:VEVENT
DTSTART;TZID=Europe/Stockholm:20260919T111500
DTEND;TZID=Europe/Stockholm:20260919T123000
DTSTAMP:20260421T192658
CREATED:20220331T182807Z
LAST-MODIFIED:20260104T210637Z
UID:10474-1789816500-1789821000@xn--jrnbos-buam.se
SUMMARY:Gudstjänst i Nyhyttans Adventkyrka
DESCRIPTION:Gudstjänst varje lördag kl. 11.15. \nBibelstudium kl 10-11. \nBesök Nyhyttans Adventkyrkas hemsida.
URL:https://xn--jrnbos-buam.se/event/gudstjanst-i-nyhyttans-adventkyrka/2026-09-19/
LOCATION:Nyhyttans Adventkyrka
CATEGORIES:Gudstjänst
ATTACH;FMTTYPE=image/png:https://media.xn--jrnbos-buam.se/2022/03/Skarmavbild-2022-03-31-kl.-20.25.23.png
END:VEVENT
BEGIN:VEVENT
DTSTART;TZID=Europe/Stockholm:20260926T111500
DTEND;TZID=Europe/Stockholm:20260926T123000
DTSTAMP:20260421T192658
CREATED:20220331T182807Z
LAST-MODIFIED:20260104T210637Z
UID:10475-1790421300-1790425800@xn--jrnbos-buam.se
SUMMARY:Gudstjänst i Nyhyttans Adventkyrka
DESCRIPTION:Gudstjänst varje lördag kl. 11.15. \nBibelstudium kl 10-11. \nBesök Nyhyttans Adventkyrkas hemsida.
URL:https://xn--jrnbos-buam.se/event/gudstjanst-i-nyhyttans-adventkyrka/2026-09-26/
LOCATION:Nyhyttans Adventkyrka
CATEGORIES:Gudstjänst
ATTACH;FMTTYPE=image/png:https://media.xn--jrnbos-buam.se/2022/03/Skarmavbild-2022-03-31-kl.-20.25.23.png
END:VEVENT
END:VCALENDAR