BEGIN:VCALENDAR
VERSION:2.0
PRODID:-//Järnboås - ECPv6.15.14//NONSGML v1.0//EN
CALSCALE:GREGORIAN
METHOD:PUBLISH
X-WR-CALNAME:Järnboås
X-ORIGINAL-URL:https://xn--jrnbos-buam.se
X-WR-CALDESC:Händelser för Järnboås
REFRESH-INTERVAL;VALUE=DURATION:PT1H
X-Robots-Tag:noindex
X-PUBLISHED-TTL:PT1H
BEGIN:VTIMEZONE
TZID:Europe/Stockholm
BEGIN:DAYLIGHT
TZOFFSETFROM:+0100
TZOFFSETTO:+0200
TZNAME:CEST
DTSTART:20250330T010000
END:DAYLIGHT
BEGIN:STANDARD
TZOFFSETFROM:+0200
TZOFFSETTO:+0100
TZNAME:CET
DTSTART:20251026T010000
END:STANDARD
BEGIN:DAYLIGHT
TZOFFSETFROM:+0100
TZOFFSETTO:+0200
TZNAME:CEST
DTSTART:20260329T010000
END:DAYLIGHT
BEGIN:STANDARD
TZOFFSETFROM:+0200
TZOFFSETTO:+0100
TZNAME:CET
DTSTART:20261025T010000
END:STANDARD
BEGIN:DAYLIGHT
TZOFFSETFROM:+0100
TZOFFSETTO:+0200
TZNAME:CEST
DTSTART:20270328T010000
END:DAYLIGHT
BEGIN:STANDARD
TZOFFSETFROM:+0200
TZOFFSETTO:+0100
TZNAME:CET
DTSTART:20271031T010000
END:STANDARD
END:VTIMEZONE
BEGIN:VEVENT
DTSTART;TZID=Europe/Stockholm:20260801T111500
DTEND;TZID=Europe/Stockholm:20260801T123000
DTSTAMP:20260421T175442
CREATED:20220331T182807Z
LAST-MODIFIED:20260104T210636Z
UID:10467-1785582900-1785587400@xn--jrnbos-buam.se
SUMMARY:Gudstjänst i Nyhyttans Adventkyrka
DESCRIPTION:Gudstjänst varje lördag kl. 11.15. \nBibelstudium kl 10-11. \nBesök Nyhyttans Adventkyrkas hemsida.
URL:https://xn--jrnbos-buam.se/event/gudstjanst-i-nyhyttans-adventkyrka/2026-08-01/
LOCATION:Nyhyttans Adventkyrka
CATEGORIES:Gudstjänst
ATTACH;FMTTYPE=image/png:https://media.xn--jrnbos-buam.se/2022/03/Skarmavbild-2022-03-31-kl.-20.25.23.png
END:VEVENT
BEGIN:VEVENT
DTSTART;TZID=Europe/Stockholm:20260808T111500
DTEND;TZID=Europe/Stockholm:20260808T123000
DTSTAMP:20260421T175442
CREATED:20220331T182807Z
LAST-MODIFIED:20260104T210636Z
UID:10468-1786187700-1786192200@xn--jrnbos-buam.se
SUMMARY:Gudstjänst i Nyhyttans Adventkyrka
DESCRIPTION:Gudstjänst varje lördag kl. 11.15. \nBibelstudium kl 10-11. \nBesök Nyhyttans Adventkyrkas hemsida.
URL:https://xn--jrnbos-buam.se/event/gudstjanst-i-nyhyttans-adventkyrka/2026-08-08/
LOCATION:Nyhyttans Adventkyrka
CATEGORIES:Gudstjänst
ATTACH;FMTTYPE=image/png:https://media.xn--jrnbos-buam.se/2022/03/Skarmavbild-2022-03-31-kl.-20.25.23.png
END:VEVENT
BEGIN:VEVENT
DTSTART;TZID=Europe/Stockholm:20260815T111500
DTEND;TZID=Europe/Stockholm:20260815T123000
DTSTAMP:20260421T175442
CREATED:20220331T182807Z
LAST-MODIFIED:20260104T210636Z
UID:10469-1786792500-1786797000@xn--jrnbos-buam.se
SUMMARY:Gudstjänst i Nyhyttans Adventkyrka
DESCRIPTION:Gudstjänst varje lördag kl. 11.15. \nBibelstudium kl 10-11. \nBesök Nyhyttans Adventkyrkas hemsida.
URL:https://xn--jrnbos-buam.se/event/gudstjanst-i-nyhyttans-adventkyrka/2026-08-15/
LOCATION:Nyhyttans Adventkyrka
CATEGORIES:Gudstjänst
ATTACH;FMTTYPE=image/png:https://media.xn--jrnbos-buam.se/2022/03/Skarmavbild-2022-03-31-kl.-20.25.23.png
END:VEVENT
BEGIN:VEVENT
DTSTART;TZID=Europe/Stockholm:20260822T111500
DTEND;TZID=Europe/Stockholm:20260822T123000
DTSTAMP:20260421T175442
CREATED:20220331T182807Z
LAST-MODIFIED:20260104T210636Z
UID:10470-1787397300-1787401800@xn--jrnbos-buam.se
SUMMARY:Gudstjänst i Nyhyttans Adventkyrka
DESCRIPTION:Gudstjänst varje lördag kl. 11.15. \nBibelstudium kl 10-11. \nBesök Nyhyttans Adventkyrkas hemsida.
URL:https://xn--jrnbos-buam.se/event/gudstjanst-i-nyhyttans-adventkyrka/2026-08-22/
LOCATION:Nyhyttans Adventkyrka
CATEGORIES:Gudstjänst
ATTACH;FMTTYPE=image/png:https://media.xn--jrnbos-buam.se/2022/03/Skarmavbild-2022-03-31-kl.-20.25.23.png
END:VEVENT
BEGIN:VEVENT
DTSTART;TZID=Europe/Stockholm:20260829T111500
DTEND;TZID=Europe/Stockholm:20260829T123000
DTSTAMP:20260421T175442
CREATED:20220331T182807Z
LAST-MODIFIED:20260104T210637Z
UID:10471-1788002100-1788006600@xn--jrnbos-buam.se
SUMMARY:Gudstjänst i Nyhyttans Adventkyrka
DESCRIPTION:Gudstjänst varje lördag kl. 11.15. \nBibelstudium kl 10-11. \nBesök Nyhyttans Adventkyrkas hemsida.
URL:https://xn--jrnbos-buam.se/event/gudstjanst-i-nyhyttans-adventkyrka/2026-08-29/
LOCATION:Nyhyttans Adventkyrka
CATEGORIES:Gudstjänst
ATTACH;FMTTYPE=image/png:https://media.xn--jrnbos-buam.se/2022/03/Skarmavbild-2022-03-31-kl.-20.25.23.png
END:VEVENT
END:VCALENDAR