BEGIN:VCALENDAR
VERSION:2.0
PRODID:-//Järnboås - ECPv6.15.14//NONSGML v1.0//EN
CALSCALE:GREGORIAN
METHOD:PUBLISH
X-ORIGINAL-URL:https://xn--jrnbos-buam.se
X-WR-CALDESC:Händelser för Järnboås
REFRESH-INTERVAL;VALUE=DURATION:PT1H
X-Robots-Tag:noindex
X-PUBLISHED-TTL:PT1H
BEGIN:VTIMEZONE
TZID:Europe/Stockholm
BEGIN:DAYLIGHT
TZOFFSETFROM:+0100
TZOFFSETTO:+0200
TZNAME:CEST
DTSTART:20240331T010000
END:DAYLIGHT
BEGIN:STANDARD
TZOFFSETFROM:+0200
TZOFFSETTO:+0100
TZNAME:CET
DTSTART:20241027T010000
END:STANDARD
BEGIN:DAYLIGHT
TZOFFSETFROM:+0100
TZOFFSETTO:+0200
TZNAME:CEST
DTSTART:20250330T010000
END:DAYLIGHT
BEGIN:STANDARD
TZOFFSETFROM:+0200
TZOFFSETTO:+0100
TZNAME:CET
DTSTART:20251026T010000
END:STANDARD
BEGIN:DAYLIGHT
TZOFFSETFROM:+0100
TZOFFSETTO:+0200
TZNAME:CEST
DTSTART:20260329T010000
END:DAYLIGHT
BEGIN:STANDARD
TZOFFSETFROM:+0200
TZOFFSETTO:+0100
TZNAME:CET
DTSTART:20261025T010000
END:STANDARD
END:VTIMEZONE
BEGIN:VEVENT
DTSTART;TZID=Europe/Stockholm:20250907T150000
DTEND;TZID=Europe/Stockholm:20250907T170000
DTSTAMP:20260421T192932
CREATED:20250907T202040Z
LAST-MODIFIED:20250907T202040Z
UID:10144-1757257200-1757264400@xn--jrnbos-buam.se
SUMMARY:Järnboås IF hemmamatch
DESCRIPTION:Järnboås IF:s hemmamatcher på Järnboås IP för hösten \n7/9 kl.11.00 mot Bobby BK\n13/9 kl.15.00 mot Axbergs IF\n28/9 kl.11.00 mot Hällefors AIF
URL:https://xn--jrnbos-buam.se/event/jarnboas-if-hemmamatch/2025-09-07/
CATEGORIES:Fotboll,Järnboås IF
END:VEVENT
BEGIN:VEVENT
DTSTART;TZID=Europe/Stockholm:20250913T150000
DTEND;TZID=Europe/Stockholm:20250913T170000
DTSTAMP:20260421T192932
CREATED:20250907T202040Z
LAST-MODIFIED:20250907T202040Z
UID:10145-1757775600-1757782800@xn--jrnbos-buam.se
SUMMARY:Järnboås IF hemmamatch
DESCRIPTION:Järnboås IF:s hemmamatcher på Järnboås IP för hösten \n7/9 kl.11.00 mot Bobby BK\n13/9 kl.15.00 mot Axbergs IF\n28/9 kl.11.00 mot Hällefors AIF
URL:https://xn--jrnbos-buam.se/event/jarnboas-if-hemmamatch/2025-09-13/
CATEGORIES:Fotboll,Järnboås IF
END:VEVENT
BEGIN:VEVENT
DTSTART;TZID=Europe/Stockholm:20250928T110000
DTEND;TZID=Europe/Stockholm:20250928T170000
DTSTAMP:20260421T192932
CREATED:20250907T202040Z
LAST-MODIFIED:20250907T202040Z
UID:10146-1759057200-1759078800@xn--jrnbos-buam.se
SUMMARY:Järnboås IF hemmamatch
DESCRIPTION:Järnboås IF:s hemmamatcher på Järnboås IP för hösten \n7/9 kl.11.00 mot Bobby BK\n13/9 kl.15.00 mot Axbergs IF\n28/9 kl.11.00 mot Hällefors AIF
URL:https://xn--jrnbos-buam.se/event/jarnboas-if-hemmamatch/2025-09-28/
CATEGORIES:Fotboll,Järnboås IF
END:VEVENT
END:VCALENDAR