BEGIN:VCALENDAR
VERSION:2.0
PRODID:-//Järnboås - ECPv6.15.14//NONSGML v1.0//EN
CALSCALE:GREGORIAN
METHOD:PUBLISH
X-ORIGINAL-URL:https://xn--jrnbos-buam.se
X-WR-CALDESC:Händelser för Järnboås
REFRESH-INTERVAL;VALUE=DURATION:PT1H
X-Robots-Tag:noindex
X-PUBLISHED-TTL:PT1H
BEGIN:VTIMEZONE
TZID:Europe/Stockholm
BEGIN:DAYLIGHT
TZOFFSETFROM:+0100
TZOFFSETTO:+0200
TZNAME:CEST
DTSTART:20230326T010000
END:DAYLIGHT
BEGIN:STANDARD
TZOFFSETFROM:+0200
TZOFFSETTO:+0100
TZNAME:CET
DTSTART:20231029T010000
END:STANDARD
BEGIN:DAYLIGHT
TZOFFSETFROM:+0100
TZOFFSETTO:+0200
TZNAME:CEST
DTSTART:20240331T010000
END:DAYLIGHT
BEGIN:STANDARD
TZOFFSETFROM:+0200
TZOFFSETTO:+0100
TZNAME:CET
DTSTART:20241027T010000
END:STANDARD
BEGIN:DAYLIGHT
TZOFFSETFROM:+0100
TZOFFSETTO:+0200
TZNAME:CEST
DTSTART:20250330T010000
END:DAYLIGHT
BEGIN:STANDARD
TZOFFSETFROM:+0200
TZOFFSETTO:+0100
TZNAME:CET
DTSTART:20251026T010000
END:STANDARD
END:VTIMEZONE
BEGIN:VEVENT
DTSTART;TZID=Europe/Stockholm:20240706T100000
DTEND;TZID=Europe/Stockholm:20240706T160000
DTSTAMP:20260422T025023
CREATED:20240710T124735Z
LAST-MODIFIED:20240710T124735Z
UID:8328-1720260000-1720281600@xn--jrnbos-buam.se
SUMMARY:Bergslagens bokloppis
DESCRIPTION:SHOIF och Bredsjö Kulturkooperativ driver sedan 2003 Bergslagens Bokloppis – Skandinaviens största i Södra Hyttan. Öppet helger 29/6 till 11/8 2024 kl. 10-16.Café. Betalning: Kontanter\, kort och Swish.www.bokloppis.se
URL:https://xn--jrnbos-buam.se/event/bergslagens-bokloppis/2024-07-06/
CATEGORIES:Föreningsaktivitet,Kultur,Loppis
ATTACH;FMTTYPE=image/jpeg:https://media.xn--jrnbos-buam.se/2024/07/bokloppisOppettider24.jpg
END:VEVENT
BEGIN:VEVENT
DTSTART;TZID=Europe/Stockholm:20240707T100000
DTEND;TZID=Europe/Stockholm:20240707T160000
DTSTAMP:20260422T025023
CREATED:20240710T124735Z
LAST-MODIFIED:20240710T124735Z
UID:8329-1720346400-1720368000@xn--jrnbos-buam.se
SUMMARY:Bergslagens bokloppis
DESCRIPTION:SHOIF och Bredsjö Kulturkooperativ driver sedan 2003 Bergslagens Bokloppis – Skandinaviens största i Södra Hyttan. Öppet helger 29/6 till 11/8 2024 kl. 10-16.Café. Betalning: Kontanter\, kort och Swish.www.bokloppis.se
URL:https://xn--jrnbos-buam.se/event/bergslagens-bokloppis/2024-07-07/
CATEGORIES:Föreningsaktivitet,Kultur,Loppis
ATTACH;FMTTYPE=image/jpeg:https://media.xn--jrnbos-buam.se/2024/07/bokloppisOppettider24.jpg
END:VEVENT
BEGIN:VEVENT
DTSTART;TZID=Europe/Stockholm:20240713T100000
DTEND;TZID=Europe/Stockholm:20240713T160000
DTSTAMP:20260422T025023
CREATED:20240710T124735Z
LAST-MODIFIED:20240710T124735Z
UID:8330-1720864800-1720886400@xn--jrnbos-buam.se
SUMMARY:Bergslagens bokloppis
DESCRIPTION:SHOIF och Bredsjö Kulturkooperativ driver sedan 2003 Bergslagens Bokloppis – Skandinaviens största i Södra Hyttan. Öppet helger 29/6 till 11/8 2024 kl. 10-16.Café. Betalning: Kontanter\, kort och Swish.www.bokloppis.se
URL:https://xn--jrnbos-buam.se/event/bergslagens-bokloppis/2024-07-13/
CATEGORIES:Föreningsaktivitet,Kultur,Loppis
ATTACH;FMTTYPE=image/jpeg:https://media.xn--jrnbos-buam.se/2024/07/bokloppisOppettider24.jpg
END:VEVENT
BEGIN:VEVENT
DTSTART;TZID=Europe/Stockholm:20240714T100000
DTEND;TZID=Europe/Stockholm:20240714T160000
DTSTAMP:20260422T025023
CREATED:20240710T124735Z
LAST-MODIFIED:20240710T124735Z
UID:8331-1720951200-1720972800@xn--jrnbos-buam.se
SUMMARY:Bergslagens bokloppis
DESCRIPTION:SHOIF och Bredsjö Kulturkooperativ driver sedan 2003 Bergslagens Bokloppis – Skandinaviens största i Södra Hyttan. Öppet helger 29/6 till 11/8 2024 kl. 10-16.Café. Betalning: Kontanter\, kort och Swish.www.bokloppis.se
URL:https://xn--jrnbos-buam.se/event/bergslagens-bokloppis/2024-07-14/
CATEGORIES:Föreningsaktivitet,Kultur,Loppis
ATTACH;FMTTYPE=image/jpeg:https://media.xn--jrnbos-buam.se/2024/07/bokloppisOppettider24.jpg
END:VEVENT
BEGIN:VEVENT
DTSTART;TZID=Europe/Stockholm:20240720T100000
DTEND;TZID=Europe/Stockholm:20240720T160000
DTSTAMP:20260422T025023
CREATED:20240710T124735Z
LAST-MODIFIED:20240710T124735Z
UID:8332-1721469600-1721491200@xn--jrnbos-buam.se
SUMMARY:Bergslagens bokloppis
DESCRIPTION:SHOIF och Bredsjö Kulturkooperativ driver sedan 2003 Bergslagens Bokloppis – Skandinaviens största i Södra Hyttan. Öppet helger 29/6 till 11/8 2024 kl. 10-16.Café. Betalning: Kontanter\, kort och Swish.www.bokloppis.se
URL:https://xn--jrnbos-buam.se/event/bergslagens-bokloppis/2024-07-20/
CATEGORIES:Föreningsaktivitet,Kultur,Loppis
ATTACH;FMTTYPE=image/jpeg:https://media.xn--jrnbos-buam.se/2024/07/bokloppisOppettider24.jpg
END:VEVENT
BEGIN:VEVENT
DTSTART;TZID=Europe/Stockholm:20240721T100000
DTEND;TZID=Europe/Stockholm:20240721T160000
DTSTAMP:20260422T025023
CREATED:20240710T124735Z
LAST-MODIFIED:20240710T124735Z
UID:8333-1721556000-1721577600@xn--jrnbos-buam.se
SUMMARY:Bergslagens bokloppis
DESCRIPTION:SHOIF och Bredsjö Kulturkooperativ driver sedan 2003 Bergslagens Bokloppis – Skandinaviens största i Södra Hyttan. Öppet helger 29/6 till 11/8 2024 kl. 10-16.Café. Betalning: Kontanter\, kort och Swish.www.bokloppis.se
URL:https://xn--jrnbos-buam.se/event/bergslagens-bokloppis/2024-07-21/
CATEGORIES:Föreningsaktivitet,Kultur,Loppis
ATTACH;FMTTYPE=image/jpeg:https://media.xn--jrnbos-buam.se/2024/07/bokloppisOppettider24.jpg
END:VEVENT
BEGIN:VEVENT
DTSTART;TZID=Europe/Stockholm:20240727T100000
DTEND;TZID=Europe/Stockholm:20240727T160000
DTSTAMP:20260422T025023
CREATED:20240710T124735Z
LAST-MODIFIED:20240710T124735Z
UID:8334-1722074400-1722096000@xn--jrnbos-buam.se
SUMMARY:Bergslagens bokloppis
DESCRIPTION:SHOIF och Bredsjö Kulturkooperativ driver sedan 2003 Bergslagens Bokloppis – Skandinaviens största i Södra Hyttan. Öppet helger 29/6 till 11/8 2024 kl. 10-16.Café. Betalning: Kontanter\, kort och Swish.www.bokloppis.se
URL:https://xn--jrnbos-buam.se/event/bergslagens-bokloppis/2024-07-27/
CATEGORIES:Föreningsaktivitet,Kultur,Loppis
ATTACH;FMTTYPE=image/jpeg:https://media.xn--jrnbos-buam.se/2024/07/bokloppisOppettider24.jpg
END:VEVENT
BEGIN:VEVENT
DTSTART;TZID=Europe/Stockholm:20240728T100000
DTEND;TZID=Europe/Stockholm:20240728T160000
DTSTAMP:20260422T025023
CREATED:20240710T124735Z
LAST-MODIFIED:20240710T124735Z
UID:8335-1722160800-1722182400@xn--jrnbos-buam.se
SUMMARY:Bergslagens bokloppis
DESCRIPTION:SHOIF och Bredsjö Kulturkooperativ driver sedan 2003 Bergslagens Bokloppis – Skandinaviens största i Södra Hyttan. Öppet helger 29/6 till 11/8 2024 kl. 10-16.Café. Betalning: Kontanter\, kort och Swish.www.bokloppis.se
URL:https://xn--jrnbos-buam.se/event/bergslagens-bokloppis/2024-07-28/
CATEGORIES:Föreningsaktivitet,Kultur,Loppis
ATTACH;FMTTYPE=image/jpeg:https://media.xn--jrnbos-buam.se/2024/07/bokloppisOppettider24.jpg
END:VEVENT
END:VCALENDAR