BEGIN:VCALENDAR
VERSION:2.0
PRODID:-//Järnboås - ECPv6.15.14//NONSGML v1.0//EN
CALSCALE:GREGORIAN
METHOD:PUBLISH
X-ORIGINAL-URL:https://xn--jrnbos-buam.se
X-WR-CALDESC:Händelser för Järnboås
REFRESH-INTERVAL;VALUE=DURATION:PT1H
X-Robots-Tag:noindex
X-PUBLISHED-TTL:PT1H
BEGIN:VTIMEZONE
TZID:Europe/Stockholm
BEGIN:DAYLIGHT
TZOFFSETFROM:+0100
TZOFFSETTO:+0200
TZNAME:CEST
DTSTART:20230326T010000
END:DAYLIGHT
BEGIN:STANDARD
TZOFFSETFROM:+0200
TZOFFSETTO:+0100
TZNAME:CET
DTSTART:20231029T010000
END:STANDARD
BEGIN:DAYLIGHT
TZOFFSETFROM:+0100
TZOFFSETTO:+0200
TZNAME:CEST
DTSTART:20240331T010000
END:DAYLIGHT
BEGIN:STANDARD
TZOFFSETFROM:+0200
TZOFFSETTO:+0100
TZNAME:CET
DTSTART:20241027T010000
END:STANDARD
BEGIN:DAYLIGHT
TZOFFSETFROM:+0100
TZOFFSETTO:+0200
TZNAME:CEST
DTSTART:20250330T010000
END:DAYLIGHT
BEGIN:STANDARD
TZOFFSETFROM:+0200
TZOFFSETTO:+0100
TZNAME:CET
DTSTART:20251026T010000
END:STANDARD
END:VTIMEZONE
BEGIN:VEVENT
DTSTART;TZID=Europe/Stockholm:20240616T100000
DTEND;TZID=Europe/Stockholm:20240616T170000
DTSTAMP:20260422T042600
CREATED:20240613T161740Z
LAST-MODIFIED:20240613T161740Z
UID:8249-1718532000-1718557200@xn--jrnbos-buam.se
SUMMARY:Blåbärshoppning med Klackaryttarnas ridklubb
DESCRIPTION:Söndag 16 juni från kl 10.
URL:https://xn--jrnbos-buam.se/event/blabarshoppning-med-klackaryttarnas-ridklubb/
CATEGORIES:Föreningsaktivitet
ATTACH;FMTTYPE=image/png:https://media.xn--jrnbos-buam.se/2024/06/klackaryttarna.png
END:VEVENT
BEGIN:VEVENT
DTSTART;TZID=Europe/Stockholm:20240629T100000
DTEND;TZID=Europe/Stockholm:20240629T160000
DTSTAMP:20260422T042600
CREATED:20240710T124735Z
LAST-MODIFIED:20240710T124735Z
UID:8325-1719655200-1719676800@xn--jrnbos-buam.se
SUMMARY:Bergslagens bokloppis
DESCRIPTION:SHOIF och Bredsjö Kulturkooperativ driver sedan 2003 Bergslagens Bokloppis – Skandinaviens största i Södra Hyttan. Öppet helger 29/6 till 11/8 2024 kl. 10-16.Café. Betalning: Kontanter\, kort och Swish.www.bokloppis.se
URL:https://xn--jrnbos-buam.se/event/bergslagens-bokloppis/2024-06-29/
CATEGORIES:Föreningsaktivitet,Kultur,Loppis
ATTACH;FMTTYPE=image/jpeg:https://media.xn--jrnbos-buam.se/2024/07/bokloppisOppettider24.jpg
END:VEVENT
BEGIN:VEVENT
DTSTART;TZID=Europe/Stockholm:20240630T100000
DTEND;TZID=Europe/Stockholm:20240630T160000
DTSTAMP:20260422T042600
CREATED:20240710T124735Z
LAST-MODIFIED:20240710T124735Z
UID:8327-1719741600-1719763200@xn--jrnbos-buam.se
SUMMARY:Bergslagens bokloppis
DESCRIPTION:SHOIF och Bredsjö Kulturkooperativ driver sedan 2003 Bergslagens Bokloppis – Skandinaviens största i Södra Hyttan. Öppet helger 29/6 till 11/8 2024 kl. 10-16.Café. Betalning: Kontanter\, kort och Swish.www.bokloppis.se
URL:https://xn--jrnbos-buam.se/event/bergslagens-bokloppis/2024-06-30/
CATEGORIES:Föreningsaktivitet,Kultur,Loppis
ATTACH;FMTTYPE=image/jpeg:https://media.xn--jrnbos-buam.se/2024/07/bokloppisOppettider24.jpg
END:VEVENT
END:VCALENDAR