BEGIN:VCALENDAR
VERSION:2.0
PRODID:-//Järnboås - ECPv6.15.14//NONSGML v1.0//EN
CALSCALE:GREGORIAN
METHOD:PUBLISH
X-WR-CALNAME:Järnboås
X-ORIGINAL-URL:https://xn--jrnbos-buam.se
X-WR-CALDESC:Händelser för Järnboås
REFRESH-INTERVAL;VALUE=DURATION:PT1H
X-Robots-Tag:noindex
X-PUBLISHED-TTL:PT1H
BEGIN:VTIMEZONE
TZID:Europe/Stockholm
BEGIN:DAYLIGHT
TZOFFSETFROM:+0100
TZOFFSETTO:+0200
TZNAME:CEST
DTSTART:20220327T010000
END:DAYLIGHT
BEGIN:STANDARD
TZOFFSETFROM:+0200
TZOFFSETTO:+0100
TZNAME:CET
DTSTART:20221030T010000
END:STANDARD
BEGIN:DAYLIGHT
TZOFFSETFROM:+0100
TZOFFSETTO:+0200
TZNAME:CEST
DTSTART:20230326T010000
END:DAYLIGHT
BEGIN:STANDARD
TZOFFSETFROM:+0200
TZOFFSETTO:+0100
TZNAME:CET
DTSTART:20231029T010000
END:STANDARD
BEGIN:DAYLIGHT
TZOFFSETFROM:+0100
TZOFFSETTO:+0200
TZNAME:CEST
DTSTART:20240331T010000
END:DAYLIGHT
BEGIN:STANDARD
TZOFFSETFROM:+0200
TZOFFSETTO:+0100
TZNAME:CET
DTSTART:20241027T010000
END:STANDARD
END:VTIMEZONE
BEGIN:VEVENT
DTSTART;TZID=Europe/Stockholm:20231022T100000
DTEND;TZID=Europe/Stockholm:20231022T130000
DTSTAMP:20260424T164551
CREATED:20231011T164944Z
LAST-MODIFIED:20231011T164944Z
UID:7341-1697968800-1697979600@xn--jrnbos-buam.se
SUMMARY:Barnloppis i Järnboås
DESCRIPTION:Anmäl er till Barnloppis i\nGympasalen Järnboås \nSöndag 22/10\, kl 10-13 \nBara barnprylar och kläder \n0-13 år \nKorv och Fika\n50 kr/bord swichas på plats \nAnmälan: \nSmsa 070-597 6464 Solweig\nSmsa Anna-Carin 076-1998 350 \nVälkomna! \nJärnboås Idrottsförening och\nbygdegårdsförening
URL:https://xn--jrnbos-buam.se/event/barnloppis-i-jarnboas/
LOCATION:Järnboås gympasal
CATEGORIES:Barnaktiviteter,Föreningsaktivitet,Järnboås bygdegårdsförening,Järnboås IF,Kulturveckan
ATTACH;FMTTYPE=image/png:https://media.xn--jrnbos-buam.se/2023/10/loppis.png
END:VEVENT
END:VCALENDAR