BEGIN:VCALENDAR
VERSION:2.0
PRODID:-//Järnboås - ECPv6.15.14//NONSGML v1.0//EN
CALSCALE:GREGORIAN
METHOD:PUBLISH
X-ORIGINAL-URL:https://xn--jrnbos-buam.se
X-WR-CALDESC:Händelser för Järnboås
REFRESH-INTERVAL;VALUE=DURATION:PT1H
X-Robots-Tag:noindex
X-PUBLISHED-TTL:PT1H
BEGIN:VTIMEZONE
TZID:Europe/Stockholm
BEGIN:DAYLIGHT
TZOFFSETFROM:+0100
TZOFFSETTO:+0200
TZNAME:CEST
DTSTART:20220327T010000
END:DAYLIGHT
BEGIN:STANDARD
TZOFFSETFROM:+0200
TZOFFSETTO:+0100
TZNAME:CET
DTSTART:20221030T010000
END:STANDARD
BEGIN:DAYLIGHT
TZOFFSETFROM:+0100
TZOFFSETTO:+0200
TZNAME:CEST
DTSTART:20230326T010000
END:DAYLIGHT
BEGIN:STANDARD
TZOFFSETFROM:+0200
TZOFFSETTO:+0100
TZNAME:CET
DTSTART:20231029T010000
END:STANDARD
BEGIN:DAYLIGHT
TZOFFSETFROM:+0100
TZOFFSETTO:+0200
TZNAME:CEST
DTSTART:20240331T010000
END:DAYLIGHT
BEGIN:STANDARD
TZOFFSETFROM:+0200
TZOFFSETTO:+0100
TZNAME:CET
DTSTART:20241027T010000
END:STANDARD
END:VTIMEZONE
BEGIN:VEVENT
DTSTART;TZID=Europe/Stockholm:20230423T100000
DTEND;TZID=Europe/Stockholm:20230423T170000
DTSTAMP:20260425T005105
CREATED:20230328T171856Z
LAST-MODIFIED:20230328T171856Z
UID:6751-1682244000-1682269200@xn--jrnbos-buam.se
SUMMARY:Städdag vid Finnsjöns norra badplats
DESCRIPTION:Den 23/4 kl. 10.00 är det städdag vid norra badplatsen vid Finnsjön! \nMedtag matsäck! \nKl. 14.00 medlemsmöte! \nVälkomna alla som gladeligen använder badplatsen!
URL:https://xn--jrnbos-buam.se/event/staddag-vid-finnsjons-norra-badplats/
CATEGORIES:Föreningsaktivitet
ATTACH;FMTTYPE=image/png:https://media.xn--jrnbos-buam.se/2023/03/stadDag.png
END:VEVENT
END:VCALENDAR