BEGIN:VCALENDAR
VERSION:2.0
PRODID:-//Järnboås - ECPv6.15.14//NONSGML v1.0//EN
CALSCALE:GREGORIAN
METHOD:PUBLISH
X-WR-CALNAME:Järnboås
X-ORIGINAL-URL:https://xn--jrnbos-buam.se
X-WR-CALDESC:Händelser för Järnboås
REFRESH-INTERVAL;VALUE=DURATION:PT1H
X-Robots-Tag:noindex
X-PUBLISHED-TTL:PT1H
BEGIN:VTIMEZONE
TZID:Europe/Stockholm
BEGIN:DAYLIGHT
TZOFFSETFROM:+0100
TZOFFSETTO:+0200
TZNAME:CEST
DTSTART:20210328T010000
END:DAYLIGHT
BEGIN:STANDARD
TZOFFSETFROM:+0200
TZOFFSETTO:+0100
TZNAME:CET
DTSTART:20211031T010000
END:STANDARD
BEGIN:DAYLIGHT
TZOFFSETFROM:+0100
TZOFFSETTO:+0200
TZNAME:CEST
DTSTART:20220327T010000
END:DAYLIGHT
BEGIN:STANDARD
TZOFFSETFROM:+0200
TZOFFSETTO:+0100
TZNAME:CET
DTSTART:20221030T010000
END:STANDARD
BEGIN:DAYLIGHT
TZOFFSETFROM:+0100
TZOFFSETTO:+0200
TZNAME:CEST
DTSTART:20230326T010000
END:DAYLIGHT
BEGIN:STANDARD
TZOFFSETFROM:+0200
TZOFFSETTO:+0100
TZNAME:CET
DTSTART:20231029T010000
END:STANDARD
END:VTIMEZONE
BEGIN:VEVENT
DTSTART;TZID=Europe/Stockholm:20220424T100000
DTEND;TZID=Europe/Stockholm:20220424T120000
DTSTAMP:20260425T191718
CREATED:20220414T091708Z
LAST-MODIFIED:20220414T091708Z
UID:5175-1650794400-1650801600@xn--jrnbos-buam.se
SUMMARY:Städdag på Finnsjöstrand
DESCRIPTION:Välkommen på städ och fika på Finnsjöstrand.\n\n\n\nSöndag 24 april kl 10.\n\n\n\nVi ses!
URL:https://xn--jrnbos-buam.se/event/staddag-pa-finnsjostrand/
CATEGORIES:Föreningsaktivitet,Livet på landet
ATTACH;FMTTYPE=image/jpeg:https://media.xn--jrnbos-buam.se/2022/04/staddag.jpg
END:VEVENT
BEGIN:VEVENT
DTSTART;TZID=Europe/Stockholm:20220430T193000
DTEND;TZID=Europe/Stockholm:20220430T213000
DTSTAMP:20260425T191718
CREATED:20220410T095519Z
LAST-MODIFIED:20220410T095637Z
UID:5148-1651347000-1651354200@xn--jrnbos-buam.se
SUMMARY:Valborgsfirande
DESCRIPTION:Fira Valborgsmässoafton i Järnboås! \n\n\n\nVi samlas Valborgsmässoafton (lördagen den 30 april) på bygdegården Finnsjöstrand. \nKaffeserveringen börjar 19.30 och sköts av klass 5-6 på Järnboås skola. De samlar även in pantflaskor för att få in pengar till klasskassorna\, så spara gärna och skänk dem till barnen. \nCa 20.30 vårtal av Erik Majholm. Efter vårtalet sjunger Bygdekören under ledning av Björn Eckerot. \nUngdomarna går med facklor till brasan och tänder den.
URL:https://xn--jrnbos-buam.se/event/valborgsfirande/
LOCATION:Finnsjöstrand
CATEGORIES:Barnaktiviteter,Föreningsaktivitet,Järnboås bygdegårdsförening,Körsång,Kultur,Mat och äta
END:VEVENT
END:VCALENDAR