BEGIN:VCALENDAR
VERSION:2.0
PRODID:-//Järnboås - ECPv6.15.14//NONSGML v1.0//EN
CALSCALE:GREGORIAN
METHOD:PUBLISH
X-ORIGINAL-URL:https://xn--jrnbos-buam.se
X-WR-CALDESC:Händelser för Järnboås
REFRESH-INTERVAL;VALUE=DURATION:PT1H
X-Robots-Tag:noindex
X-PUBLISHED-TTL:PT1H
BEGIN:VTIMEZONE
TZID:Europe/Stockholm
BEGIN:DAYLIGHT
TZOFFSETFROM:+0100
TZOFFSETTO:+0200
TZNAME:CEST
DTSTART:20210328T010000
END:DAYLIGHT
BEGIN:STANDARD
TZOFFSETFROM:+0200
TZOFFSETTO:+0100
TZNAME:CET
DTSTART:20211031T010000
END:STANDARD
BEGIN:DAYLIGHT
TZOFFSETFROM:+0100
TZOFFSETTO:+0200
TZNAME:CEST
DTSTART:20220327T010000
END:DAYLIGHT
BEGIN:STANDARD
TZOFFSETFROM:+0200
TZOFFSETTO:+0100
TZNAME:CET
DTSTART:20221030T010000
END:STANDARD
BEGIN:DAYLIGHT
TZOFFSETFROM:+0100
TZOFFSETTO:+0200
TZNAME:CEST
DTSTART:20230326T010000
END:DAYLIGHT
BEGIN:STANDARD
TZOFFSETFROM:+0200
TZOFFSETTO:+0100
TZNAME:CET
DTSTART:20231029T010000
END:STANDARD
END:VTIMEZONE
BEGIN:VEVENT
DTSTART;TZID=Europe/Stockholm:20220507T100000
DTEND;TZID=Europe/Stockholm:20220507T140000
DTSTAMP:20260425T190647
CREATED:20220414T083126Z
LAST-MODIFIED:20220414T083126Z
UID:5167-1651917600-1651932000@xn--jrnbos-buam.se
SUMMARY:Nora Moppers
DESCRIPTION:Nora Moppers ordnar Mopedrally i Finnsjöstrand\, Järnboås. \nNÄR: Lördag 7 maj\, start kl 11. \nSamling kl 10 med kaffe och macka. \nVi kör på fina grusvägar ca 4-5 mil. Vid målgång blir det hamburgare med tillbehör. Även försäljning av hamburgarre till besökare/publik. \nPRIS: 150 kr swish eller kontant. Betalning på plats. \nANMÄLAN: SMSa senast 1 maj till 070-287 36 78 eller 070-543 10 37 \n 
URL:https://xn--jrnbos-buam.se/event/nora-moppers/
CATEGORIES:Fordon,Kultur
ATTACH;FMTTYPE=image/jpeg:https://media.xn--jrnbos-buam.se/2022/04/NoraMoppers.jpg
END:VEVENT
END:VCALENDAR