BEGIN:VCALENDAR
VERSION:2.0
PRODID:-//Järnboås - ECPv6.15.14//NONSGML v1.0//EN
CALSCALE:GREGORIAN
METHOD:PUBLISH
X-ORIGINAL-URL:https://xn--jrnbos-buam.se
X-WR-CALDESC:Händelser för Järnboås
REFRESH-INTERVAL;VALUE=DURATION:PT1H
X-Robots-Tag:noindex
X-PUBLISHED-TTL:PT1H
BEGIN:VTIMEZONE
TZID:Europe/Stockholm
BEGIN:DAYLIGHT
TZOFFSETFROM:+0100
TZOFFSETTO:+0200
TZNAME:CEST
DTSTART:20230326T010000
END:DAYLIGHT
BEGIN:STANDARD
TZOFFSETFROM:+0200
TZOFFSETTO:+0100
TZNAME:CET
DTSTART:20231029T010000
END:STANDARD
BEGIN:DAYLIGHT
TZOFFSETFROM:+0100
TZOFFSETTO:+0200
TZNAME:CEST
DTSTART:20240331T010000
END:DAYLIGHT
BEGIN:STANDARD
TZOFFSETFROM:+0200
TZOFFSETTO:+0100
TZNAME:CET
DTSTART:20241027T010000
END:STANDARD
BEGIN:DAYLIGHT
TZOFFSETFROM:+0100
TZOFFSETTO:+0200
TZNAME:CEST
DTSTART:20250330T010000
END:DAYLIGHT
BEGIN:STANDARD
TZOFFSETFROM:+0200
TZOFFSETTO:+0100
TZNAME:CET
DTSTART:20251026T010000
END:STANDARD
END:VTIMEZONE
BEGIN:VEVENT
DTSTART;TZID=Europe/Stockholm:20240508T180000
DTEND;TZID=Europe/Stockholm:20240508T190000
DTSTAMP:20260422T235117
CREATED:20240414T122910Z
LAST-MODIFIED:20240414T123252Z
UID:8062-1715191200-1715194800@xn--jrnbos-buam.se
SUMMARY:Årsmöte föräldraföreningen
DESCRIPTION:Föräldraföreningen bjuder in till årsmöte. Alla föräldrar till barn i skolan och förskolan är välkomna.Onsdag 8 maj klockan 18.00Järnboås skola. Ute vid fint väder\, annars inne i matsalen. Varmt välkomna!
URL:https://xn--jrnbos-buam.se/event/arsmote-foraldraforeningen/
LOCATION:Järnboås skola
CATEGORIES:Årsmöte,Föräldraföreningen,Järnboås skola
ATTACH;FMTTYPE=image/jpeg:https://media.xn--jrnbos-buam.se/2024/04/ffArsmote24.jpg
END:VEVENT
END:VCALENDAR