BEGIN:VCALENDAR
VERSION:2.0
PRODID:-//Järnboås - ECPv6.15.14//NONSGML v1.0//EN
CALSCALE:GREGORIAN
METHOD:PUBLISH
X-ORIGINAL-URL:https://xn--jrnbos-buam.se
X-WR-CALDESC:Händelser för Järnboås
REFRESH-INTERVAL;VALUE=DURATION:PT1H
X-Robots-Tag:noindex
X-PUBLISHED-TTL:PT1H
BEGIN:VTIMEZONE
TZID:Europe/Stockholm
BEGIN:DAYLIGHT
TZOFFSETFROM:+0100
TZOFFSETTO:+0200
TZNAME:CEST
DTSTART:20230326T010000
END:DAYLIGHT
BEGIN:STANDARD
TZOFFSETFROM:+0200
TZOFFSETTO:+0100
TZNAME:CET
DTSTART:20231029T010000
END:STANDARD
BEGIN:DAYLIGHT
TZOFFSETFROM:+0100
TZOFFSETTO:+0200
TZNAME:CEST
DTSTART:20240331T010000
END:DAYLIGHT
BEGIN:STANDARD
TZOFFSETFROM:+0200
TZOFFSETTO:+0100
TZNAME:CET
DTSTART:20241027T010000
END:STANDARD
BEGIN:DAYLIGHT
TZOFFSETFROM:+0100
TZOFFSETTO:+0200
TZNAME:CEST
DTSTART:20250330T010000
END:DAYLIGHT
BEGIN:STANDARD
TZOFFSETFROM:+0200
TZOFFSETTO:+0100
TZNAME:CET
DTSTART:20251026T010000
END:STANDARD
END:VTIMEZONE
BEGIN:VEVENT
DTSTART;TZID=Europe/Stockholm:20240310T150000
DTEND;TZID=Europe/Stockholm:20240310T170000
DTSTAMP:20260423T031948
CREATED:20240210T193325Z
LAST-MODIFIED:20240210T193325Z
UID:7804-1710082800-1710090000@xn--jrnbos-buam.se
SUMMARY:Årsmöte i Järnboås Bygdegårdsförening
DESCRIPTION:Vi hälsar alla medlemmar välkomna till Järnboås Bygdegårdsförenings årsmöte på Finnsjöstrand. \nSöndagen den 10 mars 2024 kl 15.00. \nÅrsmötet behandlar de enligt stadgarna sedvanliga punkterna. \nFika serveras. Ingen föranmälan. \nVälkommen!\nHälsar Styrelsen
URL:https://xn--jrnbos-buam.se/event/arsmote-i-jarnboas-bygdegardsforening-3/
LOCATION:Finnsjöstrand
CATEGORIES:Årsmöte,Järnboås bygdegårdsförening
ATTACH;FMTTYPE=image/png:https://media.xn--jrnbos-buam.se/2024/02/Skarmavbild-2024-02-10-kl.-20.30.24.png
END:VEVENT
END:VCALENDAR