BEGIN:VCALENDAR
VERSION:2.0
PRODID:-//Järnboås - ECPv6.15.14//NONSGML v1.0//EN
CALSCALE:GREGORIAN
METHOD:PUBLISH
X-WR-CALNAME:Järnboås
X-ORIGINAL-URL:https://xn--jrnbos-buam.se
X-WR-CALDESC:Händelser för Järnboås
REFRESH-INTERVAL;VALUE=DURATION:PT1H
X-Robots-Tag:noindex
X-PUBLISHED-TTL:PT1H
BEGIN:VTIMEZONE
TZID:Europe/Stockholm
BEGIN:DAYLIGHT
TZOFFSETFROM:+0100
TZOFFSETTO:+0200
TZNAME:CEST
DTSTART:20220327T010000
END:DAYLIGHT
BEGIN:STANDARD
TZOFFSETFROM:+0200
TZOFFSETTO:+0100
TZNAME:CET
DTSTART:20221030T010000
END:STANDARD
BEGIN:DAYLIGHT
TZOFFSETFROM:+0100
TZOFFSETTO:+0200
TZNAME:CEST
DTSTART:20230326T010000
END:DAYLIGHT
BEGIN:STANDARD
TZOFFSETFROM:+0200
TZOFFSETTO:+0100
TZNAME:CET
DTSTART:20231029T010000
END:STANDARD
BEGIN:DAYLIGHT
TZOFFSETFROM:+0100
TZOFFSETTO:+0200
TZNAME:CEST
DTSTART:20240331T010000
END:DAYLIGHT
BEGIN:STANDARD
TZOFFSETFROM:+0200
TZOFFSETTO:+0100
TZNAME:CET
DTSTART:20241027T010000
END:STANDARD
END:VTIMEZONE
BEGIN:VEVENT
DTSTART;TZID=Europe/Stockholm:20230312T150000
DTEND;TZID=Europe/Stockholm:20230312T160000
DTSTAMP:20260423T225309
CREATED:20230220T170520Z
LAST-MODIFIED:20230220T170520Z
UID:6640-1678633200-1678636800@xn--jrnbos-buam.se
SUMMARY:Årsmöte i Järnboås Bygdegårdsförening
DESCRIPTION:Vi hälsar alla medlemmar välkomna till föreningens årsmöte på Finnsjöstrand \nSöndagen den 12 mars 2023\, kl 15.00. \nÅrsmötet behandlar de enligt stadgarna sedvanliga punkterna. Fika serveras. Ingen föranmälan. \nVälkommen! \nHälsar Styrelsen
URL:https://xn--jrnbos-buam.se/event/arsmote-i-jarnboas-bygdegardsforening-2/
CATEGORIES:Årsmöte,Järnboås bygdegårdsförening
ATTACH;FMTTYPE=image/png:https://media.xn--jrnbos-buam.se/2023/02/Skarmavbild-2023-02-20-kl.-18.02.22.png
END:VEVENT
END:VCALENDAR