BEGIN:VCALENDAR
VERSION:2.0
PRODID:-//Järnboås - ECPv6.15.14//NONSGML v1.0//EN
CALSCALE:GREGORIAN
METHOD:PUBLISH
X-ORIGINAL-URL:https://xn--jrnbos-buam.se
X-WR-CALDESC:Händelser för Järnboås
REFRESH-INTERVAL;VALUE=DURATION:PT1H
X-Robots-Tag:noindex
X-PUBLISHED-TTL:PT1H
BEGIN:VTIMEZONE
TZID:Europe/Stockholm
BEGIN:DAYLIGHT
TZOFFSETFROM:+0100
TZOFFSETTO:+0200
TZNAME:CEST
DTSTART:20240331T010000
END:DAYLIGHT
BEGIN:STANDARD
TZOFFSETFROM:+0200
TZOFFSETTO:+0100
TZNAME:CET
DTSTART:20241027T010000
END:STANDARD
BEGIN:DAYLIGHT
TZOFFSETFROM:+0100
TZOFFSETTO:+0200
TZNAME:CEST
DTSTART:20250330T010000
END:DAYLIGHT
BEGIN:STANDARD
TZOFFSETFROM:+0200
TZOFFSETTO:+0100
TZNAME:CET
DTSTART:20251026T010000
END:STANDARD
BEGIN:DAYLIGHT
TZOFFSETFROM:+0100
TZOFFSETTO:+0200
TZNAME:CEST
DTSTART:20260329T010000
END:DAYLIGHT
BEGIN:STANDARD
TZOFFSETFROM:+0200
TZOFFSETTO:+0100
TZNAME:CET
DTSTART:20261025T010000
END:STANDARD
END:VTIMEZONE
BEGIN:VEVENT
DTSTART;TZID=Europe/Stockholm:20250602T161500
DTEND;TZID=Europe/Stockholm:20250602T170000
DTSTAMP:20260421T151924
CREATED:20201228T192448Z
LAST-MODIFIED:20250604T181622Z
UID:9173-1748880900-1748883600@xn--jrnbos-buam.se
SUMMARY:Cantarellerna – Körsång för barn
DESCRIPTION:Barnkörerna – vårterminsstart på måndag 29/1 \nChorallerna 0-4 år ses måndagar kl 15.15 – 16.00 i ”Växthuset” en trappa ner. \nCantarellerna från 5 år och uppåt ses måndagar kl 16.15 – 17.00 i kyrksalen. \nAnmäl här: bilda.nu/cantarellerna. \n  \nVarmt välkomna till Nyhyttans församlings körverksamhet! \nMer info: www.nyhyttan.adventkyrka.se
URL:https://xn--jrnbos-buam.se/event/cantarellerna-korsang-for-barn/2025-06-02/
LOCATION:Nyhyttan
CATEGORIES:Barnkör
ATTACH;FMTTYPE=image/png:https://media.xn--jrnbos-buam.se/2020/12/25-vt-inbjudan-Cantareller.png
END:VEVENT
BEGIN:VEVENT
DTSTART;TZID=Europe/Stockholm:20250609T161500
DTEND;TZID=Europe/Stockholm:20250609T170000
DTSTAMP:20260421T151924
CREATED:20201228T192448Z
LAST-MODIFIED:20250604T181622Z
UID:9174-1749485700-1749488400@xn--jrnbos-buam.se
SUMMARY:Cantarellerna – Körsång för barn
DESCRIPTION:Barnkörerna – vårterminsstart på måndag 29/1 \nChorallerna 0-4 år ses måndagar kl 15.15 – 16.00 i ”Växthuset” en trappa ner. \nCantarellerna från 5 år och uppåt ses måndagar kl 16.15 – 17.00 i kyrksalen. \nAnmäl här: bilda.nu/cantarellerna. \n  \nVarmt välkomna till Nyhyttans församlings körverksamhet! \nMer info: www.nyhyttan.adventkyrka.se
URL:https://xn--jrnbos-buam.se/event/cantarellerna-korsang-for-barn/2025-06-09/
LOCATION:Nyhyttan
CATEGORIES:Barnkör
ATTACH;FMTTYPE=image/png:https://media.xn--jrnbos-buam.se/2020/12/25-vt-inbjudan-Cantareller.png
END:VEVENT
END:VCALENDAR