BEGIN:VCALENDAR
VERSION:2.0
PRODID:-//Järnboås - ECPv6.15.14//NONSGML v1.0//EN
CALSCALE:GREGORIAN
METHOD:PUBLISH
X-WR-CALNAME:Järnboås
X-ORIGINAL-URL:https://xn--jrnbos-buam.se
X-WR-CALDESC:Händelser för Järnboås
REFRESH-INTERVAL;VALUE=DURATION:PT1H
X-Robots-Tag:noindex
X-PUBLISHED-TTL:PT1H
BEGIN:VTIMEZONE
TZID:Europe/Stockholm
BEGIN:DAYLIGHT
TZOFFSETFROM:+0100
TZOFFSETTO:+0200
TZNAME:CEST
DTSTART:20240331T010000
END:DAYLIGHT
BEGIN:STANDARD
TZOFFSETFROM:+0200
TZOFFSETTO:+0100
TZNAME:CET
DTSTART:20241027T010000
END:STANDARD
BEGIN:DAYLIGHT
TZOFFSETFROM:+0100
TZOFFSETTO:+0200
TZNAME:CEST
DTSTART:20250330T010000
END:DAYLIGHT
BEGIN:STANDARD
TZOFFSETFROM:+0200
TZOFFSETTO:+0100
TZNAME:CET
DTSTART:20251026T010000
END:STANDARD
BEGIN:DAYLIGHT
TZOFFSETFROM:+0100
TZOFFSETTO:+0200
TZNAME:CEST
DTSTART:20260329T010000
END:DAYLIGHT
BEGIN:STANDARD
TZOFFSETFROM:+0200
TZOFFSETTO:+0100
TZNAME:CET
DTSTART:20261025T010000
END:STANDARD
END:VTIMEZONE
BEGIN:VEVENT
DTSTART;TZID=Europe/Stockholm:20250407T161500
DTEND;TZID=Europe/Stockholm:20250407T170000
DTSTAMP:20260421T183326
CREATED:20201228T192448Z
LAST-MODIFIED:20250604T181620Z
UID:9165-1744042500-1744045200@xn--jrnbos-buam.se
SUMMARY:Cantarellerna – Körsång för barn
DESCRIPTION:Barnkörerna – vårterminsstart på måndag 29/1 \nChorallerna 0-4 år ses måndagar kl 15.15 – 16.00 i ”Växthuset” en trappa ner. \nCantarellerna från 5 år och uppåt ses måndagar kl 16.15 – 17.00 i kyrksalen. \nAnmäl här: bilda.nu/cantarellerna. \n  \nVarmt välkomna till Nyhyttans församlings körverksamhet! \nMer info: www.nyhyttan.adventkyrka.se
URL:https://xn--jrnbos-buam.se/event/cantarellerna-korsang-for-barn/2025-04-07/
LOCATION:Nyhyttan
CATEGORIES:Barnkör
ATTACH;FMTTYPE=image/png:https://media.xn--jrnbos-buam.se/2020/12/25-vt-inbjudan-Cantareller.png
END:VEVENT
BEGIN:VEVENT
DTSTART;TZID=Europe/Stockholm:20250407T161500
DTEND;TZID=Europe/Stockholm:20250407T171500
DTSTAMP:20260421T183326
CREATED:20201228T192702Z
LAST-MODIFIED:20250210T161347Z
UID:9439-1744042500-1744046100@xn--jrnbos-buam.se
SUMMARY:Chorallerna – Barnkör 0-4 år
DESCRIPTION:Barnkörerna – vårterminsstart på måndag 29/1 \nChorallerna 0-4 år ses måndagar kl 16.15 – 17.00 i ”Växthuset” en trappa ner. \n  \nAnmälan: \nhttps://www.bilda.nu/arr/1252088/sjung-med-ditt-barn-i-chorallerna-575444 \n  \n  \nMer info: www.nyhyttan.adventkyrka.se
URL:https://xn--jrnbos-buam.se/event/chorallerna-barnkor/2025-04-07/
LOCATION:Nyhyttan
CATEGORIES:Barnkör,Körsång,Nyhyttans kyrka
ATTACH;FMTTYPE=image/jpeg:https://media.xn--jrnbos-buam.se/2020/12/chorallerna.jpg
END:VEVENT
BEGIN:VEVENT
DTSTART;TZID=Europe/Stockholm:20250414T161500
DTEND;TZID=Europe/Stockholm:20250414T170000
DTSTAMP:20260421T183326
CREATED:20201228T192448Z
LAST-MODIFIED:20250604T181620Z
UID:9166-1744647300-1744650000@xn--jrnbos-buam.se
SUMMARY:Cantarellerna – Körsång för barn
DESCRIPTION:Barnkörerna – vårterminsstart på måndag 29/1 \nChorallerna 0-4 år ses måndagar kl 15.15 – 16.00 i ”Växthuset” en trappa ner. \nCantarellerna från 5 år och uppåt ses måndagar kl 16.15 – 17.00 i kyrksalen. \nAnmäl här: bilda.nu/cantarellerna. \n  \nVarmt välkomna till Nyhyttans församlings körverksamhet! \nMer info: www.nyhyttan.adventkyrka.se
URL:https://xn--jrnbos-buam.se/event/cantarellerna-korsang-for-barn/2025-04-14/
LOCATION:Nyhyttan
CATEGORIES:Barnkör
ATTACH;FMTTYPE=image/png:https://media.xn--jrnbos-buam.se/2020/12/25-vt-inbjudan-Cantareller.png
END:VEVENT
BEGIN:VEVENT
DTSTART;TZID=Europe/Stockholm:20250414T161500
DTEND;TZID=Europe/Stockholm:20250414T171500
DTSTAMP:20260421T183326
CREATED:20201228T192702Z
LAST-MODIFIED:20250210T161347Z
UID:9440-1744647300-1744650900@xn--jrnbos-buam.se
SUMMARY:Chorallerna – Barnkör 0-4 år
DESCRIPTION:Barnkörerna – vårterminsstart på måndag 29/1 \nChorallerna 0-4 år ses måndagar kl 16.15 – 17.00 i ”Växthuset” en trappa ner. \n  \nAnmälan: \nhttps://www.bilda.nu/arr/1252088/sjung-med-ditt-barn-i-chorallerna-575444 \n  \n  \nMer info: www.nyhyttan.adventkyrka.se
URL:https://xn--jrnbos-buam.se/event/chorallerna-barnkor/2025-04-14/
LOCATION:Nyhyttan
CATEGORIES:Barnkör,Körsång,Nyhyttans kyrka
ATTACH;FMTTYPE=image/jpeg:https://media.xn--jrnbos-buam.se/2020/12/chorallerna.jpg
END:VEVENT
BEGIN:VEVENT
DTSTART;TZID=Europe/Stockholm:20250421T161500
DTEND;TZID=Europe/Stockholm:20250421T170000
DTSTAMP:20260421T183326
CREATED:20201228T192448Z
LAST-MODIFIED:20250604T181620Z
UID:9167-1745252100-1745254800@xn--jrnbos-buam.se
SUMMARY:Cantarellerna – Körsång för barn
DESCRIPTION:Barnkörerna – vårterminsstart på måndag 29/1 \nChorallerna 0-4 år ses måndagar kl 15.15 – 16.00 i ”Växthuset” en trappa ner. \nCantarellerna från 5 år och uppåt ses måndagar kl 16.15 – 17.00 i kyrksalen. \nAnmäl här: bilda.nu/cantarellerna. \n  \nVarmt välkomna till Nyhyttans församlings körverksamhet! \nMer info: www.nyhyttan.adventkyrka.se
URL:https://xn--jrnbos-buam.se/event/cantarellerna-korsang-for-barn/2025-04-21/
LOCATION:Nyhyttan
CATEGORIES:Barnkör
ATTACH;FMTTYPE=image/png:https://media.xn--jrnbos-buam.se/2020/12/25-vt-inbjudan-Cantareller.png
END:VEVENT
BEGIN:VEVENT
DTSTART;TZID=Europe/Stockholm:20250421T161500
DTEND;TZID=Europe/Stockholm:20250421T171500
DTSTAMP:20260421T183326
CREATED:20201228T192702Z
LAST-MODIFIED:20250210T161348Z
UID:9441-1745252100-1745255700@xn--jrnbos-buam.se
SUMMARY:Chorallerna – Barnkör 0-4 år
DESCRIPTION:Barnkörerna – vårterminsstart på måndag 29/1 \nChorallerna 0-4 år ses måndagar kl 16.15 – 17.00 i ”Växthuset” en trappa ner. \n  \nAnmälan: \nhttps://www.bilda.nu/arr/1252088/sjung-med-ditt-barn-i-chorallerna-575444 \n  \n  \nMer info: www.nyhyttan.adventkyrka.se
URL:https://xn--jrnbos-buam.se/event/chorallerna-barnkor/2025-04-21/
LOCATION:Nyhyttan
CATEGORIES:Barnkör,Körsång,Nyhyttans kyrka
ATTACH;FMTTYPE=image/jpeg:https://media.xn--jrnbos-buam.se/2020/12/chorallerna.jpg
END:VEVENT
BEGIN:VEVENT
DTSTART;TZID=Europe/Stockholm:20250428T161500
DTEND;TZID=Europe/Stockholm:20250428T170000
DTSTAMP:20260421T183326
CREATED:20201228T192448Z
LAST-MODIFIED:20250604T181620Z
UID:9168-1745856900-1745859600@xn--jrnbos-buam.se
SUMMARY:Cantarellerna – Körsång för barn
DESCRIPTION:Barnkörerna – vårterminsstart på måndag 29/1 \nChorallerna 0-4 år ses måndagar kl 15.15 – 16.00 i ”Växthuset” en trappa ner. \nCantarellerna från 5 år och uppåt ses måndagar kl 16.15 – 17.00 i kyrksalen. \nAnmäl här: bilda.nu/cantarellerna. \n  \nVarmt välkomna till Nyhyttans församlings körverksamhet! \nMer info: www.nyhyttan.adventkyrka.se
URL:https://xn--jrnbos-buam.se/event/cantarellerna-korsang-for-barn/2025-04-28/
LOCATION:Nyhyttan
CATEGORIES:Barnkör
ATTACH;FMTTYPE=image/png:https://media.xn--jrnbos-buam.se/2020/12/25-vt-inbjudan-Cantareller.png
END:VEVENT
BEGIN:VEVENT
DTSTART;TZID=Europe/Stockholm:20250428T161500
DTEND;TZID=Europe/Stockholm:20250428T171500
DTSTAMP:20260421T183326
CREATED:20201228T192702Z
LAST-MODIFIED:20250210T161352Z
UID:9442-1745856900-1745860500@xn--jrnbos-buam.se
SUMMARY:Chorallerna – Barnkör 0-4 år
DESCRIPTION:Barnkörerna – vårterminsstart på måndag 29/1 \nChorallerna 0-4 år ses måndagar kl 16.15 – 17.00 i ”Växthuset” en trappa ner. \n  \nAnmälan: \nhttps://www.bilda.nu/arr/1252088/sjung-med-ditt-barn-i-chorallerna-575444 \n  \n  \nMer info: www.nyhyttan.adventkyrka.se
URL:https://xn--jrnbos-buam.se/event/chorallerna-barnkor/2025-04-28/
LOCATION:Nyhyttan
CATEGORIES:Barnkör,Körsång,Nyhyttans kyrka
ATTACH;FMTTYPE=image/jpeg:https://media.xn--jrnbos-buam.se/2020/12/chorallerna.jpg
END:VEVENT
END:VCALENDAR