BEGIN:VCALENDAR
VERSION:2.0
PRODID:-//Järnboås - ECPv6.15.14//NONSGML v1.0//EN
CALSCALE:GREGORIAN
METHOD:PUBLISH
X-WR-CALNAME:Järnboås
X-ORIGINAL-URL:https://xn--jrnbos-buam.se
X-WR-CALDESC:Händelser för Järnboås
REFRESH-INTERVAL;VALUE=DURATION:PT1H
X-Robots-Tag:noindex
X-PUBLISHED-TTL:PT1H
BEGIN:VTIMEZONE
TZID:Europe/Stockholm
BEGIN:DAYLIGHT
TZOFFSETFROM:+0100
TZOFFSETTO:+0200
TZNAME:CEST
DTSTART:20250330T010000
END:DAYLIGHT
BEGIN:STANDARD
TZOFFSETFROM:+0200
TZOFFSETTO:+0100
TZNAME:CET
DTSTART:20251026T010000
END:STANDARD
BEGIN:DAYLIGHT
TZOFFSETFROM:+0100
TZOFFSETTO:+0200
TZNAME:CEST
DTSTART:20260329T010000
END:DAYLIGHT
BEGIN:STANDARD
TZOFFSETFROM:+0200
TZOFFSETTO:+0100
TZNAME:CET
DTSTART:20261025T010000
END:STANDARD
BEGIN:DAYLIGHT
TZOFFSETFROM:+0100
TZOFFSETTO:+0200
TZNAME:CEST
DTSTART:20270328T010000
END:DAYLIGHT
BEGIN:STANDARD
TZOFFSETFROM:+0200
TZOFFSETTO:+0100
TZNAME:CET
DTSTART:20271031T010000
END:STANDARD
END:VTIMEZONE
BEGIN:VEVENT
DTSTART;TZID=Europe/Stockholm:20260315T093000
DTEND;TZID=Europe/Stockholm:20260315T103000
DTSTAMP:20260420T110634
CREATED:20260107T121051Z
LAST-MODIFIED:20260319T095016Z
UID:10585-1773567000-1773570600@xn--jrnbos-buam.se
SUMMARY:Barngympa 0-3 år
DESCRIPTION:Barngympan är igång!\n\n\nVarmt välkomna och delta i rörelseglädje tillsammans med Järnboås IF.\n\n\nSöndagar i Järnboås gympasal\nÅlder: 0-3 år (ca)\nKl 09.30-10.30\n\n\nÅlder: 4-8 år (ca)\nKl 10.30-11.30\n\n\nTillfällen:\n25 jan\n1 feb\n8 feb\n15 feb\n(22 feb sportlov\, ingen gympa)\n1 mars\n8 mars\n15 mars\n22 mars Avslutning barngympan\n\n\nYngre gruppen börjar med lite sång\, uppvärmning\, någon lek och så brukar vi ställa upp en hinderbana och annat kul.\n\n\nÄldre gruppen kommer vid många tillfällen ha ”tema-gympa”. Det innebär att vi kör ett tema per tillfälle. Det kan vara innebandy\, dans\, fotboll\, boxning och liknande. Om du som förälder har kunnande i någon idrott så hör gärna av dig för att hjälpa till!\n\n\nIngen anmälan krävs – det är bara att dyka upp! Medlemsskap tecknas i Järnboås IF efter ni testat en-två gånger  400kr/familj och år.\n\n\nVi ses i gympasalen!\nJärnboås IF\nSolweig och Evylyn\n\n\nVarmt välkomna!
URL:https://xn--jrnbos-buam.se/event/barngympa-0-3-ar-2026-02-08/2026-03-15/
LOCATION:Järnboås gympasal
ORGANIZER;CN="J%C3%A4rnbo%C3%A5s IF":MAILTO:jarnboasif@gmail.com
END:VEVENT
BEGIN:VEVENT
DTSTART;TZID=Europe/Stockholm:20260315T100000
DTEND;TZID=Europe/Stockholm:20260315T160000
DTSTAMP:20260420T110634
CREATED:20260126T183807Z
LAST-MODIFIED:20260126T183807Z
UID:10599-1773568800-1773590400@xn--jrnbos-buam.se
SUMMARY:Stick-kurs på Nyhyttans kurort
DESCRIPTION:Kurs i stickning för nybörjare\, lärarledd\, på Nyhyttans kurort. \nMer info och anmälan: info@nyhyttanskurort.se
URL:https://xn--jrnbos-buam.se/event/stick-kurs-pa-nyhyttans-kurort/2026-03-15/
LOCATION:Nyhyttan
CATEGORIES:Företag bygden,Nyhyttans kurort,Utbildning
ATTACH;FMTTYPE=image/jpeg:https://media.xn--jrnbos-buam.se/2026/01/stick-kurs-vt26.jpg
END:VEVENT
BEGIN:VEVENT
DTSTART;TZID=Europe/Stockholm:20260315T103000
DTEND;TZID=Europe/Stockholm:20260315T113000
DTSTAMP:20260420T110634
CREATED:20251015T092318Z
LAST-MODIFIED:20260319T095122Z
UID:10421-1773570600-1773574200@xn--jrnbos-buam.se
SUMMARY:Barngympa 4-8 år
DESCRIPTION:Barngympan är igång!\n\n\nVarmt välkomna och delta i rörelseglädje tillsammans med Järnboås IF.\n\n\nSöndagar i Järnboås gympasal\nÅlder: 0-3 år (ca)\nKl 09.30-10.30\n\n\nÅlder: 4-8 år (ca)\nKl 10.30-11.30\n\n\nTillfällen:\n25 jan\n1 feb\n8 feb\n15 feb\n(22 feb sportlov\, ingen gympa)\n1 mars\n8 mars\n15 mars\n22 mars Avslutning barngympan\n\n\n\nYngre gruppen börjar med lite sång\, uppvärmning\, någon lek och så brukar vi ställa upp en hinderbana och annat kul.\n\n\nÄldre gruppen kommer vid många tillfällen ha ”tema-gympa”. Det innebär att vi kör ett tema per tillfälle. Det kan vara innebandy\, dans\, fotboll\, boxning och liknande. Om du som förälder har kunnande i någon idrott så hör gärna av dig för att hjälpa till!\n\n\n\nIngen anmälan krävs – det är bara att dyka upp! Medlemsskap tecknas i Järnboås IF efter ni testat en-två gånger  400kr/familj och år.\n\n\n\nVi ses i gympasalen!\nJärnboås IF\nSolweig och Evylyn\n\n\nVarmt välkomna!
URL:https://xn--jrnbos-buam.se/event/barngympa/2026-03-15/
LOCATION:Järnboås gympasal
CATEGORIES:Barnaktiviteter,Barngympa,Järnboås IF
ORGANIZER;CN="J%C3%A4rnbo%C3%A5s IF":MAILTO:jarnboasif@gmail.com
END:VEVENT
BEGIN:VEVENT
DTSTART;TZID=Europe/Stockholm:20260315T173000
DTEND;TZID=Europe/Stockholm:20260315T183000
DTSTAMP:20260420T110634
CREATED:20250912T111840Z
LAST-MODIFIED:20260412T082403Z
UID:10387-1773595800-1773599400@xn--jrnbos-buam.se
SUMMARY:Solweigs söndagsgympa
DESCRIPTION:Gymnastik och rörelse för vuxna i Järnboås gympasal. \nLedare: Solweig Björåsen \nVarmt välkomma alla medlemmar i Järnboås idrottsförening
URL:https://xn--jrnbos-buam.se/event/solweigs-sondagsgympa-2/2026-03-15/
LOCATION:Järnboås gympasal
ORGANIZER;CN="J%C3%A4rnbo%C3%A5s IF":MAILTO:jarnboasif@gmail.com
END:VEVENT
END:VCALENDAR