BEGIN:VCALENDAR
VERSION:2.0
PRODID:-//Järnboås - ECPv6.15.14//NONSGML v1.0//EN
CALSCALE:GREGORIAN
METHOD:PUBLISH
X-ORIGINAL-URL:https://xn--jrnbos-buam.se
X-WR-CALDESC:Händelser för Järnboås
REFRESH-INTERVAL;VALUE=DURATION:PT1H
X-Robots-Tag:noindex
X-PUBLISHED-TTL:PT1H
BEGIN:VTIMEZONE
TZID:Europe/Stockholm
BEGIN:DAYLIGHT
TZOFFSETFROM:+0100
TZOFFSETTO:+0200
TZNAME:CEST
DTSTART:20240331T010000
END:DAYLIGHT
BEGIN:STANDARD
TZOFFSETFROM:+0200
TZOFFSETTO:+0100
TZNAME:CET
DTSTART:20241027T010000
END:STANDARD
BEGIN:DAYLIGHT
TZOFFSETFROM:+0100
TZOFFSETTO:+0200
TZNAME:CEST
DTSTART:20250330T010000
END:DAYLIGHT
BEGIN:STANDARD
TZOFFSETFROM:+0200
TZOFFSETTO:+0100
TZNAME:CET
DTSTART:20251026T010000
END:STANDARD
BEGIN:DAYLIGHT
TZOFFSETFROM:+0100
TZOFFSETTO:+0200
TZNAME:CEST
DTSTART:20260329T010000
END:DAYLIGHT
BEGIN:STANDARD
TZOFFSETFROM:+0200
TZOFFSETTO:+0100
TZNAME:CET
DTSTART:20261025T010000
END:STANDARD
END:VTIMEZONE
BEGIN:VEVENT
DTSTART;TZID=Europe/Stockholm:20250612T180000
DTEND;TZID=Europe/Stockholm:20250612T190000
DTSTAMP:20260420T190729
CREATED:20250502T090238Z
LAST-MODIFIED:20250522T115453Z
UID:9718-1749751200-1749754800@xn--jrnbos-buam.se
SUMMARY:Fotbollskul
DESCRIPTION:Nu drar Järnboås IF äntligen igång fotbollskul igen för barn födda 2018-19. \nVi tränar på Järnboås fotbollsplan på torsdagar kl.18-19 med start torsdagen den 8 maj. Därefter kör vi 15e maj\, 22a maj\, 5 juni och 12 juni. \nSedan har vi sommaruppehåll och fortsätter torsdagen den 14 augusti\, följt av 21 augusti\, 28 augusti\, 4 september och 11 september. \nLedare: Jimmy Eriksson Fagrell (tel:0702720789) och Solweig Björåsen. \n  \n \nMedtag egen vattenflaska\, bollar finnspå plats. \nVid frågor kontakta Jimmy.\ntel:0702720789 eller mail jimmy.fagrell07@gmail.com \nVarmt välkomna! Jimmy och Solweig
URL:https://xn--jrnbos-buam.se/event/fotbollskul-2/2025-06-12/
LOCATION:Fotbollsplan
ORGANIZER;CN="J%C3%A4rnbo%C3%A5s IF":MAILTO:jarnboasif@gmail.com
END:VEVENT
BEGIN:VEVENT
DTSTART;TZID=Europe/Stockholm:20250605T180000
DTEND;TZID=Europe/Stockholm:20250605T190000
DTSTAMP:20260420T190729
CREATED:20250502T090238Z
LAST-MODIFIED:20250522T115453Z
UID:9717-1749146400-1749150000@xn--jrnbos-buam.se
SUMMARY:Fotbollskul
DESCRIPTION:Nu drar Järnboås IF äntligen igång fotbollskul igen för barn födda 2018-19. \nVi tränar på Järnboås fotbollsplan på torsdagar kl.18-19 med start torsdagen den 8 maj. Därefter kör vi 15e maj\, 22a maj\, 5 juni och 12 juni. \nSedan har vi sommaruppehåll och fortsätter torsdagen den 14 augusti\, följt av 21 augusti\, 28 augusti\, 4 september och 11 september. \nLedare: Jimmy Eriksson Fagrell (tel:0702720789) och Solweig Björåsen. \n  \n \nMedtag egen vattenflaska\, bollar finnspå plats. \nVid frågor kontakta Jimmy.\ntel:0702720789 eller mail jimmy.fagrell07@gmail.com \nVarmt välkomna! Jimmy och Solweig
URL:https://xn--jrnbos-buam.se/event/fotbollskul-2/2025-06-05/
LOCATION:Fotbollsplan
ORGANIZER;CN="J%C3%A4rnbo%C3%A5s IF":MAILTO:jarnboasif@gmail.com
END:VEVENT
BEGIN:VEVENT
DTSTART;TZID=Europe/Stockholm:20250515T180000
DTEND;TZID=Europe/Stockholm:20250515T190000
DTSTAMP:20260420T190729
CREATED:20250502T090238Z
LAST-MODIFIED:20250522T115453Z
UID:9715-1747332000-1747335600@xn--jrnbos-buam.se
SUMMARY:Fotbollskul
DESCRIPTION:Nu drar Järnboås IF äntligen igång fotbollskul igen för barn födda 2018-19. \nVi tränar på Järnboås fotbollsplan på torsdagar kl.18-19 med start torsdagen den 8 maj. Därefter kör vi 15e maj\, 22a maj\, 5 juni och 12 juni. \nSedan har vi sommaruppehåll och fortsätter torsdagen den 14 augusti\, följt av 21 augusti\, 28 augusti\, 4 september och 11 september. \nLedare: Jimmy Eriksson Fagrell (tel:0702720789) och Solweig Björåsen. \n  \n \nMedtag egen vattenflaska\, bollar finnspå plats. \nVid frågor kontakta Jimmy.\ntel:0702720789 eller mail jimmy.fagrell07@gmail.com \nVarmt välkomna! Jimmy och Solweig
URL:https://xn--jrnbos-buam.se/event/fotbollskul-2/2025-05-15/
LOCATION:Fotbollsplan
ORGANIZER;CN="J%C3%A4rnbo%C3%A5s IF":MAILTO:jarnboasif@gmail.com
END:VEVENT
BEGIN:VEVENT
DTSTART;TZID=Europe/Stockholm:20250508T180000
DTEND;TZID=Europe/Stockholm:20250508T190000
DTSTAMP:20260420T190729
CREATED:20250502T090238Z
LAST-MODIFIED:20250522T115453Z
UID:9714-1746727200-1746730800@xn--jrnbos-buam.se
SUMMARY:Fotbollskul
DESCRIPTION:Nu drar Järnboås IF äntligen igång fotbollskul igen för barn födda 2018-19. \nVi tränar på Järnboås fotbollsplan på torsdagar kl.18-19 med start torsdagen den 8 maj. Därefter kör vi 15e maj\, 22a maj\, 5 juni och 12 juni. \nSedan har vi sommaruppehåll och fortsätter torsdagen den 14 augusti\, följt av 21 augusti\, 28 augusti\, 4 september och 11 september. \nLedare: Jimmy Eriksson Fagrell (tel:0702720789) och Solweig Björåsen. \n  \n \nMedtag egen vattenflaska\, bollar finnspå plats. \nVid frågor kontakta Jimmy.\ntel:0702720789 eller mail jimmy.fagrell07@gmail.com \nVarmt välkomna! Jimmy och Solweig
URL:https://xn--jrnbos-buam.se/event/fotbollskul-2/2025-05-08/
LOCATION:Fotbollsplan
ORGANIZER;CN="J%C3%A4rnbo%C3%A5s IF":MAILTO:jarnboasif@gmail.com
END:VEVENT
END:VCALENDAR