BEGIN:VCALENDAR
VERSION:2.0
PRODID:-//Järnboås - ECPv6.15.14//NONSGML v1.0//EN
CALSCALE:GREGORIAN
METHOD:PUBLISH
X-ORIGINAL-URL:https://xn--jrnbos-buam.se
X-WR-CALDESC:Händelser för Järnboås
REFRESH-INTERVAL;VALUE=DURATION:PT1H
X-Robots-Tag:noindex
X-PUBLISHED-TTL:PT1H
BEGIN:VTIMEZONE
TZID:Europe/Stockholm
BEGIN:DAYLIGHT
TZOFFSETFROM:+0100
TZOFFSETTO:+0200
TZNAME:CEST
DTSTART:20220327T010000
END:DAYLIGHT
BEGIN:STANDARD
TZOFFSETFROM:+0200
TZOFFSETTO:+0100
TZNAME:CET
DTSTART:20221030T010000
END:STANDARD
BEGIN:DAYLIGHT
TZOFFSETFROM:+0100
TZOFFSETTO:+0200
TZNAME:CEST
DTSTART:20230326T010000
END:DAYLIGHT
BEGIN:STANDARD
TZOFFSETFROM:+0200
TZOFFSETTO:+0100
TZNAME:CET
DTSTART:20231029T010000
END:STANDARD
BEGIN:DAYLIGHT
TZOFFSETFROM:+0100
TZOFFSETTO:+0200
TZNAME:CEST
DTSTART:20240331T010000
END:DAYLIGHT
BEGIN:STANDARD
TZOFFSETFROM:+0200
TZOFFSETTO:+0100
TZNAME:CET
DTSTART:20241027T010000
END:STANDARD
END:VTIMEZONE
BEGIN:VEVENT
DTSTART;TZID=Europe/Stockholm:20230510T190000
DTEND;TZID=Europe/Stockholm:20230510T200000
DTSTAMP:20260421T104115
CREATED:20230503T184744Z
LAST-MODIFIED:20230503T185758Z
UID:6876-1683745200-1683748800@xn--jrnbos-buam.se
SUMMARY:Fotboll – Järnboås IF hemmamatch
DESCRIPTION:I år är Järnboås IF uppflyttade till division 6. \nSpelschema: \nVarmt välkomna att se fotboll i Järnboås\, eller möt upp laget på någon av bortamatcherna!
URL:https://xn--jrnbos-buam.se/event/fotboll-jarnboas-if-hemmamatch-10-5/2023-05-10/
LOCATION:Fotbollsplan
CATEGORIES:Järnboås IF,Sport
ATTACH;FMTTYPE=image/png:https://media.xn--jrnbos-buam.se/2023/05/image001.png
ORGANIZER;CN="J%C3%A4rnbo%C3%A5s IF":MAILTO:jarnboasif@gmail.com
END:VEVENT
END:VCALENDAR