BEGIN:VCALENDAR
VERSION:2.0
PRODID:-//Järnboås - ECPv6.15.14//NONSGML v1.0//EN
CALSCALE:GREGORIAN
METHOD:PUBLISH
X-WR-CALNAME:Järnboås
X-ORIGINAL-URL:https://xn--jrnbos-buam.se
X-WR-CALDESC:Händelser för Järnboås
REFRESH-INTERVAL;VALUE=DURATION:PT1H
X-Robots-Tag:noindex
X-PUBLISHED-TTL:PT1H
BEGIN:VTIMEZONE
TZID:Europe/Stockholm
BEGIN:DAYLIGHT
TZOFFSETFROM:+0100
TZOFFSETTO:+0200
TZNAME:CEST
DTSTART:20240331T010000
END:DAYLIGHT
BEGIN:STANDARD
TZOFFSETFROM:+0200
TZOFFSETTO:+0100
TZNAME:CET
DTSTART:20241027T010000
END:STANDARD
BEGIN:DAYLIGHT
TZOFFSETFROM:+0100
TZOFFSETTO:+0200
TZNAME:CEST
DTSTART:20250330T010000
END:DAYLIGHT
BEGIN:STANDARD
TZOFFSETFROM:+0200
TZOFFSETTO:+0100
TZNAME:CET
DTSTART:20251026T010000
END:STANDARD
BEGIN:DAYLIGHT
TZOFFSETFROM:+0100
TZOFFSETTO:+0200
TZNAME:CEST
DTSTART:20260329T010000
END:DAYLIGHT
BEGIN:STANDARD
TZOFFSETFROM:+0200
TZOFFSETTO:+0100
TZNAME:CET
DTSTART:20261025T010000
END:STANDARD
END:VTIMEZONE
BEGIN:VEVENT
DTSTART;TZID=Europe/Stockholm:20251123T093000
DTEND;TZID=Europe/Stockholm:20251123T103000
DTSTAMP:20260421T120207
CREATED:20251015T092134Z
LAST-MODIFIED:20251015T092134Z
UID:10253-1763890200-1763893800@xn--jrnbos-buam.se
SUMMARY:Babygympa
DESCRIPTION:Barn och babygympa i Järnboås gympasal \nÅlder: 0-3 år \nSöndagar kl 09.30-10.30 \nPågår under oktober och november. Sista dag är 23 november. \nVi behöver ha hjälp av föräldrar på barngympan för att det ska fungera. \nArrangör: Järnboås IF \nUppstartsledare: Solweig Björåsen och Evylyn Pettersson Björåsen \n \nVarmt välkomna\, vi ses!
URL:https://xn--jrnbos-buam.se/event/babygympa-3/2025-11-23/
LOCATION:Järnboås gympasal
ORGANIZER;CN="J%C3%A4rnbo%C3%A5s IF":MAILTO:jarnboasif@gmail.com
END:VEVENT
BEGIN:VEVENT
DTSTART;TZID=Europe/Stockholm:20251116T093000
DTEND;TZID=Europe/Stockholm:20251116T103000
DTSTAMP:20260421T120207
CREATED:20251015T092134Z
LAST-MODIFIED:20251015T092134Z
UID:10252-1763285400-1763289000@xn--jrnbos-buam.se
SUMMARY:Babygympa
DESCRIPTION:Barn och babygympa i Järnboås gympasal \nÅlder: 0-3 år \nSöndagar kl 09.30-10.30 \nPågår under oktober och november. Sista dag är 23 november. \nVi behöver ha hjälp av föräldrar på barngympan för att det ska fungera. \nArrangör: Järnboås IF \nUppstartsledare: Solweig Björåsen och Evylyn Pettersson Björåsen \n \nVarmt välkomna\, vi ses!
URL:https://xn--jrnbos-buam.se/event/babygympa-3/2025-11-16/
LOCATION:Järnboås gympasal
ORGANIZER;CN="J%C3%A4rnbo%C3%A5s IF":MAILTO:jarnboasif@gmail.com
END:VEVENT
BEGIN:VEVENT
DTSTART;TZID=Europe/Stockholm:20251109T093000
DTEND;TZID=Europe/Stockholm:20251109T103000
DTSTAMP:20260421T120207
CREATED:20251015T092134Z
LAST-MODIFIED:20251015T092134Z
UID:10251-1762680600-1762684200@xn--jrnbos-buam.se
SUMMARY:Babygympa
DESCRIPTION:Barn och babygympa i Järnboås gympasal \nÅlder: 0-3 år \nSöndagar kl 09.30-10.30 \nPågår under oktober och november. Sista dag är 23 november. \nVi behöver ha hjälp av föräldrar på barngympan för att det ska fungera. \nArrangör: Järnboås IF \nUppstartsledare: Solweig Björåsen och Evylyn Pettersson Björåsen \n \nVarmt välkomna\, vi ses!
URL:https://xn--jrnbos-buam.se/event/babygympa-3/2025-11-09/
LOCATION:Järnboås gympasal
ORGANIZER;CN="J%C3%A4rnbo%C3%A5s IF":MAILTO:jarnboasif@gmail.com
END:VEVENT
BEGIN:VEVENT
DTSTART;TZID=Europe/Stockholm:20251102T093000
DTEND;TZID=Europe/Stockholm:20251102T103000
DTSTAMP:20260421T120207
CREATED:20251015T092134Z
LAST-MODIFIED:20251015T092134Z
UID:10250-1762075800-1762079400@xn--jrnbos-buam.se
SUMMARY:Babygympa
DESCRIPTION:Barn och babygympa i Järnboås gympasal \nÅlder: 0-3 år \nSöndagar kl 09.30-10.30 \nPågår under oktober och november. Sista dag är 23 november. \nVi behöver ha hjälp av föräldrar på barngympan för att det ska fungera. \nArrangör: Järnboås IF \nUppstartsledare: Solweig Björåsen och Evylyn Pettersson Björåsen \n \nVarmt välkomna\, vi ses!
URL:https://xn--jrnbos-buam.se/event/babygympa-3/2025-11-02/
LOCATION:Järnboås gympasal
ORGANIZER;CN="J%C3%A4rnbo%C3%A5s IF":MAILTO:jarnboasif@gmail.com
END:VEVENT
BEGIN:VEVENT
DTSTART;TZID=Europe/Stockholm:20251026T093000
DTEND;TZID=Europe/Stockholm:20251026T103000
DTSTAMP:20260421T120207
CREATED:20251015T092134Z
LAST-MODIFIED:20251015T092134Z
UID:10249-1761471000-1761474600@xn--jrnbos-buam.se
SUMMARY:Babygympa
DESCRIPTION:Barn och babygympa i Järnboås gympasal \nÅlder: 0-3 år \nSöndagar kl 09.30-10.30 \nPågår under oktober och november. Sista dag är 23 november. \nVi behöver ha hjälp av föräldrar på barngympan för att det ska fungera. \nArrangör: Järnboås IF \nUppstartsledare: Solweig Björåsen och Evylyn Pettersson Björåsen \n \nVarmt välkomna\, vi ses!
URL:https://xn--jrnbos-buam.se/event/babygympa-3/2025-10-26/
LOCATION:Järnboås gympasal
ORGANIZER;CN="J%C3%A4rnbo%C3%A5s IF":MAILTO:jarnboasif@gmail.com
END:VEVENT
BEGIN:VEVENT
DTSTART;TZID=Europe/Stockholm:20251019T093000
DTEND;TZID=Europe/Stockholm:20251019T103000
DTSTAMP:20260421T120207
CREATED:20251015T092134Z
LAST-MODIFIED:20251015T092134Z
UID:10248-1760866200-1760869800@xn--jrnbos-buam.se
SUMMARY:Babygympa
DESCRIPTION:Barn och babygympa i Järnboås gympasal \nÅlder: 0-3 år \nSöndagar kl 09.30-10.30 \nPågår under oktober och november. Sista dag är 23 november. \nVi behöver ha hjälp av föräldrar på barngympan för att det ska fungera. \nArrangör: Järnboås IF \nUppstartsledare: Solweig Björåsen och Evylyn Pettersson Björåsen \n \nVarmt välkomna\, vi ses!
URL:https://xn--jrnbos-buam.se/event/babygympa-3/2025-10-19/
LOCATION:Järnboås gympasal
ORGANIZER;CN="J%C3%A4rnbo%C3%A5s IF":MAILTO:jarnboasif@gmail.com
END:VEVENT
END:VCALENDAR