BEGIN:VCALENDAR
VERSION:2.0
PRODID:-//Järnboås - ECPv6.15.14//NONSGML v1.0//EN
CALSCALE:GREGORIAN
METHOD:PUBLISH
X-ORIGINAL-URL:https://xn--jrnbos-buam.se
X-WR-CALDESC:Händelser för Järnboås
REFRESH-INTERVAL;VALUE=DURATION:PT1H
X-Robots-Tag:noindex
X-PUBLISHED-TTL:PT1H
BEGIN:VTIMEZONE
TZID:Europe/Stockholm
BEGIN:DAYLIGHT
TZOFFSETFROM:+0100
TZOFFSETTO:+0200
TZNAME:CEST
DTSTART:20200329T010000
END:DAYLIGHT
BEGIN:STANDARD
TZOFFSETFROM:+0200
TZOFFSETTO:+0100
TZNAME:CET
DTSTART:20201025T010000
END:STANDARD
BEGIN:DAYLIGHT
TZOFFSETFROM:+0100
TZOFFSETTO:+0200
TZNAME:CEST
DTSTART:20210328T010000
END:DAYLIGHT
BEGIN:STANDARD
TZOFFSETFROM:+0200
TZOFFSETTO:+0100
TZNAME:CET
DTSTART:20211031T010000
END:STANDARD
BEGIN:DAYLIGHT
TZOFFSETFROM:+0100
TZOFFSETTO:+0200
TZNAME:CEST
DTSTART:20220327T010000
END:DAYLIGHT
BEGIN:STANDARD
TZOFFSETFROM:+0200
TZOFFSETTO:+0100
TZNAME:CET
DTSTART:20221030T010000
END:STANDARD
END:VTIMEZONE
BEGIN:VEVENT
DTSTART;TZID=Europe/Stockholm:20211219T110000
DTEND;TZID=Europe/Stockholm:20211219T160000
DTSTAMP:20260421T173825
CREATED:20211217T174510Z
LAST-MODIFIED:20211217T174510Z
UID:4718-1639911600-1639929600@xn--jrnbos-buam.se
SUMMARY:JULMARKNAD PÅ NYHYTTANS KURORT
DESCRIPTION:NÄR: 19 december 2021 / 11.00 – 16.00\n\n\n\nVi anordnar en liten julmarknad den 19 december\, med hantverk\, konst\, stickat\, delikatesser och mycket mer.\n\n\n\nKnivslipning! Ta med dig dina slöa knivar och få dem slipade till jul.\n\n\n\nPysselhörna för barnen & Go fika hela dagen.\n\n\n\nVarmt välkomna!
URL:https://xn--jrnbos-buam.se/event/julmarknad-pa-nyhyttans-kurort/
LOCATION:Nyhyttan
CATEGORIES:Jul,Kultur,Mat och äta,Naturupplevelse
ATTACH;FMTTYPE=image/jpeg:https://media.xn--jrnbos-buam.se/2021/12/julmarknasNyhyttansKurort.jpg
END:VEVENT
END:VCALENDAR